From mboxrd@z Thu Jan 1 00:00:00 1970 Return-Path: Received: from mails.dpdk.org (mails.dpdk.org [217.70.189.124]) by inbox.dpdk.org (Postfix) with ESMTP id D14DD46755 for ; Thu, 15 May 2025 16:41:24 +0200 (CEST) Received: from mails.dpdk.org (localhost [127.0.0.1]) by mails.dpdk.org (Postfix) with ESMTP id CC81B40E3E; Thu, 15 May 2025 16:41:24 +0200 (CEST) Received: from mail-vk1-f228.google.com (mail-vk1-f228.google.com [209.85.221.228]) by mails.dpdk.org (Postfix) with ESMTP id F2930402DC for ; Thu, 15 May 2025 16:41:23 +0200 (CEST) Received: by mail-vk1-f228.google.com with SMTP id 71dfb90a1353d-52410fb2afeso621121e0c.3 for ; Thu, 15 May 2025 07:41:23 -0700 (PDT) DKIM-Signature: v=1; a=rsa-sha256; c=relaxed/relaxed; d=iol.unh.edu; s=unh-iol; t=1747320083; x=1747924883; darn=dpdk.org; h=references:in-reply-to:cc:to:from:subject:message-id:date:from:to :cc:subject:date:message-id:reply-to; bh=UsQ+nK4KFlSlcv/GjLzq21pizVnfBOsDtGwMJ8B9dlw=; b=QqG4Ziv9w4fQYTtEEVU1XS2588NbKE+BqM5tdfDKHXXsRPSuuUamU77E+MdFQmcjpZ vt+oMbgA7I2XeBH2v5Og8nEDBoMxkPTJc5u65ZP7tXKX4k10n3AtjIzdPAr9kyBM/8yi AUTXXVEs6ZHxsXc+lAE7PKMMsLfy7EBbQkaAk= X-Google-DKIM-Signature: v=1; a=rsa-sha256; c=relaxed/relaxed; d=1e100.net; s=20230601; t=1747320083; x=1747924883; h=references:in-reply-to:cc:to:from:subject:message-id:date :x-gm-message-state:from:to:cc:subject:date:message-id:reply-to; bh=UsQ+nK4KFlSlcv/GjLzq21pizVnfBOsDtGwMJ8B9dlw=; b=AUu/4BoUO6LlB/YvNfknISpsqmitZqAJjxBZfzCU1XSUGp7i/YS75rMMAEwlCM4/lE 21ZFxEiDU7gEzWmaoMhdWlEu14n9RqNEnvrYVWyyZzPPRq+MSqQJ+B3J7qmNVcBhGKIV CcvvpJrZs0D05iwvzHk2/3mRq7ldbtcppyBhX/pIJ/fbEokzAaAp3LySWLsyhD9k196N q80jZyNpKRiz/Z4BPfTU2iMnUlSeYz4gnh/z8kHOGlAYeUOxNbchxUCqIJSteQExE6Mi 586/I59T9nzqzRWCNhbJs1jbfz0bavgu2rqLhIwigipWM+xbjdLH+GkXDpDrJI9O+5N/ 3v5g== X-Gm-Message-State: AOJu0YwK3s6m+RoTIX8qZhCNzyS/40oumAjqL+2rVtcf5age+OxpKkmp PvHAEvy9XWvhMsx6PZxbCJUk+C9Gj/nQhKcJgJevph8wR9IxUcxK8xZCtI6qoj6aVQ+L3THii3+ B4hac6rmGe+AwQtOYj5cfWKm3evrXP2TbX6BWnhPR X-Gm-Gg: ASbGncvi6eP74nEvTPml0E3m0KQdkZwaDrs7Fg7tRCB2adHMCDQ0Q8jD7Xu1tvHdlkz 8yNq8LPK+tikWo7ZU432wyGBEnxhsYktPgXL6Utbj3D9/MQVmsr3taodRWhzjNGYu4yegGanDe6 Yp0cxEJEdx0HZkku4ZypHQ5YlbQrwqsR3mgKPezyP25rQSnc8XBw925yljEAIawFB7snztyKwO+ tLinOuHXnnl8JoObQhj53LyLNCcD/QcGStJdrkMQYpm867QjYbsN7wI0sQ3DgQh6vkeVKQraN/v EIv8ikt72CKGCWmHc9UzFXx4kESsn0VTFSn+UwGZ1CO7me1g/qy7hGPImUQ= X-Google-Smtp-Source: AGHT+IEsKSruoJg1AmDkBKDrbm8aaj+Oc7uKq7t12KEou2abY7vAXHcln5mWQHMRGAGovVqzoxdHLO/adeGI X-Received: by 2002:a05:6122:2503:b0:52c:44a5:e65e with SMTP id 71dfb90a1353d-52d9c3bac2fmr6975164e0c.0.1747320083319; Thu, 15 May 2025 07:41:23 -0700 (PDT) Received: from postal.iol.unh.edu (postal.iol.unh.edu. [132.177.123.84]) by smtp-relay.gmail.com with ESMTPS id 71dfb90a1353d-52c5383afe0sm356521e0c.9.2025.05.15.07.41.23 (version=TLS1_2 cipher=ECDHE-ECDSA-AES128-GCM-SHA256 bits=128/128); Thu, 15 May 2025 07:41:23 -0700 (PDT) X-Relaying-Domain: iol.unh.edu Date: Thu, 15 May 2025 07:41:23 -0700 (PDT) Message-ID: <6825fd13.050a0220.30a844.2c0fSMTPIN_ADDED_MISSING@mx.google.com> Received: from [172.21.0.5] (unknown [172.18.0.240]) by postal.iol.unh.edu (Postfix) with ESMTP id E6BCE6052471; Thu, 15 May 2025 10:41:22 -0400 (EDT) Subject: |SUCCESS| pw153447 [PATCH] test/crypto: fix return value in RSA test From: dpdklab@iol.unh.edu To: Test Report Cc: dpdk-test-reports@iol.unh.edu In-Reply-To: <20250515080853.1708-1-gmuthukrishn@marvell.com> References: <20250515080853.1708-1-gmuthukrishn@marvell.com> Content-Type: text/plain X-BeenThere: test-report@dpdk.org X-Mailman-Version: 2.1.29 Precedence: list List-Id: automatic DPDK test reports List-Unsubscribe: , List-Archive: List-Post: List-Help: List-Subscribe: , Errors-To: test-report-bounces@dpdk.org Test-Label: iol-sample-apps-testing Test-Status: SUCCESS http://dpdk.org/patch/153447 _Testing PASS_ Submitter: Gowrishankar Muthukrishnan Date: Thursday, May 15 2025 08:08:50 DPDK git baseline: Repo:dpdk Branch: master CommitID:ca1690ebd224f148268285b15b97441ccdbdd07e 153447 --> testing pass Upstream job id: ACVP-FIPS-testing#9816 Test environment and result as below: +--------------------+----------------------+----------------------+ | Environment | compressdev_zlib_pmd | dpdk_fips_validation | +====================+======================+======================+ | Ubuntu 22.04 (ARM) | PASS | SKIPPED | +--------------------+----------------------+----------------------+ | Ubuntu 22.04 | PASS | SKIPPED | +--------------------+----------------------+----------------------+ | Ubuntu 20.04 | SKIPPED | PASS | +--------------------+----------------------+----------------------+ Ubuntu 22.04 (ARM) Kernel: 5.15.0-97-generic Compiler: gcc gcc (Ubuntu 11.4.0-1ubuntu1~22.04) 11.4.0 Ubuntu 22.04 Kernel: 5.15.0-100-generic Compiler: gcc gcc (Ubuntu 11.4.0-1ubuntu1~22.04) 11.4.0 Ubuntu 20.04 Kernel: Depends on container host Compiler: gcc (Ubuntu 9.4.0-1ubuntu1~20.04.2) 9.4.0 To view detailed results, visit: https://lab.dpdk.org/results/dashboard/patchsets/33178/ UNH-IOL DPDK Community Lab To manage your email subscriptions, visit: https://lab.dpdk.org/results/dashboard/preferences/subscriptions/