From mboxrd@z Thu Jan 1 00:00:00 1970 Return-Path: Received: from mails.dpdk.org (mails.dpdk.org [217.70.189.124]) by inbox.dpdk.org (Postfix) with ESMTP id B54BB46755 for ; Thu, 15 May 2025 17:08:21 +0200 (CEST) Received: from mails.dpdk.org (localhost [127.0.0.1]) by mails.dpdk.org (Postfix) with ESMTP id B294140E3E; Thu, 15 May 2025 17:08:21 +0200 (CEST) Received: from mail-pg1-f225.google.com (mail-pg1-f225.google.com [209.85.215.225]) by mails.dpdk.org (Postfix) with ESMTP id 0F54D402DC for ; Thu, 15 May 2025 17:08:20 +0200 (CEST) Received: by mail-pg1-f225.google.com with SMTP id 41be03b00d2f7-af908bb32fdso896227a12.1 for ; Thu, 15 May 2025 08:08:19 -0700 (PDT) DKIM-Signature: v=1; a=rsa-sha256; c=relaxed/relaxed; d=iol.unh.edu; s=unh-iol; t=1747321699; x=1747926499; darn=dpdk.org; h=references:in-reply-to:cc:to:from:subject:message-id:date:from:to :cc:subject:date:message-id:reply-to; bh=24nAXBCmYJMMwEdGn+cdz42c1Q235nTKNDWdkp1Z5cc=; b=HPO8r+Hxs+O1wFQlpDOY6Yt8IBXkSGOoKiCPWQmdpcLbuuJEwR8RiV75l2G82H5gGK IFL84SFAtfaCiynL9b0aBnoq21ij9PVPfdIGzUo6Dz+RCExuxyRsrJClULlT9wz48B71 ay5DjgvRB54CGu7LFIHKp8/XJA8NJVXzHxBn0= X-Google-DKIM-Signature: v=1; a=rsa-sha256; c=relaxed/relaxed; d=1e100.net; s=20230601; t=1747321699; x=1747926499; h=references:in-reply-to:cc:to:from:subject:message-id:date :x-gm-message-state:from:to:cc:subject:date:message-id:reply-to; bh=24nAXBCmYJMMwEdGn+cdz42c1Q235nTKNDWdkp1Z5cc=; b=m/+TFiU3NwpbvaX4sjBvQKuIdACXQ7kFEK1K7wxFOHtfJIf5QnnkvqK5LnqP0WisoI kUbgPFk8fNl8YIUBnk4qlsfyjXcDwvLs/qW/JnFdEBE+/RzWepl/XulDN6jcgRFL2nnp e6AfwqZgie38CZxchTPBJfUzzTFizPSz2RAe0/3ou+sey6zkh4mPZK9QPLXxZeLSn+8F V/HHUaWHVMWrxO5cZvlmwZz6+CrKSa5K2sRoUQ65lqsAwa/5GmTqr+uWOT1/t1ZuDsAp +559O5lz8Nur1LEnRokf7WGQ5sZThOvT9a6M4qHqZOlMA7I/wWihW/wj30pFwFmHBMjz 4cTg== X-Gm-Message-State: AOJu0YzuSG4hwnmfSAchEYQuYWtFY0ikOpOFOtZsHd/mtZY4aF8G1UqU QyDHmZtBIYsSnxsv7e+uYsK69x2V55hPFGBAUSm61s+7ZDKNFTgpZkdvr5w2fq1obdMgr4Re2Jc /DoMFcLTmqrGTGwsmOP2PNiBqsJKTLN8r2ubhSzMu7iWM X-Gm-Gg: ASbGncu+5EK6SGQvNlyt4AnvQbl/qYXIsufR13v10b56xkVMPQ6MBCeR+WKHc5s8swe 3viY54MHeJGKL9n2OcQojL597Wm3zoKp6xrVBOLWPATKijtBciegy2k/xr2I48RUjXrvV/OsUZQ wjzwOc483/klY7qlPC16pw1VD5FcYwu/hKoEYIDZqXLkH0bMoaQJpZpQEhboPvD6EMRZN60754I J47wUilNTG7ACQtHVtjB71e8Yu5NDBH2O10zQtAjg3JoQ7VYXOkNAHtOSTz0dvjvWh3U43QQIiS XxS0qgJeIwjRkaPet8Wp0YEbf8McA+O87mKkel4EVBtGfMUJ5hTAwf61lIk= X-Google-Smtp-Source: AGHT+IEgDsPLs1+xyVXGlfvoI5D+OWC+Mgo7Aiw99dIuGQuU+cJx3HmdWN9CWT1WxYk/qHanGKj6NUT4GB/u X-Received: by 2002:a17:902:d2c9:b0:231:c9bb:60f8 with SMTP id d9443c01a7336-231c9bb70ffmr12210255ad.7.1747321698744; Thu, 15 May 2025 08:08:18 -0700 (PDT) Received: from postal.iol.unh.edu (postal.iol.unh.edu. [132.177.123.84]) by smtp-relay.gmail.com with ESMTPS id d9443c01a7336-22fc6f2f683sm7972375ad.119.2025.05.15.08.08.18 (version=TLS1_2 cipher=ECDHE-ECDSA-AES128-GCM-SHA256 bits=128/128); Thu, 15 May 2025 08:08:18 -0700 (PDT) X-Relaying-Domain: iol.unh.edu Date: Thu, 15 May 2025 08:08:18 -0700 (PDT) Message-ID: <68260362.170a0220.334b49.a7baSMTPIN_ADDED_MISSING@mx.google.com> Received: from [172.21.0.5] (unknown [172.18.0.240]) by postal.iol.unh.edu (Postfix) with ESMTP id E83076052471; Thu, 15 May 2025 11:08:17 -0400 (EDT) Subject: |SUCCESS| pw153446 [PATCH] crypto/cnxk: fix uninitialized scalar var From: dpdklab@iol.unh.edu To: Test Report Cc: dpdk-test-reports@iol.unh.edu In-Reply-To: <20250515080632.1676-1-gmuthukrishn@marvell.com> References: <20250515080632.1676-1-gmuthukrishn@marvell.com> Content-Type: text/plain X-BeenThere: test-report@dpdk.org X-Mailman-Version: 2.1.29 Precedence: list List-Id: automatic DPDK test reports List-Unsubscribe: , List-Archive: List-Post: List-Help: List-Subscribe: , Errors-To: test-report-bounces@dpdk.org Test-Label: iol-abi-testing Test-Status: SUCCESS http://dpdk.org/patch/153446 _Testing PASS_ Submitter: Gowrishankar Muthukrishnan Date: Thursday, May 15 2025 08:06:29 DPDK git baseline: Repo:dpdk Branch: master CommitID:ca1690ebd224f148268285b15b97441ccdbdd07e 153446 --> testing pass Upstream job id: Generic-DPDK-Compile-ABI#126456 Test environment and result as below: +-------------------+----------+ | Environment | abi_test | +===================+==========+ | CentOS Stream 9 | PASS | +-------------------+----------+ | CentOS Stream 10 | PASS | +-------------------+----------+ | Debian 12 | PASS | +-------------------+----------+ | Fedora 40 (Clang) | PASS | +-------------------+----------+ | Fedora 40 | PASS | +-------------------+----------+ | Fedora 41 (Clang) | PASS | +-------------------+----------+ | openSUSE Leap 15 | PASS | +-------------------+----------+ | Ubuntu 22.04 | PASS | +-------------------+----------+ | RHEL9 | PASS | +-------------------+----------+ | RHEL8 | PASS | +-------------------+----------+ | Ubuntu 24.04 | PASS | +-------------------+----------+ CentOS Stream 9 Kernel: Depends on container host Compiler: gcc 11.5.0 20240719 (Red Hat 11.5.0-2) CentOS Stream 10 Kernel: Depends on container host Compiler: gcc 14.2.1 20241104 (Red Hat 14.2.1-6) Debian 12 Kernel: Depends on container host Compiler: gcc (Debian 12.2.0-14) 12.2.0 Fedora 40 (Clang) Kernel: Depends on container host Compiler: clang 18.1.8 (Fedora 18.1.8-1.fc40) Fedora 40 Kernel: Depends on container host Compiler: gcc 14.2.1 20240912 (Red Hat 14.2.1-3) Fedora 41 (Clang) Kernel: Depends on container host Compiler: clang 19.1.5 (Fedora 19.1.5-1.fc41) openSUSE Leap 15 Kernel: Depends on container host Compiler: gcc (SUSE Linux) 7.5.0 Ubuntu 22.04 Kernel: Depends on container host Compiler: gcc (Ubuntu 11.4.0-1ubuntu1~22.04) 11.4.0 RHEL9 Kernel: Depends on container host Compiler: gcc 11.5.0 20240719 (Red Hat 11.5.0-2) RHEL8 Kernel: Depends on container host Compiler: gcc 8.5.0 20210514 (Red Hat 8.5.0-22) Ubuntu 24.04 Kernel: Depends on container host Compiler: gcc (Ubuntu 13.3.0-6ubuntu2~24.04) 13.3.0 To view detailed results, visit: https://lab.dpdk.org/results/dashboard/patchsets/33177/ UNH-IOL DPDK Community Lab To manage your email subscriptions, visit: https://lab.dpdk.org/results/dashboard/preferences/subscriptions/