From mboxrd@z Thu Jan 1 00:00:00 1970 Return-Path: Received: from mails.dpdk.org (mails.dpdk.org [217.70.189.124]) by inbox.dpdk.org (Postfix) with ESMTP id 262D246755 for ; Thu, 15 May 2025 17:21:05 +0200 (CEST) Received: from mails.dpdk.org (localhost [127.0.0.1]) by mails.dpdk.org (Postfix) with ESMTP id 0037340E03; Thu, 15 May 2025 17:21:04 +0200 (CEST) Received: from mail-pl1-f226.google.com (mail-pl1-f226.google.com [209.85.214.226]) by mails.dpdk.org (Postfix) with ESMTP id 7D02B40DDB for ; Thu, 15 May 2025 17:21:03 +0200 (CEST) Received: by mail-pl1-f226.google.com with SMTP id d9443c01a7336-22e09f57ed4so24338835ad.0 for ; Thu, 15 May 2025 08:21:03 -0700 (PDT) DKIM-Signature: v=1; a=rsa-sha256; c=relaxed/relaxed; d=iol.unh.edu; s=unh-iol; t=1747322462; x=1747927262; darn=dpdk.org; h=references:in-reply-to:cc:to:from:subject:message-id:date:from:to :cc:subject:date:message-id:reply-to; bh=IqJUDGWeJ0BNKvUe8dYQrYUuip9muhS1WVvUqytpxjY=; b=cJGEGNyw9nXIBAR2vo9mnTi5LnIcR2CTlyc0T+1KNrsLYEocQ2zGNAOzRPOZDsFNVY aaoCgaV3YUJppMEZdc8cfo/H54SMHnxokR2ffQdLxdGowVJWiIc7KT26398WOnRftebm 3xjENISjeqqRDa4AMPAJCsTgaHLIs+0qFmX5M= X-Google-DKIM-Signature: v=1; a=rsa-sha256; c=relaxed/relaxed; d=1e100.net; s=20230601; t=1747322462; x=1747927262; h=references:in-reply-to:cc:to:from:subject:message-id:date :x-gm-message-state:from:to:cc:subject:date:message-id:reply-to; bh=IqJUDGWeJ0BNKvUe8dYQrYUuip9muhS1WVvUqytpxjY=; b=FWmFOToF4FwMvAQaz0a91kJ2tAOdVNzu6BSgIcCr9HTkPBV9W+1DzPBs9VXqaBQuRv tX+HEM2SImYxiSvs3EIHOiIly8S+NlNSNHuxteGGyzLtfmvz0UbgruKTca2gClKI4bBO EtPzIrWzXmV9OutZJiQFBst7Z5qqlYRz7bWvNrjyMBdye54WlTphvEVzSbuV73MxA1mZ CtA79NoAmRftKwL1i4e8bbcb1REMacB9IbuOV0NmDYJWIkV/bn4+hjr2S8ddmH9IAjsX 17YwNg45c3Ff1SM7B0tmg46vS4EleLLbysQ9AzT13bDP4v3WH6Qfw85oL6laN50haZU5 1L+Q== X-Gm-Message-State: AOJu0Yx6zuTGQ1TgchixM7psdQYvtE6t+kTo2Y54OlpK3x+b+sEXmC9S cU1zFeY2/+wtsxFA1p1HJpK1lvX48fqSrCNDUOZ3x2HTiAeWUsRzsNzYfrFkQgRytskVooACx0T 0v5NtmLk7v7MX4+ef/6yqD8W9VmtV5gtdISPpHtNi X-Gm-Gg: ASbGncua2Wmvr1TuVq0QI//Fol3jEA2H0q+YDOuDPHDQP5wbUh4xJpKTpd+4a6KWF9p LKcA2UrvtAyOKOsHAKzDbYutNODqiUEFgMPmYMQcmwdr9PQ5INZCKCS5lnrn7kzO6WFEBOYzpHw nzQwxxZTzQwonh1YHF6Z60xs/i/hLECk3ejD4m3W0Xnd7OUtHFyzoc3vCycs4JfOAczHP3PJLCB R5XWvLh+dFx8KreY4xHsxxs4pG1YRkFjmBo7EDseotRcLxTH7zkWSb5rjLEYHdEGZ5TN+NuBpXB uev44npd3H6o2VwyYosVQQDlt/BfMv4JwcqRS+cOtoSj1Aa4JzUzF7AaPFU= X-Google-Smtp-Source: AGHT+IF9/3wJXLv0m0F+NyBwTw98F47kPVFsmzkCEmlE27Gpwb65WkpJ7drslGyvBgh4xhkMxFI1q7BInzN7 X-Received: by 2002:a17:902:d58c:b0:215:a56f:1e50 with SMTP id d9443c01a7336-231b39834bcmr60848045ad.8.1747322462523; Thu, 15 May 2025 08:21:02 -0700 (PDT) Received: from postal.iol.unh.edu (postal.iol.unh.edu. [132.177.123.84]) by smtp-relay.gmail.com with ESMTPS id d9443c01a7336-22fc5a3b946sm8172395ad.54.2025.05.15.08.21.02 (version=TLS1_2 cipher=ECDHE-ECDSA-AES128-GCM-SHA256 bits=128/128); Thu, 15 May 2025 08:21:02 -0700 (PDT) X-Relaying-Domain: iol.unh.edu Date: Thu, 15 May 2025 08:21:02 -0700 (PDT) Message-ID: <6826065e.170a0220.17c6f3.bbb1SMTPIN_ADDED_MISSING@mx.google.com> Received: from [172.21.0.5] (unknown [172.18.0.240]) by postal.iol.unh.edu (Postfix) with ESMTP id 05D6F6052471; Thu, 15 May 2025 11:21:02 -0400 (EDT) Subject: |SUCCESS| pw153446 [PATCH] crypto/cnxk: fix uninitialized scalar var From: dpdklab@iol.unh.edu To: Test Report Cc: dpdk-test-reports@iol.unh.edu In-Reply-To: <20250515080632.1676-1-gmuthukrishn@marvell.com> References: <20250515080632.1676-1-gmuthukrishn@marvell.com> Content-Type: text/plain X-BeenThere: test-report@dpdk.org X-Mailman-Version: 2.1.29 Precedence: list List-Id: automatic DPDK test reports List-Unsubscribe: , List-Archive: List-Post: List-Help: List-Subscribe: , Errors-To: test-report-bounces@dpdk.org Test-Label: iol-unit-amd64-testing Test-Status: SUCCESS http://dpdk.org/patch/153446 _Testing PASS_ Submitter: Gowrishankar Muthukrishnan Date: Thursday, May 15 2025 08:06:29 DPDK git baseline: Repo:dpdk Branch: master CommitID:ca1690ebd224f148268285b15b97441ccdbdd07e 153446 --> testing pass Upstream job id: Generic-Unit-Test-DPDK#337976 Test environment and result as below: +-------------------+----------------+ | Environment | dpdk_unit_test | +===================+================+ | Fedora 40 (Clang) | PASS | +-------------------+----------------+ | Fedora 40 | PASS | +-------------------+----------------+ | Debian 12 | PASS | +-------------------+----------------+ | CentOS Stream 9 | PASS | +-------------------+----------------+ | CentOS Stream 10 | PASS | +-------------------+----------------+ | Fedora 41 | PASS | +-------------------+----------------+ | RHEL8 | PASS | +-------------------+----------------+ | Fedora 41 (Clang) | PASS | +-------------------+----------------+ | Ubuntu 20.04 | PASS | +-------------------+----------------+ | Ubuntu 22.04 | PASS | +-------------------+----------------+ | RHEL9 | PASS | +-------------------+----------------+ | Ubuntu 24.04 | PASS | +-------------------+----------------+ Fedora 40 (Clang) Kernel: Depends on container host Compiler: clang 18.1.8 (Fedora 18.1.8-1.fc40) Fedora 40 Kernel: Depends on container host Compiler: gcc 14.2.1 20240912 (Red Hat 14.2.1-3) Debian 12 Kernel: Depends on container host Compiler: gcc (Debian 12.2.0-14) 12.2.0 CentOS Stream 9 Kernel: Depends on container host Compiler: gcc 11.5.0 20240719 (Red Hat 11.5.0-2) CentOS Stream 10 Kernel: Depends on container host Compiler: gcc 14.2.1 20241104 (Red Hat 14.2.1-6) Fedora 41 Kernel: Depends on container host Compiler: gcc 14.2.1 20240912 (Red Hat 14.2.1-3) RHEL8 Kernel: Depends on container host Compiler: gcc 8.5.0 20210514 (Red Hat 8.5.0-22) Fedora 41 (Clang) Kernel: Depends on container host Compiler: clang 19.1.5 (Fedora 19.1.5-1.fc41) Ubuntu 20.04 Kernel: Depends on container host Compiler: gcc (Ubuntu 9.4.0-1ubuntu1~20.04.2) 9.4.0 Ubuntu 22.04 Kernel: Depends on container host Compiler: gcc (Ubuntu 11.4.0-1ubuntu1~22.04) 11.4.0 RHEL9 Kernel: Depends on container host Compiler: gcc 11.5.0 20240719 (Red Hat 11.5.0-2) Ubuntu 24.04 Kernel: Depends on container host Compiler: gcc (Ubuntu 13.3.0-6ubuntu2~24.04) 13.3.0 To view detailed results, visit: https://lab.dpdk.org/results/dashboard/patchsets/33177/ UNH-IOL DPDK Community Lab To manage your email subscriptions, visit: https://lab.dpdk.org/results/dashboard/preferences/subscriptions/