From mboxrd@z Thu Jan 1 00:00:00 1970 Return-Path: Received: from mails.dpdk.org (mails.dpdk.org [217.70.189.124]) by inbox.dpdk.org (Postfix) with ESMTP id 611AF46755 for ; Thu, 15 May 2025 17:35:32 +0200 (CEST) Received: from mails.dpdk.org (localhost [127.0.0.1]) by mails.dpdk.org (Postfix) with ESMTP id 5731340ECF; Thu, 15 May 2025 17:35:32 +0200 (CEST) Received: from mail-oo1-f100.google.com (mail-oo1-f100.google.com [209.85.161.100]) by mails.dpdk.org (Postfix) with ESMTP id 38B7740E03 for ; Thu, 15 May 2025 17:35:31 +0200 (CEST) Received: by mail-oo1-f100.google.com with SMTP id 006d021491bc7-606648c3f9eso411440eaf.3 for ; Thu, 15 May 2025 08:35:31 -0700 (PDT) DKIM-Signature: v=1; a=rsa-sha256; c=relaxed/relaxed; d=iol.unh.edu; s=unh-iol; t=1747323330; x=1747928130; darn=dpdk.org; h=references:in-reply-to:cc:to:from:subject:message-id:date:from:to :cc:subject:date:message-id:reply-to; bh=eOquHBXIQrSMjjPdvn/kkJjX3zyPr5BYXNp7KlPi2Cs=; b=YRtpkJlxCKICLnBBcDM/TzrWPepyAmvGKXBUa95png5gCsVkfMZGSfoX+bHKOGuP0H jB4Z9C8DXl0SWCtrgRzw3frDt1nFL35mvug8Pv7Ye6DUWyRG5I/UNd4VsIBQjKiT2S7f 44fZRdeAsjnwaWtDQHbDe1it0Kxcg4zjezE28= X-Google-DKIM-Signature: v=1; a=rsa-sha256; c=relaxed/relaxed; d=1e100.net; s=20230601; t=1747323330; x=1747928130; h=references:in-reply-to:cc:to:from:subject:message-id:date :x-gm-message-state:from:to:cc:subject:date:message-id:reply-to; bh=eOquHBXIQrSMjjPdvn/kkJjX3zyPr5BYXNp7KlPi2Cs=; b=kAgOqj6bEH04wV7TldKE/O1exHjxsyH1M9SS5QJzWpr/RGIaKyqBAaHMUyjFGWakxP Mdft4w3nsQg2Cd9qMtRCtsRo77z0joeRbL9Fn8ZKjjCbhAFoSg5ucESVILCxVINYgsqH nW7kZ7Df9j4al1pgXVSICcAiIaF3WYyVLt8mwF6efadKYkoGFXuzqiQj+wTCd/IgitPP KNpSZcTQtmp9zBAkUvgVYrISf1vBuT8zMRhbHT9NdYnebgnwInB54MFp0vCV+Z3Wei/c IseJk9dVLdxG5g8z4whqONrs/ZE1+gB7QAArQiMU+4gn3ILhs53mkG1QwnGtfXx5dKAQ 6Nxg== X-Gm-Message-State: AOJu0YxB0xIixbPPxHTWu2PxZALDFrdt13b1vshRB/LdF6E6AXEsyrid dBQ6fZ4On+/VLR6y2mjEPFMzgE8ztA2vMVmKsJpbVpIVHJ8/8jjQWKKIGbG+ZSsl+cf3pvX+mCr XTecJ3Fzj7cQRwMlcw716nIRu9iwbUaMrPoSLzzlMD8HkXpwzk82I/lpA X-Gm-Gg: ASbGncvH5oyEmcFo7FrnvoL/DhFO4x5P+K5O5eIS5dIdVXkTpocZs+zwWaoZXscCkY7 MQyIgdY3gJHUoqcbHbfWRz2sunP6cnVEKTj9kqKOi7q6uLs7pk5hZgRoXFaOF8CgrUy9Zoh0dCy gRv9TeBzcQ+Y1WTbaxqnOezK3C93yQDxFAejFnxGyUCMoCTxESyILMyGh+JkBxVuA0AowhsuGQU bwKqsHO3Tgtk/rCqYuca20BGhbdUQbdkKQ7R4eGiwZJeH+gUaKW/9f40c6pMgLHL53un3Fv51Lh n882GXgxQDCr7qMYTiszhsIge+s5+b7A17xt X-Google-Smtp-Source: AGHT+IHi/GRQVgVPkmRvB9a3Sf3emAAngbr6EaRrWLseN1Pozt2h+95bNgLeYH49VN/2ArGRf0dIYYoa7let X-Received: by 2002:a05:6820:3082:b0:607:a412:10a8 with SMTP id 006d021491bc7-609ec2306cfmr1668224eaf.7.1747323330431; Thu, 15 May 2025 08:35:30 -0700 (PDT) Received: from postal.iol.unh.edu (postal.iol.unh.edu. [2606:4100:3880:1234::84]) by smtp-relay.gmail.com with ESMTPS id 006d021491bc7-609f2f808a9sm3500eaf.4.2025.05.15.08.35.30 (version=TLS1_2 cipher=ECDHE-ECDSA-AES128-GCM-SHA256 bits=128/128); Thu, 15 May 2025 08:35:30 -0700 (PDT) X-Relaying-Domain: iol.unh.edu Date: Thu, 15 May 2025 08:35:30 -0700 (PDT) Message-ID: <682609c2.050a0220.1645a0.0363SMTPIN_ADDED_MISSING@mx.google.com> Received: from [172.21.0.5] (unknown [172.18.0.240]) by postal.iol.unh.edu (Postfix) with ESMTP id E69D46052471; Thu, 15 May 2025 11:35:29 -0400 (EDT) Subject: |SUCCESS| pw153446 [PATCH] crypto/cnxk: fix uninitialized scalar var From: dpdklab@iol.unh.edu To: Test Report Cc: dpdk-test-reports@iol.unh.edu In-Reply-To: <20250515080632.1676-1-gmuthukrishn@marvell.com> References: <20250515080632.1676-1-gmuthukrishn@marvell.com> Content-Type: text/plain X-BeenThere: test-report@dpdk.org X-Mailman-Version: 2.1.29 Precedence: list List-Id: automatic DPDK test reports List-Unsubscribe: , List-Archive: List-Post: List-Help: List-Subscribe: , Errors-To: test-report-bounces@dpdk.org Test-Label: iol-unit-arm64-testing Test-Status: SUCCESS http://dpdk.org/patch/153446 _Testing PASS_ Submitter: Gowrishankar Muthukrishnan Date: Thursday, May 15 2025 08:06:29 DPDK git baseline: Repo:dpdk Branch: master CommitID:ca1690ebd224f148268285b15b97441ccdbdd07e 153446 --> testing pass Upstream job id: Aarch32-Unit-Test#6232 Test environment and result as below: +-----------------------------+--------------+----------------+---------------------------+------------------------------+ | Environment | lpm_autotest | dpdk_unit_test | cryptodev_sw_zuc_autotest | cryptodev_sw_snow3g_autotest | +=============================+==============+================+===========================+==============================+ | Ubuntu 20.04 ARM SVE | PASS | SKIPPED | SKIPPED | SKIPPED | +-----------------------------+--------------+----------------+---------------------------+------------------------------+ | Debian 12 (arm) | SKIPPED | PASS | PASS | PASS | +-----------------------------+--------------+----------------+---------------------------+------------------------------+ | Fedora 40 (ARM) | SKIPPED | PASS | SKIPPED | SKIPPED | +-----------------------------+--------------+----------------+---------------------------+------------------------------+ | CentOS Stream 9 (ARM) | SKIPPED | PASS | SKIPPED | SKIPPED | +-----------------------------+--------------+----------------+---------------------------+------------------------------+ | CentOS Stream 10 (ARM) | SKIPPED | PASS | SKIPPED | SKIPPED | +-----------------------------+--------------+----------------+---------------------------+------------------------------+ | Fedora 40 (ARM Clang) | SKIPPED | PASS | SKIPPED | SKIPPED | +-----------------------------+--------------+----------------+---------------------------+------------------------------+ | Fedora 41 (ARM) | SKIPPED | PASS | SKIPPED | SKIPPED | +-----------------------------+--------------+----------------+---------------------------+------------------------------+ | Ubuntu 20.04 (ARM) | SKIPPED | PASS | SKIPPED | SKIPPED | +-----------------------------+--------------+----------------+---------------------------+------------------------------+ | Fedora 41 (ARM Clang) | SKIPPED | PASS | SKIPPED | SKIPPED | +-----------------------------+--------------+----------------+---------------------------+------------------------------+ | Ubuntu 22.04 (ARM) | SKIPPED | PASS | SKIPPED | SKIPPED | +-----------------------------+--------------+----------------+---------------------------+------------------------------+ | RHEL9 (ARM) | SKIPPED | PASS | SKIPPED | SKIPPED | +-----------------------------+--------------+----------------+---------------------------+------------------------------+ | Ubuntu 24.04 (ARM) | SKIPPED | PASS | SKIPPED | SKIPPED | +-----------------------------+--------------+----------------+---------------------------+------------------------------+ | 32-bit Ubuntu 22.04.4 (ARM) | SKIPPED | PASS | SKIPPED | SKIPPED | +-----------------------------+--------------+----------------+---------------------------+------------------------------+ Ubuntu 20.04 ARM SVE Kernel: Depends on container host Compiler: gcc (Ubuntu 10.5.0-1ubuntu1~20.04) 10.5.0 Debian 12 (arm) Kernel: Depends on container host Compiler: gcc (Debian 12.2.0-14) 12.2.0 Fedora 40 (ARM) Kernel: Depends on container host Compiler: gcc 14.2.1 20240912 (Red Hat 14.2.1-3) CentOS Stream 9 (ARM) Kernel: Depends on container host Compiler: gcc 11.5.0 20240719 (Red Hat 11.5.0-2) CentOS Stream 10 (ARM) Kernel: Depends on container host Compiler: gcc 14.2.1 20241104 (Red Hat 14.2.1-6) Fedora 40 (ARM Clang) Kernel: Depends on container host Compiler: clang 18.1.8 (Fedora 18.1.8-1.fc40) Fedora 41 (ARM) Kernel: Depends on container host Compiler: gcc 14.2.1 20240912 (Red Hat 14.2.1-3) Ubuntu 20.04 (ARM) Kernel: Depends on container host Compiler: gcc (Ubuntu 9.4.0-1ubuntu1~20.04.2) 9.4.0 Fedora 41 (ARM Clang) Kernel: Depends on container host Compiler: clang 19.1.5 (Fedora 19.1.5-1.fc41) Ubuntu 22.04 (ARM) Kernel: Depends on container host Compiler: gcc (Ubuntu 11.4.0-1ubuntu1~22.04) 11.4.0 RHEL9 (ARM) Kernel: Depends on container host Compiler: gcc 11.5.0 20240719 (Red Hat 11.5.0-2) Ubuntu 24.04 (ARM) Kernel: Depends on container host Compiler: gcc (Ubuntu 13.3.0-6ubuntu2~24.04) 13.3.0 32-bit Ubuntu 22.04.4 (ARM) Kernel: 5.15.83+ aarch64 Compiler: gcc (Ubuntu 11.4.0-1ubuntu1~22.04) 11.4.0 To view detailed results, visit: https://lab.dpdk.org/results/dashboard/patchsets/33177/ UNH-IOL DPDK Community Lab To manage your email subscriptions, visit: https://lab.dpdk.org/results/dashboard/preferences/subscriptions/