From mboxrd@z Thu Jan 1 00:00:00 1970 Return-Path: Received: from mails.dpdk.org (mails.dpdk.org [217.70.189.124]) by inbox.dpdk.org (Postfix) with ESMTP id E1DFC46756 for ; Thu, 15 May 2025 18:19:42 +0200 (CEST) Received: from mails.dpdk.org (localhost [127.0.0.1]) by mails.dpdk.org (Postfix) with ESMTP id DD8F540ECF; Thu, 15 May 2025 18:19:42 +0200 (CEST) Received: from mail-oo1-f100.google.com (mail-oo1-f100.google.com [209.85.161.100]) by mails.dpdk.org (Postfix) with ESMTP id 5B2BC40E03 for ; Thu, 15 May 2025 18:19:41 +0200 (CEST) Received: by mail-oo1-f100.google.com with SMTP id 006d021491bc7-603f54a6cb5so810916eaf.0 for ; Thu, 15 May 2025 09:19:41 -0700 (PDT) DKIM-Signature: v=1; a=rsa-sha256; c=relaxed/relaxed; d=iol.unh.edu; s=unh-iol; t=1747325980; x=1747930780; darn=dpdk.org; h=references:in-reply-to:cc:to:from:subject:message-id:date:from:to :cc:subject:date:message-id:reply-to; bh=H5JszIAsg65sJG92FyLEPzc53B297G6V3/UACDVDJ58=; b=WOjFPKOpHKCtz0/eiAXsbcQw9CBEd7+oOhoZQAkamJlHX9bT2R+i6945F2AMrTLIo2 v9ValkdUiVmG8uyd3OH3Rf0N/vf6PS8Pk+PtptJ5oUiGZZ7gXbvOq3GOJVuvsbTLuTyC 0g8wWU5nYRhhLAuEi3gEZYscV8cUlNndvR8Fw= X-Google-DKIM-Signature: v=1; a=rsa-sha256; c=relaxed/relaxed; d=1e100.net; s=20230601; t=1747325980; x=1747930780; h=references:in-reply-to:cc:to:from:subject:message-id:date :x-gm-message-state:from:to:cc:subject:date:message-id:reply-to; bh=H5JszIAsg65sJG92FyLEPzc53B297G6V3/UACDVDJ58=; b=IrLGRoWATJqrynWDhlSNQF4F4BtQy7kQbQNM3//UNl4xymJmpZfq1eQ8xzy4eym/hp LPjxqkMqTENi6wvf5JQZz95L5Ygo7qD3/lu8Boq2qadJlOVSu/Hj3XtROJHM0LdJZUIC XCjO4wgn7Ht+scuvudvS0Gv8HXiWUcPrGZPblSu/cK8ZykGLmaLkdgYq279ZqcBnGPtt U35nFscnrI3lR6A36jFjwLVVWtoqHwnkDdSXB8erDSDRzgP5gWtU8m+mEPM4VB0qRKYs heMzTsN55GoWdGc9jMyYgHXSX4e+ELt/flxjghom8CAkET1L9uyDDhRB6LzpKjg2uG5D nTkw== X-Gm-Message-State: AOJu0Yx6xTm09g6cmAVxJVgHwMYbGdyEYpq6+o7jr2YynEWSof9eqCkh rKGf3qBSMuyu8qNHj5DM23zVp48rFABIdVktlDbIsBsf1x6VZImlF7Nqysn7rJDtn/ZJB4pq3dt v3f5InVPAAo+pvwoVF9L0HRvVw4Rr1iROC8dTm1/nzIDL X-Gm-Gg: ASbGncuxELDvMEun0CE7r1IjRWCj7sJSSNZ0c/g0O/ptGDq+5Rn/+wzUKvdczV01hb1 TuSjPRGFCgzSsIMHJqxA5bue+O8ONb4zeDBPvUQAm9PP1pqqninX1gRgUoqMmb10b3sUKkmtv6f NlRe0TNWJgM/cCL3L0ixYVwMjrx1TcLx9hVdf9dGrHpadfaQIlYZ7U94mjX6r7hn0+2J3dUyoaH GhlGnGwJAEJ+c4QxMAQ5ds7VuODAnCdayVNoKpBFWbcJ6eapqlZGH6UQU0fjmoH5TROghHQgdPr w4un0Cof6rYY3dOdudK8crPN5DS7zfV75VzGtvnEc3RoBx4Wzr8Di3GP+1E= X-Google-Smtp-Source: AGHT+IGmGVe3x0j7Ng61AFfbjTTH30qV+xYo3v6OOv63wKmBHbsl/hiWyAfkT9k21OCPCdB/LDiNRFNguS/y X-Received: by 2002:a05:6871:b11:b0:29e:6394:fd4a with SMTP id 586e51a60fabf-2e3c1b8e2b0mr50288fac.2.1747325980503; Thu, 15 May 2025 09:19:40 -0700 (PDT) Received: from postal.iol.unh.edu (postal.iol.unh.edu. [132.177.123.84]) by smtp-relay.gmail.com with ESMTPS id 586e51a60fabf-2e3c060425csm5742fac.6.2025.05.15.09.19.40 (version=TLS1_2 cipher=ECDHE-ECDSA-AES128-GCM-SHA256 bits=128/128); Thu, 15 May 2025 09:19:40 -0700 (PDT) X-Relaying-Domain: iol.unh.edu Date: Thu, 15 May 2025 09:19:40 -0700 (PDT) Message-ID: <6826141c.050a0220.2655ea.04feSMTPIN_ADDED_MISSING@mx.google.com> Received: from [172.21.0.5] (unknown [172.18.0.240]) by postal.iol.unh.edu (Postfix) with ESMTP id 244176052471; Thu, 15 May 2025 12:19:40 -0400 (EDT) Subject: |SUCCESS| pw153445 [PATCH] crypto/cnxk: fix out-of-bounds access From: dpdklab@iol.unh.edu To: Test Report Cc: dpdk-test-reports@iol.unh.edu In-Reply-To: <20250515080528.1644-1-gmuthukrishn@marvell.com> References: <20250515080528.1644-1-gmuthukrishn@marvell.com> Content-Type: text/plain X-BeenThere: test-report@dpdk.org X-Mailman-Version: 2.1.29 Precedence: list List-Id: automatic DPDK test reports List-Unsubscribe: , List-Archive: List-Post: List-Help: List-Subscribe: , Errors-To: test-report-bounces@dpdk.org Test-Label: iol-unit-amd64-testing Test-Status: SUCCESS http://dpdk.org/patch/153445 _Testing PASS_ Submitter: Gowrishankar Muthukrishnan Date: Thursday, May 15 2025 08:05:25 DPDK git baseline: Repo:dpdk Branch: master CommitID:ca1690ebd224f148268285b15b97441ccdbdd07e 153445 --> testing pass Upstream job id: Generic-Unit-Test-DPDK#338003 Test environment and result as below: +-------------------+----------------+ | Environment | dpdk_unit_test | +===================+================+ | CentOS Stream 10 | PASS | +-------------------+----------------+ | CentOS Stream 9 | PASS | +-------------------+----------------+ | Debian 12 | PASS | +-------------------+----------------+ | Fedora 41 | PASS | +-------------------+----------------+ | RHEL8 | PASS | +-------------------+----------------+ | Fedora 40 (Clang) | PASS | +-------------------+----------------+ | Fedora 40 | PASS | +-------------------+----------------+ | Fedora 41 (Clang) | PASS | +-------------------+----------------+ | RHEL9 | PASS | +-------------------+----------------+ | Ubuntu 20.04 | PASS | +-------------------+----------------+ | Ubuntu 22.04 | PASS | +-------------------+----------------+ | Ubuntu 24.04 | PASS | +-------------------+----------------+ CentOS Stream 10 Kernel: Depends on container host Compiler: gcc 14.2.1 20241104 (Red Hat 14.2.1-6) CentOS Stream 9 Kernel: Depends on container host Compiler: gcc 11.5.0 20240719 (Red Hat 11.5.0-2) Debian 12 Kernel: Depends on container host Compiler: gcc (Debian 12.2.0-14) 12.2.0 Fedora 41 Kernel: Depends on container host Compiler: gcc 14.2.1 20240912 (Red Hat 14.2.1-3) RHEL8 Kernel: Depends on container host Compiler: gcc 8.5.0 20210514 (Red Hat 8.5.0-22) Fedora 40 (Clang) Kernel: Depends on container host Compiler: clang 18.1.8 (Fedora 18.1.8-1.fc40) Fedora 40 Kernel: Depends on container host Compiler: gcc 14.2.1 20240912 (Red Hat 14.2.1-3) Fedora 41 (Clang) Kernel: Depends on container host Compiler: clang 19.1.5 (Fedora 19.1.5-1.fc41) RHEL9 Kernel: Depends on container host Compiler: gcc 11.5.0 20240719 (Red Hat 11.5.0-2) Ubuntu 20.04 Kernel: Depends on container host Compiler: gcc (Ubuntu 9.4.0-1ubuntu1~20.04.2) 9.4.0 Ubuntu 22.04 Kernel: Depends on container host Compiler: gcc (Ubuntu 11.4.0-1ubuntu1~22.04) 11.4.0 Ubuntu 24.04 Kernel: Depends on container host Compiler: gcc (Ubuntu 13.3.0-6ubuntu2~24.04) 13.3.0 To view detailed results, visit: https://lab.dpdk.org/results/dashboard/patchsets/33176/ UNH-IOL DPDK Community Lab To manage your email subscriptions, visit: https://lab.dpdk.org/results/dashboard/preferences/subscriptions/