From mboxrd@z Thu Jan  1 00:00:00 1970
Return-Path: <test-report-bounces@dpdk.org>
Received: from mails.dpdk.org (mails.dpdk.org [217.70.189.124])
	by inbox.dpdk.org (Postfix) with ESMTP id 406DD46756
	for <public@inbox.dpdk.org>; Thu, 15 May 2025 18:22:24 +0200 (CEST)
Received: from mails.dpdk.org (localhost [127.0.0.1])
	by mails.dpdk.org (Postfix) with ESMTP id 2A7B140ECF;
	Thu, 15 May 2025 18:22:24 +0200 (CEST)
Received: from mail-pf1-f227.google.com (mail-pf1-f227.google.com
 [209.85.210.227])
 by mails.dpdk.org (Postfix) with ESMTP id 92BC540E03
 for <test-report@dpdk.org>; Thu, 15 May 2025 18:22:22 +0200 (CEST)
Received: by mail-pf1-f227.google.com with SMTP id
 d2e1a72fcca58-739b3fe7ce8so1054046b3a.0
 for <test-report@dpdk.org>; Thu, 15 May 2025 09:22:22 -0700 (PDT)
DKIM-Signature: v=1; a=rsa-sha256; c=relaxed/relaxed;
 d=iol.unh.edu; s=unh-iol; t=1747326141; x=1747930941; darn=dpdk.org;
 h=references:in-reply-to:cc:to:from:subject:message-id:date:from:to
 :cc:subject:date:message-id:reply-to;
 bh=zRjXg+TeFPqF98efDPX/UKjjH+AIvxN1yc30F8jUs8g=;
 b=INswNHkzhUNnicNiY7SF1N6dlpX5njX9yCA7P7gX6xWA5gsPkuM8Z0hR7i/XQudLqm
 Nw2MvLez3kA2G5J922PbYBDphi61oACH4080cU1VEkQmE+jeE1wJgtYPTGtpCdia5kcW
 BnPVORaobGqpZmHUWxoAZLECu9YrwSoLJlQGE=
X-Google-DKIM-Signature: v=1; a=rsa-sha256; c=relaxed/relaxed;
 d=1e100.net; s=20230601; t=1747326141; x=1747930941;
 h=references:in-reply-to:cc:to:from:subject:message-id:date
 :x-gm-message-state:from:to:cc:subject:date:message-id:reply-to;
 bh=zRjXg+TeFPqF98efDPX/UKjjH+AIvxN1yc30F8jUs8g=;
 b=vf0js/I6yh2cBQOzUbIB182jH7JHxphVYR2YfdZZ3ep0bg2TixExQShiUTMDsl/wl9
 +hxzbtVaLZ7gtX874vjFZd/Yv8t01Pm640oFpSva2HYYEW+GTMbWA50WeHIUtO4nVhJw
 Nsk2IBs1zL3+GXWxbvLXSLPDNq/D7jja9AtbN9cD2VjNlfkWV2rXum0jZ+6gcsic0ZIU
 d6AflOBygSC7PqK3H37LHbZAGuEsCKcuUkZbzCNAZZEr+c4XJhWJsYEGWlTFqBVFmi2Y
 4ZoyBbQoWv6kGCd7oi7oi/+aPhZpxEiYzCP+RZWbnmKxCdmD8htf4jV3+FTq33WvfaZX
 mYrA==
X-Gm-Message-State: AOJu0YwDwjpqK2FxMWfAuRK6mgNI/ilz1DNuCMJWpqOm58BIC72Ge08c
 3qzElgHjUXGSZAWCLk3AWiCVp9Ntjv0cbyZjUxiJuU0WujejiwisKoIZDPtxR+ULqACpxgbU3CV
 WjL4JW/upwyT1PFhkAKgJI2Uw/hk5CmCq2x1+SCtW29+lQq8Xer7u2vTZ4gB5
X-Gm-Gg: ASbGnctXiBd0eaLlvht/gm+KqfwuTVfa38TjT7yQMuL/bfdyMJj0ZGzQMkyhVHrztiL
 TqJVV5XSHKux6/uCignICZUZsuiirLnBkaHpBHMeIFHyfqXgKA/Om6N9+nRLqvgxpF8FdYX5KHd
 Khjhp17liwJoWhvC68sW9KHez1KLVw4inI4nNrsC1DTOBdQQpMZrUtYzqZI/PQSvK42bJKxYaSA
 WcfrV8tafjHMCPgnwxVs1EUCfPSxl1rDaoYw7GC9UbC1zXgEoEyD2uyDdFkVX+0hygRb2oh1G/P
 xDXQWJmXycAOd3+CaJ9NL0iQr3NB5kcHosFF
X-Google-Smtp-Source: AGHT+IHmTop6B4XYh9K9aWUqSMFzp8SQP+cX/zbrus8VtHGGbvM1EgYKG6kmL2KjYEfTC2J0HqIypFyRIvfr
X-Received: by 2002:a05:6a20:3d0e:b0:1ee:e46d:58a2 with SMTP id
 adf61e73a8af0-2162187a980mr251477637.3.1747326141444; 
 Thu, 15 May 2025 09:22:21 -0700 (PDT)
Received: from postal.iol.unh.edu (postal.iol.unh.edu.
 [2606:4100:3880:1234::84]) by smtp-relay.gmail.com with ESMTPS id
 41be03b00d2f7-b26eafb1865sm11763a12.16.2025.05.15.09.22.21
 (version=TLS1_2 cipher=ECDHE-ECDSA-AES128-GCM-SHA256 bits=128/128);
 Thu, 15 May 2025 09:22:21 -0700 (PDT)
X-Relaying-Domain: iol.unh.edu
Date: Thu, 15 May 2025 09:22:21 -0700 (PDT)
Message-ID: <682614bd.630a0220.f2f43.0a82SMTPIN_ADDED_MISSING@mx.google.com>
Received: from [172.21.0.7] (unknown [172.18.0.240])
 by postal.iol.unh.edu (Postfix) with ESMTP id AD0876052471;
 Thu, 15 May 2025 12:22:20 -0400 (EDT)
Subject: |SUCCESS| pw153448 [PATCH] vhost/crypto: fix uninitialized variable
From: dpdklab@iol.unh.edu
To: Test Report <test-report@dpdk.org>
Cc: dpdk-test-reports@iol.unh.edu
In-Reply-To: <20250515081004.1742-1-gmuthukrishn@marvell.com>
References: <20250515081004.1742-1-gmuthukrishn@marvell.com>
Content-Type: text/plain
X-BeenThere: test-report@dpdk.org
X-Mailman-Version: 2.1.29
Precedence: list
List-Id: automatic DPDK test reports <test-report.dpdk.org>
List-Unsubscribe: <https://mails.dpdk.org/options/test-report>,
 <mailto:test-report-request@dpdk.org?subject=unsubscribe>
List-Archive: <http://mails.dpdk.org/archives/test-report/>
List-Post: <mailto:test-report@dpdk.org>
List-Help: <mailto:test-report-request@dpdk.org?subject=help>
List-Subscribe: <https://mails.dpdk.org/listinfo/test-report>,
 <mailto:test-report-request@dpdk.org?subject=subscribe>
Errors-To: test-report-bounces@dpdk.org

Test-Label: iol-compile-arm64-testing
Test-Status: SUCCESS
http://dpdk.org/patch/153448

_Testing PASS_

Submitter: Gowrishankar Muthukrishnan <gmuthukrishn@marvell.com>
Date: Thursday, May 15 2025 08:10:01 
DPDK git baseline: Repo:dpdk
  Branch: master
  CommitID:42417cbc1615f56fce1927b655bfe0d2f72c18aa

153448 --> testing pass

Upstream job id: Generic-DPDK-Compile-Meson#388116

Test environment and result as below:

+----------------------------------------+--------------------+
|              Environment               | dpdk_meson_compile |
+========================================+====================+
| RHEL9 (ARM)                            | PASS               |
+----------------------------------------+--------------------+
| Ubuntu 20.04 ARM GCC Cross Compile     | PASS               |
+----------------------------------------+--------------------+
| Ubuntu 20.04 ARM SVE                   | PASS               |
+----------------------------------------+--------------------+
| Debian 12 with MUSDK                   | PASS               |
+----------------------------------------+--------------------+
| Fedora 41 (ARM)                        | PASS               |
+----------------------------------------+--------------------+
| Fedora 40 (ARM Clang)                  | PASS               |
+----------------------------------------+--------------------+
| Fedora 40 (ARM)                        | PASS               |
+----------------------------------------+--------------------+
| Ubuntu 20.04 (ARM)                     | PASS               |
+----------------------------------------+--------------------+
| Ubuntu 22.04 (ARM)                     | PASS               |
+----------------------------------------+--------------------+
| Fedora 41 (ARM Clang)                  | PASS               |
+----------------------------------------+--------------------+
| Ubuntu 24.04 (ARM)                     | PASS               |
+----------------------------------------+--------------------+
| CentOS Stream 9 (ARM)                  | PASS               |
+----------------------------------------+--------------------+
| Debian 12 (arm)                        | PASS               |
+----------------------------------------+--------------------+
| CentOS Stream 10 (ARM)                 | PASS               |
+----------------------------------------+--------------------+
| Ubuntu 20.04 ARM Clang Cross Compile   | PASS               |
+----------------------------------------+--------------------+
| Ubuntu 20.04 aarch32 GCC Cross Compile | PASS               |
+----------------------------------------+--------------------+


RHEL9 (ARM)
	Kernel: Depends on container host
	Compiler: gcc 11.5.0 20240719 (Red Hat 11.5.0-2)

Ubuntu 20.04 ARM GCC Cross Compile
	Kernel: Depends on container host
	Compiler: aarch64-linux-gnu-gcc (Ubuntu 9.4.0-1ubuntu1~20.04.2) 9.4.0

Ubuntu 20.04 ARM SVE
	Kernel: Depends on container host
	Compiler: gcc (Ubuntu 10.5.0-1ubuntu1~20.04) 10.5.0

Debian 12 with MUSDK
	Kernel: Depends on container host
	Compiler: gcc (Debian 12.2.0-14) 12.2.0

Fedora 41 (ARM)
	Kernel: Depends on container host
	Compiler: gcc 14.2.1 20240912 (Red Hat 14.2.1-3)

Fedora 40 (ARM Clang)
	Kernel: Depends on container host
	Compiler: clang 18.1.8 (Fedora 18.1.8-1.fc40)

Fedora 40 (ARM)
	Kernel: Depends on container host
	Compiler: gcc 14.2.1 20240912 (Red Hat 14.2.1-3)

Ubuntu 20.04 (ARM)
	Kernel: Depends on container host
	Compiler: gcc (Ubuntu 9.4.0-1ubuntu1~20.04.2) 9.4.0

Ubuntu 22.04 (ARM)
	Kernel: Depends on container host
	Compiler: gcc (Ubuntu 11.4.0-1ubuntu1~22.04) 11.4.0

Fedora 41 (ARM Clang)
	Kernel: Depends on container host
	Compiler: clang 19.1.5 (Fedora 19.1.5-1.fc41)

Ubuntu 24.04 (ARM)
	Kernel: Depends on container host
	Compiler: gcc (Ubuntu 13.3.0-6ubuntu2~24.04) 13.3.0

CentOS Stream 9 (ARM)
	Kernel: Depends on container host
	Compiler: gcc 11.5.0 20240719 (Red Hat 11.5.0-2)

Debian 12 (arm)
	Kernel: Depends on container host
	Compiler: gcc (Debian 12.2.0-14) 12.2.0

CentOS Stream 10 (ARM)
	Kernel: Depends on container host
	Compiler: gcc 14.2.1 20241104 (Red Hat 14.2.1-6)

Ubuntu 20.04 ARM Clang Cross Compile
	Kernel: Depends on container host
	Compiler: clang 10.0.0-4ubuntu1

Ubuntu 20.04 aarch32 GCC Cross Compile
	Kernel: Depends on container host
	Compiler: gcc 9.4.0

To view detailed results, visit:
https://lab.dpdk.org/results/dashboard/patchsets/33179/

UNH-IOL DPDK Community Lab

To manage your email subscriptions, visit: 
https://lab.dpdk.org/results/dashboard/preferences/subscriptions/