From mboxrd@z Thu Jan 1 00:00:00 1970 Return-Path: Received: from mails.dpdk.org (mails.dpdk.org [217.70.189.124]) by inbox.dpdk.org (Postfix) with ESMTP id 6B27746756 for ; Thu, 15 May 2025 18:24:04 +0200 (CEST) Received: from mails.dpdk.org (localhost [127.0.0.1]) by mails.dpdk.org (Postfix) with ESMTP id 5B1C140ECF; Thu, 15 May 2025 18:24:04 +0200 (CEST) Received: from mail-il1-f225.google.com (mail-il1-f225.google.com [209.85.166.225]) by mails.dpdk.org (Postfix) with ESMTP id C428A40E03 for ; Thu, 15 May 2025 18:24:02 +0200 (CEST) Received: by mail-il1-f225.google.com with SMTP id e9e14a558f8ab-3da74959554so3377015ab.2 for ; Thu, 15 May 2025 09:24:02 -0700 (PDT) DKIM-Signature: v=1; a=rsa-sha256; c=relaxed/relaxed; d=iol.unh.edu; s=unh-iol; t=1747326242; x=1747931042; darn=dpdk.org; h=references:in-reply-to:cc:to:from:subject:message-id:date:from:to :cc:subject:date:message-id:reply-to; bh=XocJS+31XLiZE5l0OZY/w/E6Iz0O6ksGf8tYJCOsCwA=; b=cF7ldwZddhgLppEvmIFp3mqkS0sc1lHLYetRaiASwdo58sGXbVaq0/eXnQpgn/Vs2b vlvxZG3ckklSfZt41c0KUfxX7llsuCsRrs0HI6wmw/oDVvaXmCmRi/usoYuSOIa1Nauo iHlun23d+6j+7XA/ZCWjSywRY2l/KZVZeKtC4= X-Google-DKIM-Signature: v=1; a=rsa-sha256; c=relaxed/relaxed; d=1e100.net; s=20230601; t=1747326242; x=1747931042; h=references:in-reply-to:cc:to:from:subject:message-id:date :x-gm-message-state:from:to:cc:subject:date:message-id:reply-to; bh=XocJS+31XLiZE5l0OZY/w/E6Iz0O6ksGf8tYJCOsCwA=; b=gDYlTLOLkbP4vwyCEzUXIqHstuuFIKsdEjwJmYKIXeP/6kgd0QueO+6a6/5JhqNof+ v/GOqukQvFwAKym5Umxy9ULK8fYO6KwCIAmNMe/LKtCgo/wrMeH32VZu7p9uuKvx2Lxx ianinQWgbic2bI6zDSfSpxTpaBDFctWak07ZoiHzLl2+Gq+me79hrk/8AuZCLoNeMvXW g4HaV90SN1C0tvSHivuNWpOnk/jEn/Lv+CMIwkV4BASs1Y0m1iCiyz6ED2r1oiidYjYv WC35YU03Q3O7Xp1CzpwI+Rnam88ejiCk+EtewTJAlBwzwZPt+E937oZztiysgFwO8CHz PyiA== X-Gm-Message-State: AOJu0Yx+nLh91/ejiLoC8uQlZFj/3uVoe6FLjnsvNS6M6v6sxlZmGMBv QI/6AIu7LQOBR++gT02Wj3m2NhIlviYBz2hRjhYxZaFNpiWCE482MVtCNfwyGPM3fy5L6qsEbRD TaAtAxUgBBtiVdi08Da4a1Fgqpdi0QGFQicLegEf94hxs5duGLK3u9yA29a7E X-Gm-Gg: ASbGncshEauTTzqZhY4P6veYjIezJbb6C/Wp+iuPQXiatIo9rqe7ZUD0uW0osOr7Blr McD+TMeq+ZKRoFUfZ8rTnqr8r47SveV6iFAgqc4em0oIMU0Mj1Bbo9tdzkzxbOP3kp/k41ZDhtf wKdQhZxBTKs0XxItlfzeyya9+Y4ptPbfuxRv8sMeTA1GVC/QzeqE8Hb099kzm/MpPaT0XJxBbYF iEN2h+NmUHFZg1rRhJ/8WoKeT/D4ODIm3E28stofzbGY0vF11c91oWgdw5+drQI9Xb1tbyxNABh IoX2yMGZ9O5vtXANMGSwpGRlXsqJYjLscFNH X-Google-Smtp-Source: AGHT+IFQ3Hpo2pVkg5cdfQ00pxSMhcGu4oE4JC9i20Ck/L07+m3XwoZ949le/hCdMKjzFMtw1bPmei1DcwMd X-Received: by 2002:a92:ca0d:0:b0:3d8:975:b808 with SMTP id e9e14a558f8ab-3db842e8b40mr5071675ab.5.1747326241984; Thu, 15 May 2025 09:24:01 -0700 (PDT) Received: from postal.iol.unh.edu (postal.iol.unh.edu. [2606:4100:3880:1234::84]) by smtp-relay.gmail.com with ESMTPS id e9e14a558f8ab-3db8440c97dsm42385ab.12.2025.05.15.09.24.01 (version=TLS1_2 cipher=ECDHE-ECDSA-AES128-GCM-SHA256 bits=128/128); Thu, 15 May 2025 09:24:01 -0700 (PDT) X-Relaying-Domain: iol.unh.edu Date: Thu, 15 May 2025 09:24:01 -0700 (PDT) Message-ID: <68261521.050a0220.5ce53.036eSMTPIN_ADDED_MISSING@mx.google.com> Received: from [172.21.0.5] (unknown [172.18.0.240]) by postal.iol.unh.edu (Postfix) with ESMTP id 97D516052471; Thu, 15 May 2025 12:24:01 -0400 (EDT) Subject: |SUCCESS| pw153445 [PATCH] crypto/cnxk: fix out-of-bounds access From: dpdklab@iol.unh.edu To: Test Report Cc: dpdk-test-reports@iol.unh.edu In-Reply-To: <20250515080528.1644-1-gmuthukrishn@marvell.com> References: <20250515080528.1644-1-gmuthukrishn@marvell.com> Content-Type: text/plain X-BeenThere: test-report@dpdk.org X-Mailman-Version: 2.1.29 Precedence: list List-Id: automatic DPDK test reports List-Unsubscribe: , List-Archive: List-Post: List-Help: List-Subscribe: , Errors-To: test-report-bounces@dpdk.org Test-Label: iol-unit-arm64-testing Test-Status: SUCCESS http://dpdk.org/patch/153445 _Testing PASS_ Submitter: Gowrishankar Muthukrishnan Date: Thursday, May 15 2025 08:05:25 DPDK git baseline: Repo:dpdk Branch: master CommitID:ca1690ebd224f148268285b15b97441ccdbdd07e 153445 --> testing pass Upstream job id: Generic-Unit-Test-DPDK#337986 Test environment and result as below: +-----------------------------+--------------+---------------------------+------------------------------+----------------+ | Environment | lpm_autotest | cryptodev_sw_zuc_autotest | cryptodev_sw_snow3g_autotest | dpdk_unit_test | +=============================+==============+===========================+==============================+================+ | Ubuntu 20.04 ARM SVE | PASS | SKIPPED | SKIPPED | SKIPPED | +-----------------------------+--------------+---------------------------+------------------------------+----------------+ | Debian 12 (arm) | SKIPPED | PASS | PASS | PASS | +-----------------------------+--------------+---------------------------+------------------------------+----------------+ | CentOS Stream 9 (ARM) | SKIPPED | SKIPPED | SKIPPED | PASS | +-----------------------------+--------------+---------------------------+------------------------------+----------------+ | CentOS Stream 10 (ARM) | SKIPPED | SKIPPED | SKIPPED | PASS | +-----------------------------+--------------+---------------------------+------------------------------+----------------+ | Fedora 40 (ARM Clang) | SKIPPED | SKIPPED | SKIPPED | PASS | +-----------------------------+--------------+---------------------------+------------------------------+----------------+ | Fedora 41 (ARM Clang) | SKIPPED | SKIPPED | SKIPPED | PASS | +-----------------------------+--------------+---------------------------+------------------------------+----------------+ | Fedora 40 (ARM) | SKIPPED | SKIPPED | SKIPPED | PASS | +-----------------------------+--------------+---------------------------+------------------------------+----------------+ | Ubuntu 22.04 (ARM) | SKIPPED | SKIPPED | SKIPPED | PASS | +-----------------------------+--------------+---------------------------+------------------------------+----------------+ | Fedora 41 (ARM) | SKIPPED | SKIPPED | SKIPPED | PASS | +-----------------------------+--------------+---------------------------+------------------------------+----------------+ | Ubuntu 20.04 (ARM) | SKIPPED | SKIPPED | SKIPPED | PASS | +-----------------------------+--------------+---------------------------+------------------------------+----------------+ | RHEL9 (ARM) | SKIPPED | SKIPPED | SKIPPED | PASS | +-----------------------------+--------------+---------------------------+------------------------------+----------------+ | Ubuntu 24.04 (ARM) | SKIPPED | SKIPPED | SKIPPED | PASS | +-----------------------------+--------------+---------------------------+------------------------------+----------------+ | 32-bit Ubuntu 22.04.4 (ARM) | SKIPPED | SKIPPED | SKIPPED | PASS | +-----------------------------+--------------+---------------------------+------------------------------+----------------+ Ubuntu 20.04 ARM SVE Kernel: Depends on container host Compiler: gcc (Ubuntu 10.5.0-1ubuntu1~20.04) 10.5.0 Debian 12 (arm) Kernel: Depends on container host Compiler: gcc (Debian 12.2.0-14) 12.2.0 CentOS Stream 9 (ARM) Kernel: Depends on container host Compiler: gcc 11.5.0 20240719 (Red Hat 11.5.0-2) CentOS Stream 10 (ARM) Kernel: Depends on container host Compiler: gcc 14.2.1 20241104 (Red Hat 14.2.1-6) Fedora 40 (ARM Clang) Kernel: Depends on container host Compiler: clang 18.1.8 (Fedora 18.1.8-1.fc40) Fedora 41 (ARM Clang) Kernel: Depends on container host Compiler: clang 19.1.5 (Fedora 19.1.5-1.fc41) Fedora 40 (ARM) Kernel: Depends on container host Compiler: gcc 14.2.1 20240912 (Red Hat 14.2.1-3) Ubuntu 22.04 (ARM) Kernel: Depends on container host Compiler: gcc (Ubuntu 11.4.0-1ubuntu1~22.04) 11.4.0 Fedora 41 (ARM) Kernel: Depends on container host Compiler: gcc 14.2.1 20240912 (Red Hat 14.2.1-3) Ubuntu 20.04 (ARM) Kernel: Depends on container host Compiler: gcc (Ubuntu 9.4.0-1ubuntu1~20.04.2) 9.4.0 RHEL9 (ARM) Kernel: Depends on container host Compiler: gcc 11.5.0 20240719 (Red Hat 11.5.0-2) Ubuntu 24.04 (ARM) Kernel: Depends on container host Compiler: gcc (Ubuntu 13.3.0-6ubuntu2~24.04) 13.3.0 32-bit Ubuntu 22.04.4 (ARM) Kernel: 5.15.83+ aarch64 Compiler: gcc (Ubuntu 11.4.0-1ubuntu1~22.04) 11.4.0 To view detailed results, visit: https://lab.dpdk.org/results/dashboard/patchsets/33176/ UNH-IOL DPDK Community Lab To manage your email subscriptions, visit: https://lab.dpdk.org/results/dashboard/preferences/subscriptions/