From mboxrd@z Thu Jan 1 00:00:00 1970 Return-Path: Received: from mails.dpdk.org (mails.dpdk.org [217.70.189.124]) by inbox.dpdk.org (Postfix) with ESMTP id 76FD246756 for ; Thu, 15 May 2025 18:34:23 +0200 (CEST) Received: from mails.dpdk.org (localhost [127.0.0.1]) by mails.dpdk.org (Postfix) with ESMTP id 6F75340ECF; Thu, 15 May 2025 18:34:23 +0200 (CEST) Received: from mail-oo1-f99.google.com (mail-oo1-f99.google.com [209.85.161.99]) by mails.dpdk.org (Postfix) with ESMTP id 9BF9940E03 for ; Thu, 15 May 2025 18:34:21 +0200 (CEST) Received: by mail-oo1-f99.google.com with SMTP id 006d021491bc7-605f7d3216bso409839eaf.1 for ; Thu, 15 May 2025 09:34:21 -0700 (PDT) DKIM-Signature: v=1; a=rsa-sha256; c=relaxed/relaxed; d=iol.unh.edu; s=unh-iol; t=1747326861; x=1747931661; darn=dpdk.org; h=references:in-reply-to:cc:to:from:subject:message-id:date:from:to :cc:subject:date:message-id:reply-to; bh=R2vcM1r2mJxqMYd0MKOjS1O6CRXI8VwJauVJokbPd+I=; b=ZA1GflrmFRYlJoYTDa3SaNNHPeZcQ9OwMlBOXVo49zUNMc3wiL/cS+W2jtwg943PSN x9NiYo6yzYRZvb3hzb/KJz8V1yTa7caUDhhIJcTFtU2e2/j3kKs2uDZa87i1xg557gdN JF+/YgJ1ptDtsenZLFgsWSnqlUmOvbw0kgoiI= X-Google-DKIM-Signature: v=1; a=rsa-sha256; c=relaxed/relaxed; d=1e100.net; s=20230601; t=1747326861; x=1747931661; h=references:in-reply-to:cc:to:from:subject:message-id:date :x-gm-message-state:from:to:cc:subject:date:message-id:reply-to; bh=R2vcM1r2mJxqMYd0MKOjS1O6CRXI8VwJauVJokbPd+I=; b=DVu1aT3Q1On7asQ8LMRDyUnaKSVUNwm9RUyF0fkDVEahBSoDv7Dz4ugRWAQFtqT6yO S3iJv5cUPi6Bjy/Xc67f8z0G8I/b+GOc/jmph+coR/5+J7Sp3qUyEgmmfrURrRv3fTr5 rkisfO+n2usJtJSEcetH2st4rkCDK6a9fXHH5Xmzu1VzS01cd94ntoIlGfjxOGYY4lGI iiBg9lQCFnGo3Mj+9DXzWK4upKnuWTRpktZAhbLYrUsix36VjjkxXK7cUGoriSoVbtqH /UbNvV8LgeWizvdbHLoSmzDRDsbSt/sE2knUGr797cQcm1s0jQ545UcbXdwM3mW1INbK IWxw== X-Gm-Message-State: AOJu0YyTCq9MsDAmV1j+tFQp6fbQCKq6AW13q5Zd6YVsPStpeT4ya4r1 4Woico9jTnkI5jypPCGJcfee7nznzypwTJxp5mZU1JaUnWpoGKb3H7epraE+N1b4N3piUjszrvV ZY+FTxXRRpx7PRAFBho84G9LumbjuuJoJ/lpZq87kvlof X-Gm-Gg: ASbGncsZYXf6p0n9/wLYzz314o7gQXyXzC5DCAgV2hUAZYlh3LkRuCrEPlPnW54YoFt CNZQRNclZl0VLz8iqEH7Jkxc/bxv6zste2fkDDFNb4ng9553pOOnBuRbvqRzaAxy84E7Mjvd96S vh8c3DzWEryUVlWB6GTJlVG9sy4bP9lx74ag5KqoIxAvjMl2uBy/NpOar/2QgqsnHmChrNUqR2C rtUVfWOhJM6mQ+zvoH3MS8EjmpF87RsNwmOINE1jSM3mbwCJoYWaLW+kWcDQWzNP+g7y2DWF22O d8eURMvKTgGfSA4f+W7wBM4wMiCeql+uRBf93MBeM77TO4bNX/zxYp71XKg= X-Google-Smtp-Source: AGHT+IG7bYlWXZNY6ddiPam+xH1y4em+pn599DFfJumugsOp/c4+FSDaXh0f71rhiPaW3whiLv/zv/uVKxFq X-Received: by 2002:a4a:e915:0:b0:603:f973:1b3 with SMTP id 006d021491bc7-609f3616b71mr118474eaf.0.1747326860809; Thu, 15 May 2025 09:34:20 -0700 (PDT) Received: from postal.iol.unh.edu (postal.iol.unh.edu. [132.177.123.84]) by smtp-relay.gmail.com with ESMTPS id 006d021491bc7-609f310b18asm5620eaf.22.2025.05.15.09.34.20 (version=TLS1_2 cipher=ECDHE-ECDSA-AES128-GCM-SHA256 bits=128/128); Thu, 15 May 2025 09:34:20 -0700 (PDT) X-Relaying-Domain: iol.unh.edu Date: Thu, 15 May 2025 09:34:20 -0700 (PDT) Message-ID: <6826178c.050a0220.390e18.04c9SMTPIN_ADDED_MISSING@mx.google.com> Received: from [172.21.0.8] (unknown [172.18.0.240]) by postal.iol.unh.edu (Postfix) with ESMTP id 48C406052471; Thu, 15 May 2025 12:34:20 -0400 (EDT) Subject: |SUCCESS| pw153446 [PATCH] crypto/cnxk: fix uninitialized scalar var From: dpdklab@iol.unh.edu To: Test Report Cc: dpdk-test-reports@iol.unh.edu In-Reply-To: <20250515080632.1676-1-gmuthukrishn@marvell.com> References: <20250515080632.1676-1-gmuthukrishn@marvell.com> Content-Type: text/plain X-BeenThere: test-report@dpdk.org X-Mailman-Version: 2.1.29 Precedence: list List-Id: automatic DPDK test reports List-Unsubscribe: , List-Archive: List-Post: List-Help: List-Subscribe: , Errors-To: test-report-bounces@dpdk.org Test-Label: iol-unit-amd64-testing Test-Status: SUCCESS http://dpdk.org/patch/153446 _Testing PASS_ Submitter: Gowrishankar Muthukrishnan Date: Thursday, May 15 2025 08:06:29 DPDK git baseline: Repo:dpdk Branch: master CommitID:ca1690ebd224f148268285b15b97441ccdbdd07e 153446 --> testing pass Upstream job id: Generic-VM-Unit-Test-DPDK#28533 Test environment and result as below: +---------------------+----------------+ | Environment | dpdk_unit_test | +=====================+================+ | Fedora 40 (Clang) | PASS | +---------------------+----------------+ | Fedora 40 | PASS | +---------------------+----------------+ | Debian 12 | PASS | +---------------------+----------------+ | CentOS Stream 9 | PASS | +---------------------+----------------+ | CentOS Stream 10 | PASS | +---------------------+----------------+ | Fedora 41 | PASS | +---------------------+----------------+ | RHEL8 | PASS | +---------------------+----------------+ | Fedora 41 (Clang) | PASS | +---------------------+----------------+ | Ubuntu 20.04 | PASS | +---------------------+----------------+ | Ubuntu 22.04 | PASS | +---------------------+----------------+ | RHEL9 | PASS | +---------------------+----------------+ | Ubuntu 24.04 | PASS | +---------------------+----------------+ | Windows Server 2022 | PASS | +---------------------+----------------+ Fedora 40 (Clang) Kernel: Depends on container host Compiler: clang 18.1.8 (Fedora 18.1.8-1.fc40) Fedora 40 Kernel: Depends on container host Compiler: gcc 14.2.1 20240912 (Red Hat 14.2.1-3) Debian 12 Kernel: Depends on container host Compiler: gcc (Debian 12.2.0-14) 12.2.0 CentOS Stream 9 Kernel: Depends on container host Compiler: gcc 11.5.0 20240719 (Red Hat 11.5.0-2) CentOS Stream 10 Kernel: Depends on container host Compiler: gcc 14.2.1 20241104 (Red Hat 14.2.1-6) Fedora 41 Kernel: Depends on container host Compiler: gcc 14.2.1 20240912 (Red Hat 14.2.1-3) RHEL8 Kernel: Depends on container host Compiler: gcc 8.5.0 20210514 (Red Hat 8.5.0-22) Fedora 41 (Clang) Kernel: Depends on container host Compiler: clang 19.1.5 (Fedora 19.1.5-1.fc41) Ubuntu 20.04 Kernel: Depends on container host Compiler: gcc (Ubuntu 9.4.0-1ubuntu1~20.04.2) 9.4.0 Ubuntu 22.04 Kernel: Depends on container host Compiler: gcc (Ubuntu 11.4.0-1ubuntu1~22.04) 11.4.0 RHEL9 Kernel: Depends on container host Compiler: gcc 11.5.0 20240719 (Red Hat 11.5.0-2) Ubuntu 24.04 Kernel: Depends on container host Compiler: gcc (Ubuntu 13.3.0-6ubuntu2~24.04) 13.3.0 Windows Server 2022 Kernel: 10.0.20348.2031 Compiler: clang 15.0.7, gcc 14.1.0 (MinGW), and MSVC VS 19.39.33521 To view detailed results, visit: https://lab.dpdk.org/results/dashboard/patchsets/33177/ UNH-IOL DPDK Community Lab To manage your email subscriptions, visit: https://lab.dpdk.org/results/dashboard/preferences/subscriptions/