From mboxrd@z Thu Jan 1 00:00:00 1970 Return-Path: Received: from mails.dpdk.org (mails.dpdk.org [217.70.189.124]) by inbox.dpdk.org (Postfix) with ESMTP id CA0ED46756 for ; Thu, 15 May 2025 18:36:37 +0200 (CEST) Received: from mails.dpdk.org (localhost [127.0.0.1]) by mails.dpdk.org (Postfix) with ESMTP id A79D340ECF; Thu, 15 May 2025 18:36:37 +0200 (CEST) Received: from mail-ot1-f99.google.com (mail-ot1-f99.google.com [209.85.210.99]) by mails.dpdk.org (Postfix) with ESMTP id C4BD240E03 for ; Thu, 15 May 2025 18:36:35 +0200 (CEST) Received: by mail-ot1-f99.google.com with SMTP id 46e09a7af769-72ec926e828so455322a34.0 for ; Thu, 15 May 2025 09:36:35 -0700 (PDT) DKIM-Signature: v=1; a=rsa-sha256; c=relaxed/relaxed; d=iol.unh.edu; s=unh-iol; t=1747326995; x=1747931795; darn=dpdk.org; h=references:in-reply-to:cc:to:from:subject:message-id:date:from:to :cc:subject:date:message-id:reply-to; bh=PBjm2oBVnmkSBlI2+K6E3TCn3zlP+5wVczusJ7tXVWA=; b=fkZs2X4/lpqTBryUQteLwQuKDn1m5M18Op5jD2/K/srwJ+w6XL8AtC3k5JWUITd02j imNgclS/cXU0tx7tW4qitYKzKLAP1LCkBgybGMJ7AB0vPCwYxv+TYRa1jslbW+g65IZd 2Lfxx7FMYjJP1TtZ3P0mmrSHiLzhiJdJrgxQg= X-Google-DKIM-Signature: v=1; a=rsa-sha256; c=relaxed/relaxed; d=1e100.net; s=20230601; t=1747326995; x=1747931795; h=references:in-reply-to:cc:to:from:subject:message-id:date :x-gm-message-state:from:to:cc:subject:date:message-id:reply-to; bh=PBjm2oBVnmkSBlI2+K6E3TCn3zlP+5wVczusJ7tXVWA=; b=Zjyr3mV7ViTJfo3YAuZ30SrRWhtkTObl2SLd6sShyKM0PYntWrFa79PZSXuG/2iys7 TewSpjR+ZqX96i9bASpedpf8kfoMmwt8umDMSuNFUzgOCV6lX+lFUA3qgI2+ZxHq4s/8 Q3TPzpvGEHf30PihfsYAwpyzgRTy7W3/CIXDX4+dFEfHsPkeS3fpHEHTvIMxWkPH9rX4 DryJes0YB01231WCt2NHy3xNBUf+44tYhfPuDR8uXwd2fFmIjaYgEsLjuDRggDQj969r JeUgN/Pj3WQH2xlGy3xT21LC6B2jlr1Ok3xpAZvHoCbbKHRXQjfKOM7LFUzf1g/1Bk5r CtPA== X-Gm-Message-State: AOJu0YxRyFy31Ydr2USKyzM/5zC722WpzimV0BI56KKO3U7LR1jT9wVM KyURl4H0WsIaSCMEdwpVmBdOhnODmcoy5ApzFfatIJzg0lqjgm0pH0l4ke3cN2UVDGHN5Nh1jIg eSanYMOP+6/H97sM/J6GsY7lM+bALbsvm63tYciAkVivPiilR2Ek9EfvUA5yv X-Gm-Gg: ASbGncvdcxDjxGbbY6cWB30vUz40SSOo64XHAPW2nziL8qf5nic4RAMi1/Wa0wtFhzy NtMzqa2lXmB+OY4Za3rrDIjiAat+AhJ+hcqMOHB6S6xko6teZ4iLtWLKmy3XwHQLoJZyevRz7TJ bpQv6H7rbHpuOrZJdpph/MDrXn5tcR7Y2++c44zO9z/m9HL5tei/Yvkg3/bTmvg3FUBopNY1N+7 QUeGwq3n7K3zCLdgYlDTCubrpYcNoTchaG/JM3BIeukaGJCmcHCH5BBeoD6OQ0TYErAYf03Lhsq 7bQgFMTc+vgGkUHI6RvQ+tBuVi08P3JVUGfT X-Google-Smtp-Source: AGHT+IHZO0Zk5VKl7KVXBFEI7mjdB/ihTnr0rlq9Lvd/TmqbEN2DENQWNJLSJdZp9eXc5X97HV8gWQRIQQ8U X-Received: by 2002:a05:6871:4191:b0:29e:5897:e9d1 with SMTP id 586e51a60fabf-2e3c1f3ccf4mr61553fac.39.1747326994674; Thu, 15 May 2025 09:36:34 -0700 (PDT) Received: from postal.iol.unh.edu (postal.iol.unh.edu. [2606:4100:3880:1234::84]) by smtp-relay.gmail.com with ESMTPS id 586e51a60fabf-2e3c0bc0290sm6800fac.30.2025.05.15.09.36.34 (version=TLS1_2 cipher=ECDHE-ECDSA-AES128-GCM-SHA256 bits=128/128); Thu, 15 May 2025 09:36:34 -0700 (PDT) X-Relaying-Domain: iol.unh.edu Date: Thu, 15 May 2025 09:36:34 -0700 (PDT) Message-ID: <68261812.050a0220.1c897d.063bSMTPIN_ADDED_MISSING@mx.google.com> Received: from [172.21.0.8] (unknown [172.18.0.240]) by postal.iol.unh.edu (Postfix) with ESMTP id 2E17C6052471; Thu, 15 May 2025 12:36:34 -0400 (EDT) Subject: |SUCCESS| pw153445 [PATCH] crypto/cnxk: fix out-of-bounds access From: dpdklab@iol.unh.edu To: Test Report Cc: dpdk-test-reports@iol.unh.edu In-Reply-To: <20250515080528.1644-1-gmuthukrishn@marvell.com> References: <20250515080528.1644-1-gmuthukrishn@marvell.com> Content-Type: text/plain X-BeenThere: test-report@dpdk.org X-Mailman-Version: 2.1.29 Precedence: list List-Id: automatic DPDK test reports List-Unsubscribe: , List-Archive: List-Post: List-Help: List-Subscribe: , Errors-To: test-report-bounces@dpdk.org Test-Label: iol-abi-testing Test-Status: SUCCESS http://dpdk.org/patch/153445 _Testing PASS_ Submitter: Gowrishankar Muthukrishnan Date: Thursday, May 15 2025 08:05:25 DPDK git baseline: Repo:dpdk Branch: master CommitID:ca1690ebd224f148268285b15b97441ccdbdd07e 153445 --> testing pass Upstream job id: Generic-DPDK-Compile-ABI#126462 Test environment and result as below: +-------------------+----------+ | Environment | abi_test | +===================+==========+ | CentOS Stream 9 | PASS | +-------------------+----------+ | CentOS Stream 10 | PASS | +-------------------+----------+ | Debian 12 | PASS | +-------------------+----------+ | Fedora 41 (Clang) | PASS | +-------------------+----------+ | Fedora 40 (Clang) | PASS | +-------------------+----------+ | Fedora 40 | PASS | +-------------------+----------+ | Fedora 41 | PASS | +-------------------+----------+ | openSUSE Leap 15 | PASS | +-------------------+----------+ | RHEL8 | PASS | +-------------------+----------+ | RHEL9 | PASS | +-------------------+----------+ | Ubuntu 22.04 | PASS | +-------------------+----------+ | Ubuntu 24.04 | PASS | +-------------------+----------+ CentOS Stream 9 Kernel: Depends on container host Compiler: gcc 11.5.0 20240719 (Red Hat 11.5.0-2) CentOS Stream 10 Kernel: Depends on container host Compiler: gcc 14.2.1 20241104 (Red Hat 14.2.1-6) Debian 12 Kernel: Depends on container host Compiler: gcc (Debian 12.2.0-14) 12.2.0 Fedora 41 (Clang) Kernel: Depends on container host Compiler: clang 19.1.5 (Fedora 19.1.5-1.fc41) Fedora 40 (Clang) Kernel: Depends on container host Compiler: clang 18.1.8 (Fedora 18.1.8-1.fc40) Fedora 40 Kernel: Depends on container host Compiler: gcc 14.2.1 20240912 (Red Hat 14.2.1-3) Fedora 41 Kernel: Depends on container host Compiler: gcc 14.2.1 20240912 (Red Hat 14.2.1-3) openSUSE Leap 15 Kernel: Depends on container host Compiler: gcc (SUSE Linux) 7.5.0 RHEL8 Kernel: Depends on container host Compiler: gcc 8.5.0 20210514 (Red Hat 8.5.0-22) RHEL9 Kernel: Depends on container host Compiler: gcc 11.5.0 20240719 (Red Hat 11.5.0-2) Ubuntu 22.04 Kernel: Depends on container host Compiler: gcc (Ubuntu 11.4.0-1ubuntu1~22.04) 11.4.0 Ubuntu 24.04 Kernel: Depends on container host Compiler: gcc (Ubuntu 13.3.0-6ubuntu2~24.04) 13.3.0 To view detailed results, visit: https://lab.dpdk.org/results/dashboard/patchsets/33176/ UNH-IOL DPDK Community Lab To manage your email subscriptions, visit: https://lab.dpdk.org/results/dashboard/preferences/subscriptions/