From mboxrd@z Thu Jan 1 00:00:00 1970 Return-Path: Received: from mails.dpdk.org (mails.dpdk.org [217.70.189.124]) by inbox.dpdk.org (Postfix) with ESMTP id 6AE2046756 for ; Thu, 15 May 2025 18:43:31 +0200 (CEST) Received: from mails.dpdk.org (localhost [127.0.0.1]) by mails.dpdk.org (Postfix) with ESMTP id 62B4840ECF; Thu, 15 May 2025 18:43:31 +0200 (CEST) Received: from mail-pl1-f226.google.com (mail-pl1-f226.google.com [209.85.214.226]) by mails.dpdk.org (Postfix) with ESMTP id 9ED6E40E03 for ; Thu, 15 May 2025 18:43:30 +0200 (CEST) Received: by mail-pl1-f226.google.com with SMTP id d9443c01a7336-22c33677183so11797675ad.2 for ; Thu, 15 May 2025 09:43:30 -0700 (PDT) DKIM-Signature: v=1; a=rsa-sha256; c=relaxed/relaxed; d=iol.unh.edu; s=unh-iol; t=1747327409; x=1747932209; darn=dpdk.org; h=references:in-reply-to:cc:to:from:subject:message-id:date:from:to :cc:subject:date:message-id:reply-to; bh=m7lj7wWCQB3gnMd58/pRevkxlV5KZDsT6cU3LgUqZVY=; b=HGtfHi8rnk4NQvHQeKDpxhtIt1uQziQphbUjiizTbJxsdabwXhJSWEdgn0svuVYI5w 5uFD2yrW46zcI5Rp4ccedcdJzu9ceaHtPX6KoFNqwYZe56Z2qV2dOw1TFbNGLxoa/63M GJOBKO02791RA1WOrSdOQvh6P/EZW8SN1deHQ= X-Google-DKIM-Signature: v=1; a=rsa-sha256; c=relaxed/relaxed; d=1e100.net; s=20230601; t=1747327409; x=1747932209; h=references:in-reply-to:cc:to:from:subject:message-id:date :x-gm-message-state:from:to:cc:subject:date:message-id:reply-to; bh=m7lj7wWCQB3gnMd58/pRevkxlV5KZDsT6cU3LgUqZVY=; b=OHE4aPg3Zh7XzLnNTR0BzNGV0+qC+rnZfXwB01rBolbbuKy9G6Wpyd8jdwQuI+fzqD GM+8g8X833Kb3I9ZDcbvK2kCIHguBmSBZek9Yzi754zS+M531b/Aig5R0eZtnmlNLlSu fz3uaVF7EiFrzuqvIXN8e0NDQoERCthtX+y8vfD5+gF3JfgvqF98bzyyzwuwn0AE0x4r MJfNJm/q44dBRTLMauxdvtLAUH44wHRs8JUPJiBk6wBWLWhIEquNFUlfYMAGGzpdDKHF 7yJ8+q8vkgPiWePrjiSJuEYmVa53Unw3O9VnpAi07pq+mRDEKd4FqXzhdZWxBGbbDvzU aQsg== X-Gm-Message-State: AOJu0YwwdTHrfRzvIguIO3bx0I1ipEr8Wq6MKKrPne31oOAPttLYvKKj pRkj3p4AaOWxIESjR0opGABmxp5pjmaAx60IqLOFrerB5+ZaIczSHxKcRoxkx5Zf34ZBl8gbfxC wShpmSTkkqU2NIs+8R220yatOld/B8JjgxkrFkLWc/Ra5 X-Gm-Gg: ASbGncv0FfT0NCierPrlG/eWQdf1604V5RH10ohGwSwIg+++IiYZPikFecpiFzpAcxc YVs1yD1d80eCDpVnAULaaRXP2lkHbnrbcluXa40uQn+/Whd9qoOsLnoi/xIxFv7fUIhmtUWN1gT qCk/L1feAEa3E5ArIhY8T6tIvg5TUq9vb01Rq71c4wPJJpD62VlB4/0CNStpKiWuzzEwwQWYTTU OtCLdUNfuUT1XBaYewCjIMedtBqidYjJnikMVic4EZN+hz7iXC7mK5RFLpJIABnu49mVNtbe2QD DSlKvLhLENxRe/+KTKYwiuvNoPmzOFF2V5KdlohqMm47gKZfp+kKuNSCWws= X-Google-Smtp-Source: AGHT+IGGRd/CIL3mNCEOLUPfs40ScpMhknjuaTsFlwLj6EMAp+G96pPjYuHGEGFYxIQTVihZgjTI0iHgivVp X-Received: by 2002:a17:902:d492:b0:220:e924:99dd with SMTP id d9443c01a7336-231d4542c42mr2329795ad.34.1747327409550; Thu, 15 May 2025 09:43:29 -0700 (PDT) Received: from postal.iol.unh.edu (postal.iol.unh.edu. [132.177.123.84]) by smtp-relay.gmail.com with ESMTPS id d9443c01a7336-231d4abec3fsm7355ad.32.2025.05.15.09.43.29 (version=TLS1_2 cipher=ECDHE-ECDSA-AES128-GCM-SHA256 bits=128/128); Thu, 15 May 2025 09:43:29 -0700 (PDT) X-Relaying-Domain: iol.unh.edu Date: Thu, 15 May 2025 09:43:29 -0700 (PDT) Message-ID: <682619b1.170a0220.1aea17.0087SMTPIN_ADDED_MISSING@mx.google.com> Received: from [172.21.0.5] (unknown [172.18.0.240]) by postal.iol.unh.edu (Postfix) with ESMTP id B43C76052471; Thu, 15 May 2025 12:43:28 -0400 (EDT) Subject: |SUCCESS| pw153446 [PATCH] crypto/cnxk: fix uninitialized scalar var From: dpdklab@iol.unh.edu To: Test Report Cc: dpdk-test-reports@iol.unh.edu In-Reply-To: <20250515080632.1676-1-gmuthukrishn@marvell.com> References: <20250515080632.1676-1-gmuthukrishn@marvell.com> Content-Type: text/plain X-BeenThere: test-report@dpdk.org X-Mailman-Version: 2.1.29 Precedence: list List-Id: automatic DPDK test reports List-Unsubscribe: , List-Archive: List-Post: List-Help: List-Subscribe: , Errors-To: test-report-bounces@dpdk.org Test-Label: iol-sample-apps-testing Test-Status: SUCCESS http://dpdk.org/patch/153446 _Testing PASS_ Submitter: Gowrishankar Muthukrishnan Date: Thursday, May 15 2025 08:06:29 DPDK git baseline: Repo:dpdk Branch: master CommitID:ca1690ebd224f148268285b15b97441ccdbdd07e 153446 --> testing pass Upstream job id: ACVP-FIPS-testing#9817 Test environment and result as below: +--------------------+----------------------+----------------------+ | Environment | compressdev_zlib_pmd | dpdk_fips_validation | +====================+======================+======================+ | Ubuntu 22.04 (ARM) | PASS | SKIPPED | +--------------------+----------------------+----------------------+ | Ubuntu 22.04 | PASS | SKIPPED | +--------------------+----------------------+----------------------+ | Ubuntu 20.04 | SKIPPED | PASS | +--------------------+----------------------+----------------------+ Ubuntu 22.04 (ARM) Kernel: 5.15.0-97-generic Compiler: gcc gcc (Ubuntu 11.4.0-1ubuntu1~22.04) 11.4.0 Ubuntu 22.04 Kernel: 5.15.0-100-generic Compiler: gcc gcc (Ubuntu 11.4.0-1ubuntu1~22.04) 11.4.0 Ubuntu 20.04 Kernel: Depends on container host Compiler: gcc (Ubuntu 9.4.0-1ubuntu1~20.04.2) 9.4.0 To view detailed results, visit: https://lab.dpdk.org/results/dashboard/patchsets/33177/ UNH-IOL DPDK Community Lab To manage your email subscriptions, visit: https://lab.dpdk.org/results/dashboard/preferences/subscriptions/