From mboxrd@z Thu Jan 1 00:00:00 1970 Return-Path: Received: from mails.dpdk.org (mails.dpdk.org [217.70.189.124]) by inbox.dpdk.org (Postfix) with ESMTP id 7D47A46756 for ; Thu, 15 May 2025 19:07:22 +0200 (CEST) Received: from mails.dpdk.org (localhost [127.0.0.1]) by mails.dpdk.org (Postfix) with ESMTP id 78B2740E03; Thu, 15 May 2025 19:07:22 +0200 (CEST) Received: from mail-oo1-f98.google.com (mail-oo1-f98.google.com [209.85.161.98]) by mails.dpdk.org (Postfix) with ESMTP id 6658840A79 for ; Thu, 15 May 2025 19:07:20 +0200 (CEST) Received: by mail-oo1-f98.google.com with SMTP id 006d021491bc7-6060167af73so858030eaf.2 for ; Thu, 15 May 2025 10:07:20 -0700 (PDT) DKIM-Signature: v=1; a=rsa-sha256; c=relaxed/relaxed; d=iol.unh.edu; s=unh-iol; t=1747328839; x=1747933639; darn=dpdk.org; h=references:in-reply-to:cc:to:from:subject:message-id:date:from:to :cc:subject:date:message-id:reply-to; bh=fVa5OB3d/jw/dDEuwbkfFAE2oASKR9/p9NaApbbD3ts=; b=TvXVPr13gAZo1IhG7p+VVaGBaEZJ1C6ZYU1KCQFzyd2ysfM9vd8s3wqof47Oat+I9s 2ROcuNJHvXzVblXubh7PjhziQBmgNCCyEp2wN4twHcW6b3Xl/X49pK3uvriZV9S2PQC9 9S8HseOM6h64+20E7f/EhZU6PVBlrg6WzJSW0= X-Google-DKIM-Signature: v=1; a=rsa-sha256; c=relaxed/relaxed; d=1e100.net; s=20230601; t=1747328839; x=1747933639; h=references:in-reply-to:cc:to:from:subject:message-id:date :x-gm-message-state:from:to:cc:subject:date:message-id:reply-to; bh=fVa5OB3d/jw/dDEuwbkfFAE2oASKR9/p9NaApbbD3ts=; b=d9IhETYpy8kxjx5bHbXhGwsCSQ8NBTgbdiVx2AoG8LyvpAOAUGdZiANJPmQgW8ykVN Z9olrKl3Ja6MOiAm4cEGYjKkV+KetFAv8DB4HlV8ooaYB2NcwtqMzdZHclUlZ/L+9uUc FJbW8n6XAKJJk34IaunStz67/VMRudwXlwSym8v+6DgNv6savCMo19TJcb5zDg7QQXMO BrUXieLyh4p2sTY4mvqgNcUpcy6rmp557LzlPI4RMUyvUH9lwMC4Kk0mxDijwPqoAqZu Nt2kYR/7otnnUI+1JabCXWMT3Pvb01JhmIfr6X//3Xhfl7Qbx3L66lv1Ra+8F/0rAGiF 50dg== X-Gm-Message-State: AOJu0Yy3mU4YUGhsmKHxZ0UlyDb2R4+nM8f1l+6scwpiDX6BwFNJpZV5 0plkumQj0J6IldoAAaigG/tRqjwauziN/q0ux2hRsmdOGN+vOReJvqARHpMm3eqnIb94y0Tk2hX ZTl/LqHKXqUEBgodzUCoRHbRXYrvbecZAG4iNw8Bty9Mn X-Gm-Gg: ASbGncuPcTMayvkLa4QJo25Q5rlBRO5DueGVC8dG7v04Lej5jZwj4JHVo8TWOSbxzGO AsPQUyf3bw+qQp/amdBgOStxce9H0xYNqaU1/J1YkIfnnCmnQmnqPuIGispefZyjQb2NQGKHwS/ Yz4n8rqKhKO/jwqB8epl7oXhEeacXXsjXqey0IH4EX4bKkdUNLc2lmiYAoW59U8HpGNZv0K3WYP IL88VMjzUJ07Zp5RByEEpkFDSlBNb+zJxIozCmS4ZUQVx6MbR25JPhd8F35ZSBCeoIbKPYDRowi BAlhb3RZYd+zo0l+KizU2iA2Q5fZBqPrjGaf7PuuoNLg0qsqb5DZXUMu1jI= X-Google-Smtp-Source: AGHT+IHV7L6DkU7Y2TAZCn12oMiUSWSoD/Ret3xS82R/pFpc8wJ8WPb68RdgkTDBk1U4SuIxgcB3MtP9Mcy/ X-Received: by 2002:a05:6a21:9d83:b0:215:d4be:b0b1 with SMTP id adf61e73a8af0-216219caf2cmr410945637.32.1747328828928; Thu, 15 May 2025 10:07:08 -0700 (PDT) Received: from postal.iol.unh.edu (postal.iol.unh.edu. [132.177.123.84]) by smtp-relay.gmail.com with ESMTPS id 41be03b00d2f7-b26eafb1865sm16670a12.16.2025.05.15.10.07.08 (version=TLS1_2 cipher=ECDHE-ECDSA-AES128-GCM-SHA256 bits=128/128); Thu, 15 May 2025 10:07:08 -0700 (PDT) X-Relaying-Domain: iol.unh.edu Date: Thu, 15 May 2025 10:07:08 -0700 (PDT) Message-ID: <68261f3c.630a0220.f2f43.0faeSMTPIN_ADDED_MISSING@mx.google.com> Received: from [172.21.0.5] (unknown [172.18.0.240]) by postal.iol.unh.edu (Postfix) with ESMTP id 2ACCA6052471; Thu, 15 May 2025 13:07:08 -0400 (EDT) Subject: |SUCCESS| pw153446 [PATCH] crypto/cnxk: fix uninitialized scalar var From: dpdklab@iol.unh.edu To: Test Report Cc: dpdk-test-reports@iol.unh.edu In-Reply-To: <20250515080632.1676-1-gmuthukrishn@marvell.com> References: <20250515080632.1676-1-gmuthukrishn@marvell.com> Content-Type: text/plain X-BeenThere: test-report@dpdk.org X-Mailman-Version: 2.1.29 Precedence: list List-Id: automatic DPDK test reports List-Unsubscribe: , List-Archive: List-Post: List-Help: List-Subscribe: , Errors-To: test-report-bounces@dpdk.org Test-Label: iol-unit-amd64-testing Test-Status: SUCCESS http://dpdk.org/patch/153446 _Testing PASS_ Submitter: Gowrishankar Muthukrishnan Date: Thursday, May 15 2025 08:06:29 DPDK git baseline: Repo:dpdk Branch: master CommitID:ca1690ebd224f148268285b15b97441ccdbdd07e 153446 --> testing pass Upstream job id: Generic-VM-Unit-Test-DPDK#28534 Test environment and result as below: +---------------------+----------------+ | Environment | dpdk_unit_test | +=====================+================+ | Fedora 40 (Clang) | PASS | +---------------------+----------------+ | Fedora 40 | PASS | +---------------------+----------------+ | Debian 12 | PASS | +---------------------+----------------+ | CentOS Stream 9 | PASS | +---------------------+----------------+ | CentOS Stream 10 | PASS | +---------------------+----------------+ | Fedora 41 | PASS | +---------------------+----------------+ | RHEL8 | PASS | +---------------------+----------------+ | Fedora 41 (Clang) | PASS | +---------------------+----------------+ | Ubuntu 20.04 | PASS | +---------------------+----------------+ | Ubuntu 22.04 | PASS | +---------------------+----------------+ | RHEL9 | PASS | +---------------------+----------------+ | Ubuntu 24.04 | PASS | +---------------------+----------------+ | Windows Server 2022 | PASS | +---------------------+----------------+ Fedora 40 (Clang) Kernel: Depends on container host Compiler: clang 18.1.8 (Fedora 18.1.8-1.fc40) Fedora 40 Kernel: Depends on container host Compiler: gcc 14.2.1 20240912 (Red Hat 14.2.1-3) Debian 12 Kernel: Depends on container host Compiler: gcc (Debian 12.2.0-14) 12.2.0 CentOS Stream 9 Kernel: Depends on container host Compiler: gcc 11.5.0 20240719 (Red Hat 11.5.0-2) CentOS Stream 10 Kernel: Depends on container host Compiler: gcc 14.2.1 20241104 (Red Hat 14.2.1-6) Fedora 41 Kernel: Depends on container host Compiler: gcc 14.2.1 20240912 (Red Hat 14.2.1-3) RHEL8 Kernel: Depends on container host Compiler: gcc 8.5.0 20210514 (Red Hat 8.5.0-22) Fedora 41 (Clang) Kernel: Depends on container host Compiler: clang 19.1.5 (Fedora 19.1.5-1.fc41) Ubuntu 20.04 Kernel: Depends on container host Compiler: gcc (Ubuntu 9.4.0-1ubuntu1~20.04.2) 9.4.0 Ubuntu 22.04 Kernel: Depends on container host Compiler: gcc (Ubuntu 11.4.0-1ubuntu1~22.04) 11.4.0 RHEL9 Kernel: Depends on container host Compiler: gcc 11.5.0 20240719 (Red Hat 11.5.0-2) Ubuntu 24.04 Kernel: Depends on container host Compiler: gcc (Ubuntu 13.3.0-6ubuntu2~24.04) 13.3.0 Windows Server 2022 Kernel: 10.0.20348.2031 Compiler: clang 15.0.7, gcc 14.1.0 (MinGW), and MSVC VS 19.39.33521 To view detailed results, visit: https://lab.dpdk.org/results/dashboard/patchsets/33177/ UNH-IOL DPDK Community Lab To manage your email subscriptions, visit: https://lab.dpdk.org/results/dashboard/preferences/subscriptions/