From mboxrd@z Thu Jan 1 00:00:00 1970 Return-Path: Received: from mails.dpdk.org (mails.dpdk.org [217.70.189.124]) by inbox.dpdk.org (Postfix) with ESMTP id 190A746756 for ; Thu, 15 May 2025 19:20:38 +0200 (CEST) Received: from mails.dpdk.org (localhost [127.0.0.1]) by mails.dpdk.org (Postfix) with ESMTP id ED99E40E03; Thu, 15 May 2025 19:20:37 +0200 (CEST) Received: from mail-yw1-f226.google.com (mail-yw1-f226.google.com [209.85.128.226]) by mails.dpdk.org (Postfix) with ESMTP id C797240A79 for ; Thu, 15 May 2025 19:20:36 +0200 (CEST) Received: by mail-yw1-f226.google.com with SMTP id 00721157ae682-70a2c0e7fbbso13029067b3.2 for ; Thu, 15 May 2025 10:20:36 -0700 (PDT) DKIM-Signature: v=1; a=rsa-sha256; c=relaxed/relaxed; d=iol.unh.edu; s=unh-iol; t=1747329636; x=1747934436; darn=dpdk.org; h=references:in-reply-to:cc:to:from:subject:message-id:date:from:to :cc:subject:date:message-id:reply-to; bh=x0dHr4kVZ19RkBkWxTn2mSk5924thHb6apweDZujsxU=; b=dOn0IREVl5GmiQ2txgS5L8K8yeSuLHHQyaS5AYfEZIDgv5fEolB5rf/V/wuJOxwt8D 8xyH2WoVVVjeDiO5tWVARY4UhUEVMyHXPC6eDkn6JL6yFa3xUFluwfIdG2bhVCYVdtqa F7e7dKWIam3kDgxG+crP+np4xBi7cqSMesatY= X-Google-DKIM-Signature: v=1; a=rsa-sha256; c=relaxed/relaxed; d=1e100.net; s=20230601; t=1747329636; x=1747934436; h=references:in-reply-to:cc:to:from:subject:message-id:date :x-gm-message-state:from:to:cc:subject:date:message-id:reply-to; bh=x0dHr4kVZ19RkBkWxTn2mSk5924thHb6apweDZujsxU=; b=IbKo1Te57QEyXUubwCGXlOkEKFQFQeD16T/1m5oWnC432p2KNHgk8lxp/C5DpWOke9 myRWhtUHmagLQMiwqRFrOtE2LpkyUTwUcV6FSLFHgJd1TUg42h9brrRN0YK1i7hK203S +Y3HchH6Q/MOunugYbO1lGEZvs/t2tgIUOwfCT16eZaujoCs+Ylq/Zlceuhc/CbQTUgh YJzIxQd4KPZznHcC3n26/vpz33RnUKIZkpuxQTVFU0Bxu86pg3fYgXpLwNt5XWQPZuVl 72oe9K/+cMtaFXHRE/uxiKCHr81LMi+E0c2EKEn+Bqv2QnZ0ZU3SMOdhU9mcFqkflU6o 6Anw== X-Gm-Message-State: AOJu0YwDf/d9NxVeIPE9sUfjoryG5TmcX1NnW13YQm5TyYzz3spahKNu rG86tQJmQ/HAmHnPp4Of5I5tWpJKb97900x97aNBR105rsWoSlLZvAQoSEwFnfzd9L3ZbPK7ecs zzx6gUShQAV5NYs0LOHhgzPPVHqITzMIt3CNVG246oOPU X-Gm-Gg: ASbGncvcGc9e2xFabxkdA81xUAhcTnn5Ypj2CWxu0XhQE5UPcdiO3PbskJwo+rbEQWf Mp2dFL6VB4Hc83LaNsMFjWsQOkPY7Elg8WJNXFdsUelJdqefNYJp4hJ380DBFU6tugPLD6/cwR1 lHbxZmvOph1HgwQMGoq9Kb5wiJ7xSEKOSPXCiRsgdflf1bd0Twg02GeaANHDdx8UTUKlSyGY34L T9D4Mpuon+WHqEjidj0SpGuY/FeHu4+R8DN5bLFlXsZt3Wzux1bnMAOKd2OLoKOBm0FtNfSYJT9 DdGDsY0vvVW5H+WN0kUlzmtqO/vRfPXIGVbHP6p/U3CaJFLMb8u3liuJMzE= X-Google-Smtp-Source: AGHT+IH44qj7pFjqdnYjsw3bu7zZ4X/JNYlveOFNK4kLSWquWSvTY1SjyhQwLPV6JJB2uPKGcq5ur5hPVXBE X-Received: by 2002:a05:6214:2401:b0:6f8:ae32:39a5 with SMTP id 6a1803df08f44-6f8b08040d1mr9968266d6.10.1747329625215; Thu, 15 May 2025 10:20:25 -0700 (PDT) Received: from postal.iol.unh.edu (postal.iol.unh.edu. [132.177.123.84]) by smtp-relay.gmail.com with ESMTPS id 6a1803df08f44-6f8b08c5211sm94306d6.30.2025.05.15.10.20.25 (version=TLS1_2 cipher=ECDHE-ECDSA-AES128-GCM-SHA256 bits=128/128); Thu, 15 May 2025 10:20:25 -0700 (PDT) X-Relaying-Domain: iol.unh.edu Date: Thu, 15 May 2025 10:20:25 -0700 (PDT) Message-ID: <68262259.050a0220.30050d.07cbSMTPIN_ADDED_MISSING@mx.google.com> Received: from [172.21.0.5] (unknown [172.18.0.240]) by postal.iol.unh.edu (Postfix) with ESMTP id E2EBA6052471; Thu, 15 May 2025 13:20:24 -0400 (EDT) Subject: |SUCCESS| pw153447 [PATCH] test/crypto: fix return value in RSA test From: dpdklab@iol.unh.edu To: Test Report Cc: dpdk-test-reports@iol.unh.edu In-Reply-To: <20250515080853.1708-1-gmuthukrishn@marvell.com> References: <20250515080853.1708-1-gmuthukrishn@marvell.com> Content-Type: text/plain X-BeenThere: test-report@dpdk.org X-Mailman-Version: 2.1.29 Precedence: list List-Id: automatic DPDK test reports List-Unsubscribe: , List-Archive: List-Post: List-Help: List-Subscribe: , Errors-To: test-report-bounces@dpdk.org Test-Label: iol-compile-arm64-testing Test-Status: SUCCESS http://dpdk.org/patch/153447 _Testing PASS_ Submitter: Gowrishankar Muthukrishnan Date: Thursday, May 15 2025 08:08:50 DPDK git baseline: Repo:dpdk Branch: master CommitID:ca1690ebd224f148268285b15b97441ccdbdd07e 153447 --> testing pass Upstream job id: Generic-DPDK-Compile-Meson#388157 Test environment and result as below: +----------------------------------------+--------------------+ | Environment | dpdk_meson_compile | +========================================+====================+ | RHEL9 (ARM) | PASS | +----------------------------------------+--------------------+ | Ubuntu 20.04 ARM GCC Cross Compile | PASS | +----------------------------------------+--------------------+ | Ubuntu 20.04 ARM SVE | PASS | +----------------------------------------+--------------------+ | Debian 12 with MUSDK | PASS | +----------------------------------------+--------------------+ | Fedora 40 (ARM Clang) | PASS | +----------------------------------------+--------------------+ | Fedora 40 (ARM) | PASS | +----------------------------------------+--------------------+ | Fedora 41 (ARM Clang) | PASS | +----------------------------------------+--------------------+ | Fedora 41 (ARM) | PASS | +----------------------------------------+--------------------+ | Ubuntu 20.04 (ARM) | PASS | +----------------------------------------+--------------------+ | Ubuntu 22.04 (ARM) | PASS | +----------------------------------------+--------------------+ | CentOS Stream 9 (ARM) | PASS | +----------------------------------------+--------------------+ | Ubuntu 24.04 (ARM) | PASS | +----------------------------------------+--------------------+ | Debian 12 (arm) | PASS | +----------------------------------------+--------------------+ | CentOS Stream 10 (ARM) | PASS | +----------------------------------------+--------------------+ | Ubuntu 20.04 ARM Clang Cross Compile | PASS | +----------------------------------------+--------------------+ | Ubuntu 20.04 aarch32 GCC Cross Compile | PASS | +----------------------------------------+--------------------+ RHEL9 (ARM) Kernel: Depends on container host Compiler: gcc 11.5.0 20240719 (Red Hat 11.5.0-2) Ubuntu 20.04 ARM GCC Cross Compile Kernel: Depends on container host Compiler: aarch64-linux-gnu-gcc (Ubuntu 9.4.0-1ubuntu1~20.04.2) 9.4.0 Ubuntu 20.04 ARM SVE Kernel: Depends on container host Compiler: gcc (Ubuntu 10.5.0-1ubuntu1~20.04) 10.5.0 Debian 12 with MUSDK Kernel: Depends on container host Compiler: gcc (Debian 12.2.0-14) 12.2.0 Fedora 40 (ARM Clang) Kernel: Depends on container host Compiler: clang 18.1.8 (Fedora 18.1.8-1.fc40) Fedora 40 (ARM) Kernel: Depends on container host Compiler: gcc 14.2.1 20240912 (Red Hat 14.2.1-3) Fedora 41 (ARM Clang) Kernel: Depends on container host Compiler: clang 19.1.5 (Fedora 19.1.5-1.fc41) Fedora 41 (ARM) Kernel: Depends on container host Compiler: gcc 14.2.1 20240912 (Red Hat 14.2.1-3) Ubuntu 20.04 (ARM) Kernel: Depends on container host Compiler: gcc (Ubuntu 9.4.0-1ubuntu1~20.04.2) 9.4.0 Ubuntu 22.04 (ARM) Kernel: Depends on container host Compiler: gcc (Ubuntu 11.4.0-1ubuntu1~22.04) 11.4.0 CentOS Stream 9 (ARM) Kernel: Depends on container host Compiler: gcc 11.5.0 20240719 (Red Hat 11.5.0-2) Ubuntu 24.04 (ARM) Kernel: Depends on container host Compiler: gcc (Ubuntu 13.3.0-6ubuntu2~24.04) 13.3.0 Debian 12 (arm) Kernel: Depends on container host Compiler: gcc (Debian 12.2.0-14) 12.2.0 CentOS Stream 10 (ARM) Kernel: Depends on container host Compiler: gcc 14.2.1 20241104 (Red Hat 14.2.1-6) Ubuntu 20.04 ARM Clang Cross Compile Kernel: Depends on container host Compiler: clang 10.0.0-4ubuntu1 Ubuntu 20.04 aarch32 GCC Cross Compile Kernel: Depends on container host Compiler: gcc 9.4.0 To view detailed results, visit: https://lab.dpdk.org/results/dashboard/patchsets/33178/ UNH-IOL DPDK Community Lab To manage your email subscriptions, visit: https://lab.dpdk.org/results/dashboard/preferences/subscriptions/