From mboxrd@z Thu Jan 1 00:00:00 1970 Return-Path: Received: from mails.dpdk.org (mails.dpdk.org [217.70.189.124]) by inbox.dpdk.org (Postfix) with ESMTP id 98AC246756 for ; Thu, 15 May 2025 19:26:13 +0200 (CEST) Received: from mails.dpdk.org (localhost [127.0.0.1]) by mails.dpdk.org (Postfix) with ESMTP id 9558440EDC; Thu, 15 May 2025 19:26:13 +0200 (CEST) Received: from mail-io1-f100.google.com (mail-io1-f100.google.com [209.85.166.100]) by mails.dpdk.org (Postfix) with ESMTP id B30DD40E03 for ; Thu, 15 May 2025 19:26:12 +0200 (CEST) Received: by mail-io1-f100.google.com with SMTP id ca18e2360f4ac-85b3f92c8f8so109855839f.1 for ; Thu, 15 May 2025 10:26:12 -0700 (PDT) DKIM-Signature: v=1; a=rsa-sha256; c=relaxed/relaxed; d=iol.unh.edu; s=unh-iol; t=1747329972; x=1747934772; darn=dpdk.org; h=references:in-reply-to:cc:to:from:subject:message-id:date:from:to :cc:subject:date:message-id:reply-to; bh=67b0CzNQg7LZa3++R5Si4eX+Q05pArDd6hTAORy+haE=; b=ar6R83ipRH8p2aYZSUPKAcaJEV9fHDIj6oU+jJmiqmFb7CefkMEg90ixHu8qpZF+ks 4ni6CGA7QHEDCyXrAKVuRnaPZijrJk3c69Ivp2x5t5++yB+gJytoDaViqMcNgPixh3bx s9gdvlhNvgW1CHzCUy2V9pMdqEeJGTEFvZY0w= X-Google-DKIM-Signature: v=1; a=rsa-sha256; c=relaxed/relaxed; d=1e100.net; s=20230601; t=1747329972; x=1747934772; h=references:in-reply-to:cc:to:from:subject:message-id:date :x-gm-message-state:from:to:cc:subject:date:message-id:reply-to; bh=67b0CzNQg7LZa3++R5Si4eX+Q05pArDd6hTAORy+haE=; b=Idzz/aMSZIxna6xFN6Y52CIkxJz2ijkcLQVc6hCqqn8OkMgMkYTYcHLjImQgDxNyMv dwJTlnTfN7r+ciyYUpei/Azb6BjVrrIlNZoUg/ow/zPZARVP8rgNUnDEO85oxHBVq778 cNt8zKxKufezk1uog3k4bg2FaTtoZKCrN/0gfFe4ztmlgUSnvgxhE0efYIZd8Itrppi7 gGPv5U4wqTxhj2FKdoJyGvvewpwerBMrdDqrkDq2zwUaMRMhTUMyOlBS9fubaUdtoJ41 ocZC7AKLPim0+lxvCz6rAtxFOCiXVOrR5IZP/7hqOzmWCsQlQvJ2YM3sN3YLCqEs4/gy BFsw== X-Gm-Message-State: AOJu0YyJ8b2KHudXKDYRHHWYSxTjvwUBdqGYS/iCOdgQQHSc46VUk0/6 tZUYcULXO5YJPPr58lrCGnuqjchdQA8s+ZmKC5zmfaziCAe3WRkf3EynzPYFpj51F58Gj+SlkTx ZQeOHaiJMpKaNVWz8IgS9qRS3bmLEcbEUGV/hi2QIObKhoGsMLXC6sNGHTA1S X-Gm-Gg: ASbGnctNFf66Ow8wAcabvKE835n5JgSSuEoaN7R5ks42ETE+7mqB8xSmSJOpSlMzxu4 b41/1l1c3jCpaAP0IU4WIQIi3ryMqfVcBBG65ksdrvwGOErQTY2EocLMcWgDmedr1EYWIVQ4qHI B1PjLz/t1wnPEZuOfxOypX62CK4JOYm4ZMizWTMwFWIuX2EtcS46N5FbQqjTGQsVvSM1wGH+lRM zqXUh4yHMqpnIx7WrYppLdHax4cVja9VqMXJjnely6MM/Y9AoPb6X+RuSBvze3ehwM6f+VlKE96 o8WfINbMSylxZshNY5Naqpz1qz3Old78ptf/ X-Google-Smtp-Source: AGHT+IH3T781HQKDo34d8qvQS/IaIYry/Few9k6t3rC7JshieUzjsiMjD0VfR+KNqzTrd8zbxuOrYHntidCH X-Received: by 2002:a05:6e02:2409:b0:3d9:3adb:e589 with SMTP id e9e14a558f8ab-3db8429784cmr8275445ab.4.1747329971888; Thu, 15 May 2025 10:26:11 -0700 (PDT) Received: from postal.iol.unh.edu (postal.iol.unh.edu. [2606:4100:3880:1234::84]) by smtp-relay.gmail.com with ESMTPS id e9e14a558f8ab-3db844b1340sm85415ab.58.2025.05.15.10.26.11 (version=TLS1_2 cipher=ECDHE-ECDSA-AES128-GCM-SHA256 bits=128/128); Thu, 15 May 2025 10:26:11 -0700 (PDT) X-Relaying-Domain: iol.unh.edu Date: Thu, 15 May 2025 10:26:11 -0700 (PDT) Message-ID: <682623b3.920a0220.361e06.0754SMTPIN_ADDED_MISSING@mx.google.com> Received: from [172.21.0.6] (unknown [172.18.0.240]) by postal.iol.unh.edu (Postfix) with ESMTP id 824766052471; Thu, 15 May 2025 13:26:11 -0400 (EDT) Subject: |SUCCESS| pw153445 [PATCH] crypto/cnxk: fix out-of-bounds access From: dpdklab@iol.unh.edu To: Test Report Cc: dpdk-test-reports@iol.unh.edu In-Reply-To: <20250515080528.1644-1-gmuthukrishn@marvell.com> References: <20250515080528.1644-1-gmuthukrishn@marvell.com> Content-Type: text/plain X-BeenThere: test-report@dpdk.org X-Mailman-Version: 2.1.29 Precedence: list List-Id: automatic DPDK test reports List-Unsubscribe: , List-Archive: List-Post: List-Help: List-Subscribe: , Errors-To: test-report-bounces@dpdk.org Test-Label: iol-unit-arm64-testing Test-Status: SUCCESS http://dpdk.org/patch/153445 _Testing PASS_ Submitter: Gowrishankar Muthukrishnan Date: Thursday, May 15 2025 08:05:25 DPDK git baseline: Repo:dpdk Branch: master CommitID:dcf9f9363aa9b4163d241caf8b26a84ca0c0006b 153445 --> testing pass Upstream job id: Generic-Unit-Test-DPDK#338024 Test environment and result as below: +-----------------------------+------------------------------+---------------------------+--------------+----------------+ | Environment | cryptodev_sw_snow3g_autotest | cryptodev_sw_zuc_autotest | lpm_autotest | dpdk_unit_test | +=============================+==============================+===========================+==============+================+ | Debian 12 (arm) | PASS | PASS | SKIPPED | PASS | +-----------------------------+------------------------------+---------------------------+--------------+----------------+ | Ubuntu 20.04 ARM SVE | SKIPPED | SKIPPED | PASS | SKIPPED | +-----------------------------+------------------------------+---------------------------+--------------+----------------+ | CentOS Stream 10 (ARM) | SKIPPED | SKIPPED | SKIPPED | PASS | +-----------------------------+------------------------------+---------------------------+--------------+----------------+ | CentOS Stream 9 (ARM) | SKIPPED | SKIPPED | SKIPPED | PASS | +-----------------------------+------------------------------+---------------------------+--------------+----------------+ | Ubuntu 20.04 (ARM) | SKIPPED | SKIPPED | SKIPPED | PASS | +-----------------------------+------------------------------+---------------------------+--------------+----------------+ | Fedora 41 (ARM) | SKIPPED | SKIPPED | SKIPPED | PASS | +-----------------------------+------------------------------+---------------------------+--------------+----------------+ | RHEL9 (ARM) | SKIPPED | SKIPPED | SKIPPED | PASS | +-----------------------------+------------------------------+---------------------------+--------------+----------------+ | Fedora 40 (ARM Clang) | SKIPPED | SKIPPED | SKIPPED | PASS | +-----------------------------+------------------------------+---------------------------+--------------+----------------+ | Fedora 40 (ARM) | SKIPPED | SKIPPED | SKIPPED | PASS | +-----------------------------+------------------------------+---------------------------+--------------+----------------+ | Ubuntu 22.04 (ARM) | SKIPPED | SKIPPED | SKIPPED | PASS | +-----------------------------+------------------------------+---------------------------+--------------+----------------+ | Fedora 41 (ARM Clang) | SKIPPED | SKIPPED | SKIPPED | PASS | +-----------------------------+------------------------------+---------------------------+--------------+----------------+ | Ubuntu 24.04 (ARM) | SKIPPED | SKIPPED | SKIPPED | PASS | +-----------------------------+------------------------------+---------------------------+--------------+----------------+ | 32-bit Ubuntu 22.04.4 (ARM) | SKIPPED | SKIPPED | SKIPPED | PASS | +-----------------------------+------------------------------+---------------------------+--------------+----------------+ Debian 12 (arm) Kernel: Depends on container host Compiler: gcc (Debian 12.2.0-14) 12.2.0 Ubuntu 20.04 ARM SVE Kernel: Depends on container host Compiler: gcc (Ubuntu 10.5.0-1ubuntu1~20.04) 10.5.0 CentOS Stream 10 (ARM) Kernel: Depends on container host Compiler: gcc 14.2.1 20241104 (Red Hat 14.2.1-6) CentOS Stream 9 (ARM) Kernel: Depends on container host Compiler: gcc 11.5.0 20240719 (Red Hat 11.5.0-2) Ubuntu 20.04 (ARM) Kernel: Depends on container host Compiler: gcc (Ubuntu 9.4.0-1ubuntu1~20.04.2) 9.4.0 Fedora 41 (ARM) Kernel: Depends on container host Compiler: gcc 14.2.1 20240912 (Red Hat 14.2.1-3) RHEL9 (ARM) Kernel: Depends on container host Compiler: gcc 11.5.0 20240719 (Red Hat 11.5.0-2) Fedora 40 (ARM Clang) Kernel: Depends on container host Compiler: clang 18.1.8 (Fedora 18.1.8-1.fc40) Fedora 40 (ARM) Kernel: Depends on container host Compiler: gcc 14.2.1 20240912 (Red Hat 14.2.1-3) Ubuntu 22.04 (ARM) Kernel: Depends on container host Compiler: gcc (Ubuntu 11.4.0-1ubuntu1~22.04) 11.4.0 Fedora 41 (ARM Clang) Kernel: Depends on container host Compiler: clang 19.1.5 (Fedora 19.1.5-1.fc41) Ubuntu 24.04 (ARM) Kernel: Depends on container host Compiler: gcc (Ubuntu 13.3.0-6ubuntu2~24.04) 13.3.0 32-bit Ubuntu 22.04.4 (ARM) Kernel: 5.15.83+ aarch64 Compiler: gcc (Ubuntu 11.4.0-1ubuntu1~22.04) 11.4.0 To view detailed results, visit: https://lab.dpdk.org/results/dashboard/patchsets/33176/ UNH-IOL DPDK Community Lab To manage your email subscriptions, visit: https://lab.dpdk.org/results/dashboard/preferences/subscriptions/