From mboxrd@z Thu Jan 1 00:00:00 1970 Return-Path: Received: from mails.dpdk.org (mails.dpdk.org [217.70.189.124]) by inbox.dpdk.org (Postfix) with ESMTP id 67F3946756 for ; Thu, 15 May 2025 19:33:43 +0200 (CEST) Received: from mails.dpdk.org (localhost [127.0.0.1]) by mails.dpdk.org (Postfix) with ESMTP id 63C0B40EDC; Thu, 15 May 2025 19:33:43 +0200 (CEST) Received: from mail-yw1-f227.google.com (mail-yw1-f227.google.com [209.85.128.227]) by mails.dpdk.org (Postfix) with ESMTP id A75AA40E03 for ; Thu, 15 May 2025 19:33:41 +0200 (CEST) Received: by mail-yw1-f227.google.com with SMTP id 00721157ae682-708a853c362so12466847b3.2 for ; Thu, 15 May 2025 10:33:41 -0700 (PDT) DKIM-Signature: v=1; a=rsa-sha256; c=relaxed/relaxed; d=iol.unh.edu; s=unh-iol; t=1747330421; x=1747935221; darn=dpdk.org; h=references:in-reply-to:cc:to:from:subject:message-id:date:from:to :cc:subject:date:message-id:reply-to; bh=wKRadXD7tAtoXNBhjOz8ueSwC9TvILoB/US+tOvBOhQ=; b=ZWdvFULYWsahglh27Ht+huKeIvJW7SWgTltOmShS762+oJF77ncq+d6E+P1bhHYQPY F4lAp8uAIiIWfJ6mJJh0BPVFW1Cohw8MRdIxWlX18Q3hQ1ANPZRqAY6QEBVFRM09EHiL afBEL6/SBvKdLsn4O+iOnfgIN+9F0LGAzRV40= X-Google-DKIM-Signature: v=1; a=rsa-sha256; c=relaxed/relaxed; d=1e100.net; s=20230601; t=1747330421; x=1747935221; h=references:in-reply-to:cc:to:from:subject:message-id:date :x-gm-message-state:from:to:cc:subject:date:message-id:reply-to; bh=wKRadXD7tAtoXNBhjOz8ueSwC9TvILoB/US+tOvBOhQ=; b=E8SGcvif/NqE3Lusgdqo2AybRehZvZMmPI9rRkwbJ5qXO5JpZFp3Y5X9d8xQMPT52z oFiPjfa+dToL9kThoTrspFqMNS1xSmv5fxqs9ezgtHXdcrf/zOZEdahf6J8n2aOfV2o2 g/nPUwc513URPqDG9ZxFh9mlVRuCLYcVVPK1x7U8/NnYd3tWLLo3wlEiqdlIoEJA+03I cHFNpKNBMXdlKgA1PIaldxJGFyyakhKybLT9Wl257uwaiDrJ/+pVLaThKREeBGu0y54z CZ9v8Vrbn5IcgPdkHPrCs1irBp/RONKCLF6Xa/dzpN3O3qZHSn7an+CvE7w56JXWuMbU IWqQ== X-Gm-Message-State: AOJu0Yz8XEexPuUHHvSpDjeV51v+/dpWc4nkz/AH2YXDUWm4O6YnbSHt yg4XiaB6AbGOj/qJ99LpJLpVgGRMpTaMPjssPbQZrLPefM/KXDAzYjBL5ZuLHAfrZfiV4xeCeIa KkuGE61VJ63gIMEt4minJuwiaSc9v3NVxOUR61edN9kwb X-Gm-Gg: ASbGncuBxuKfPKEKGYTrxf5qjQZLTW1JwUa+66HLyxOYOHXGBSAGxqhpyRRGp+km/zo Ax+USQj2r9VD5FSTjPzEXJe2exhGAJOLYD/GGDk6JpU5g4girZXkrdfwozgZpZCx8+HZ5SnnR/H CIXLxMTK+whwd/qDJ0+D9VQPiKfnjsqh8NHVrQT3lOx+EA8fJnz6GXUdY5EwMpnPrwcboXYBUsM zGGpqRJYO6XQgaeXIZ+ngw6PZY0seNQIocZ3BacY22QV2XhQZYVP+1Z3yW7o6dPW3uparAjCKml 1E1u4SxvD09Z5cHLdUDTVgUqtSxkDRYMufr/kYcvnrBpNR7RHjIgm1fSISE= X-Google-Smtp-Source: AGHT+IHCe+RYnIqkkkMFHtqqgpSFWzKdGDhtraN9qEaps/OAVKzbuxmcAgJE20Dyif7W2e3TxKpViP83zRy+ X-Received: by 2002:a05:690c:368c:b0:708:43f1:10a with SMTP id 00721157ae682-70ca79bfcc8mr9638597b3.10.1747330420960; Thu, 15 May 2025 10:33:40 -0700 (PDT) Received: from postal.iol.unh.edu (postal.iol.unh.edu. [132.177.123.84]) by smtp-relay.gmail.com with ESMTPS id 00721157ae682-70ca836a06asm86727b3.30.2025.05.15.10.33.40 (version=TLS1_2 cipher=ECDHE-ECDSA-AES128-GCM-SHA256 bits=128/128); Thu, 15 May 2025 10:33:40 -0700 (PDT) X-Relaying-Domain: iol.unh.edu Date: Thu, 15 May 2025 10:33:40 -0700 (PDT) Message-ID: <68262574.810a0220.10b482.0767SMTPIN_ADDED_MISSING@mx.google.com> Received: from [172.21.0.5] (unknown [172.18.0.240]) by postal.iol.unh.edu (Postfix) with ESMTP id 99F5F6052471; Thu, 15 May 2025 13:33:40 -0400 (EDT) Subject: |WARNING| pw153445 [PATCH] crypto/cnxk: fix out-of-bounds access From: dpdklab@iol.unh.edu To: Test Report Cc: dpdk-test-reports@iol.unh.edu In-Reply-To: <20250515080528.1644-1-gmuthukrishn@marvell.com> References: <20250515080528.1644-1-gmuthukrishn@marvell.com> Content-Type: text/plain X-BeenThere: test-report@dpdk.org X-Mailman-Version: 2.1.29 Precedence: list List-Id: automatic DPDK test reports List-Unsubscribe: , List-Archive: List-Post: List-Help: List-Subscribe: , Errors-To: test-report-bounces@dpdk.org Test-Label: iol-compile-amd64-testing Test-Status: WARNING http://dpdk.org/patch/153445 _Testing issues_ Submitter: Gowrishankar Muthukrishnan Date: Thursday, May 15 2025 08:05:25 DPDK git baseline: Repo:dpdk Branch: master CommitID:dcf9f9363aa9b4163d241caf8b26a84ca0c0006b 153445 --> testing issues Upstream job id: Generic-DPDK-Compile-Meson#388193 Test environment and result as below: +-----------------------------------+--------------------+-------------------+------------------+-------------------+-------------------------+----------------------+ | Environment | dpdk_meson_compile | dpdk_compile_spdk | dpdk_compile_ovs | dpdk_msvc_compile | dpdk_llvm_clang_compile | dpdk_mingw64_compile | +===================================+====================+===================+==================+===================+=========================+======================+ | CentOS Stream 9 | PASS | PASS | SKIPPED | SKIPPED | SKIPPED | SKIPPED | +-----------------------------------+--------------------+-------------------+------------------+-------------------+-------------------------+----------------------+ | CentOS Stream 10 | PASS | SKIPPED | SKIPPED | SKIPPED | SKIPPED | SKIPPED | +-----------------------------------+--------------------+-------------------+------------------+-------------------+-------------------------+----------------------+ | Debian 12 | PEND | PEND | SKIPPED | SKIPPED | SKIPPED | SKIPPED | +-----------------------------------+--------------------+-------------------+------------------+-------------------+-------------------------+----------------------+ | Fedora 40 (Clang) | PASS | WARN | SKIPPED | SKIPPED | SKIPPED | SKIPPED | +-----------------------------------+--------------------+-------------------+------------------+-------------------+-------------------------+----------------------+ | Fedora 41 (Clang) | PEND | PEND | PEND | SKIPPED | SKIPPED | SKIPPED | +-----------------------------------+--------------------+-------------------+------------------+-------------------+-------------------------+----------------------+ | Fedora 40 | PASS | PASS | SKIPPED | SKIPPED | SKIPPED | SKIPPED | +-----------------------------------+--------------------+-------------------+------------------+-------------------+-------------------------+----------------------+ | Fedora 41 | PASS | PASS | PASS | SKIPPED | SKIPPED | SKIPPED | +-----------------------------------+--------------------+-------------------+------------------+-------------------+-------------------------+----------------------+ | RHEL8 | PASS | SKIPPED | SKIPPED | SKIPPED | SKIPPED | SKIPPED | +-----------------------------------+--------------------+-------------------+------------------+-------------------+-------------------------+----------------------+ | openSUSE Leap 15 | PEND | SKIPPED | SKIPPED | SKIPPED | SKIPPED | SKIPPED | +-----------------------------------+--------------------+-------------------+------------------+-------------------+-------------------------+----------------------+ | RHEL9 | PASS | SKIPPED | SKIPPED | SKIPPED | SKIPPED | SKIPPED | +-----------------------------------+--------------------+-------------------+------------------+-------------------+-------------------------+----------------------+ | Ubuntu 20.04 | PASS | SKIPPED | SKIPPED | SKIPPED | SKIPPED | SKIPPED | +-----------------------------------+--------------------+-------------------+------------------+-------------------+-------------------------+----------------------+ | Ubuntu 22.04 | PEND | PEND | SKIPPED | SKIPPED | SKIPPED | SKIPPED | +-----------------------------------+--------------------+-------------------+------------------+-------------------+-------------------------+----------------------+ | Ubuntu 24.04 | PEND | PEND | PEND | SKIPPED | SKIPPED | SKIPPED | +-----------------------------------+--------------------+-------------------+------------------+-------------------+-------------------------+----------------------+ | Alpine | PEND | SKIPPED | SKIPPED | SKIPPED | SKIPPED | SKIPPED | +-----------------------------------+--------------------+-------------------+------------------+-------------------+-------------------------+----------------------+ | Ubuntu 24.04 32 Bit Cross Compile | PEND | SKIPPED | SKIPPED | SKIPPED | SKIPPED | SKIPPED | +-----------------------------------+--------------------+-------------------+------------------+-------------------+-------------------------+----------------------+ | FreeBSD 13.5 | PASS | SKIPPED | SKIPPED | SKIPPED | SKIPPED | SKIPPED | +-----------------------------------+--------------------+-------------------+------------------+-------------------+-------------------------+----------------------+ | FreeBSD 14.2 | PASS | SKIPPED | SKIPPED | SKIPPED | SKIPPED | SKIPPED | +-----------------------------------+--------------------+-------------------+------------------+-------------------+-------------------------+----------------------+ | Windows Server 2022 | SKIPPED | SKIPPED | SKIPPED | PASS | PASS | PASS | +-----------------------------------+--------------------+-------------------+------------------+-------------------+-------------------------+----------------------+ ==== 20 line log output for Fedora 40 (Clang) (dpdk_compile_spdk): ==== --- Failed to get log output --- ==== End log output ==== CentOS Stream 9 Kernel: Depends on container host Compiler: gcc 11.5.0 20240719 (Red Hat 11.5.0-2) CentOS Stream 10 Kernel: Depends on container host Compiler: gcc 14.2.1 20241104 (Red Hat 14.2.1-6) Debian 12 Kernel: Depends on container host Compiler: gcc (Debian 12.2.0-14) 12.2.0 Fedora 40 (Clang) Kernel: Depends on container host Compiler: clang 18.1.8 (Fedora 18.1.8-1.fc40) Fedora 41 (Clang) Kernel: Depends on container host Compiler: clang 19.1.5 (Fedora 19.1.5-1.fc41) Fedora 40 Kernel: Depends on container host Compiler: gcc 14.2.1 20240912 (Red Hat 14.2.1-3) Fedora 41 Kernel: Depends on container host Compiler: gcc 14.2.1 20240912 (Red Hat 14.2.1-3) RHEL8 Kernel: Depends on container host Compiler: gcc 8.5.0 20210514 (Red Hat 8.5.0-22) openSUSE Leap 15 Kernel: Depends on container host Compiler: gcc (SUSE Linux) 7.5.0 RHEL9 Kernel: Depends on container host Compiler: gcc 11.5.0 20240719 (Red Hat 11.5.0-2) Ubuntu 20.04 Kernel: Depends on container host Compiler: gcc (Ubuntu 9.4.0-1ubuntu1~20.04.2) 9.4.0 Ubuntu 22.04 Kernel: Depends on container host Compiler: gcc (Ubuntu 11.4.0-1ubuntu1~22.04) 11.4.0 Ubuntu 24.04 Kernel: Depends on container host Compiler: gcc (Ubuntu 13.3.0-6ubuntu2~24.04) 13.3.0 Alpine Kernel: Depends on container host Compiler: gcc (Alpine 14.2.0) 14.2.0 Ubuntu 24.04 32 Bit Cross Compile Kernel: Depends on container host Compiler: gcc (Ubuntu 13.3.0-6ubuntu2~24.04) 13.3.0 FreeBSD 13.5 Kernel: 13.5-RELEASE Compiler: clang 19.1.7 FreeBSD 14.2 Kernel: 14.2-RELEASE Compiler: clang 18.1.6 Windows Server 2022 Kernel: 10.0.20348.2031 Compiler: clang 15.0.7, gcc 14.1.0 (MinGW), and MSVC VS 19.39.33521 To view detailed results, visit: https://lab.dpdk.org/results/dashboard/patchsets/33176/ UNH-IOL DPDK Community Lab To manage your email subscriptions, visit: https://lab.dpdk.org/results/dashboard/preferences/subscriptions/