From mboxrd@z Thu Jan 1 00:00:00 1970 Return-Path: Received: from mails.dpdk.org (mails.dpdk.org [217.70.189.124]) by inbox.dpdk.org (Postfix) with ESMTP id 3548446758 for ; Thu, 15 May 2025 20:15:37 +0200 (CEST) Received: from mails.dpdk.org (localhost [127.0.0.1]) by mails.dpdk.org (Postfix) with ESMTP id 2CB5240EDC; Thu, 15 May 2025 20:15:37 +0200 (CEST) Received: from mail-vk1-f225.google.com (mail-vk1-f225.google.com [209.85.221.225]) by mails.dpdk.org (Postfix) with ESMTP id E578740E03 for ; Thu, 15 May 2025 20:15:35 +0200 (CEST) Received: by mail-vk1-f225.google.com with SMTP id 71dfb90a1353d-52b2290e290so601005e0c.1 for ; Thu, 15 May 2025 11:15:35 -0700 (PDT) DKIM-Signature: v=1; a=rsa-sha256; c=relaxed/relaxed; d=iol.unh.edu; s=unh-iol; t=1747332935; x=1747937735; darn=dpdk.org; h=references:in-reply-to:cc:to:from:subject:message-id:date:from:to :cc:subject:date:message-id:reply-to; bh=zuYIf+gtkL8/MV4Mbw/egTDTQRcBilU1XcnNLqlyQ1s=; b=I+EapH4hZ5/IeGf0gZKzjlkNrqFvKbRLME1yxmK/CG/xD8Eezt/rntstQUzx64rYCe G0OHmjPLDPUbFhBPKoNXamDFHnebDuvNr9YvRK955yClrxKq6L0L1Go+kOUDKZtsXYGG ziEkjJUFjLICjrUeoeJHgtyP9VAj0dwYey+TU= X-Google-DKIM-Signature: v=1; a=rsa-sha256; c=relaxed/relaxed; d=1e100.net; s=20230601; t=1747332935; x=1747937735; h=references:in-reply-to:cc:to:from:subject:message-id:date :x-gm-message-state:from:to:cc:subject:date:message-id:reply-to; bh=zuYIf+gtkL8/MV4Mbw/egTDTQRcBilU1XcnNLqlyQ1s=; b=sn0qxBnUlBQc0xO8SzaL7T9g73xlwHXgUy5UO08hHv6Le2VlkiNIkoTt55zNQBcaDg JZ4QmCc7M/BCa/ztegyiSJFZICjbSkGgtu6MeZ1CY9OhiLBQuAKs1f5zfwLO8GtTziuD svfErgiXhIqmFYqTEO2V+erJPZs1Yh6dUQW6tye23FNJ0uPAdmW4ZM2dUw+9QuglifMY RJJoDxBOJINUbzjtaoO7N9LJtbYjserXeJOK8cH+WW6ZweHw8prT4b+n6//MiztxzAV7 QyKbAQe+WSi0Ma5Q5MLRS7TC1XT8jCYhB3YUlubqJ2/oqSDULiamIBm/G6tDdfmUQwzW cTqw== X-Gm-Message-State: AOJu0Yy/b86EzrHtLs9jaxi2/WnuumPTqeSGY6GRrICTZF3iWB0HQly5 QMItkXq2/8UOnRzUrkew8tSwCDvmOIs9qLFrlwRwfLnTMpK9kYOqPAiwgA6RGjCPXJXKatXB0+o 2FUDBA5xW5KF9BnNmch+1Sb4K9G7q6L6yXpLIz5DAduXB X-Gm-Gg: ASbGncvymiJTqexWca7jo8pau9NCgvdpL+TW1fVgOSIrE8asJdpvVXAPVCjWm58qJ58 6UmRpeLbi+9M5GSLIqMI5sh9DAW0J8BD09rmlIwTPWjgLFXzo+23cqakrTovXBkfLQRdGp1sOLc t7N6K64lBcXD4Fs6LsCq/JtoijVe/vkdtz8p5n0SWMI/YW0pvUjYZXD/iaz10EujSCTqaf0ZgFW 4rKT+9pyAOGT+LENY0E/TodOYEoxtarXlUg3jIuYc59tD/eIToikSWfMPXw1gdkS+/eTFtkaPtK X8tMlteO9L8Rgn+02uNtDGVcVaYYDf5+Bor5s9ZZuLfzAzGvYsU4P8795lY= X-Google-Smtp-Source: AGHT+IH5S/bmeZLzpEejkrAb7r8ZaKg3IuowIP93phZ2K4qXiz8B4gTP0zWf5AGsla8d3HRW+qjn85SQEuJp X-Received: by 2002:a05:6122:2384:b0:520:98ec:b25c with SMTP id 71dfb90a1353d-52dba802f2fmr1023267e0c.1.1747332935046; Thu, 15 May 2025 11:15:35 -0700 (PDT) Received: from postal.iol.unh.edu (postal.iol.unh.edu. [132.177.123.84]) by smtp-relay.gmail.com with ESMTPS id 71dfb90a1353d-52dba75b2d1sm18367e0c.0.2025.05.15.11.15.34 (version=TLS1_2 cipher=ECDHE-ECDSA-AES128-GCM-SHA256 bits=128/128); Thu, 15 May 2025 11:15:35 -0700 (PDT) X-Relaying-Domain: iol.unh.edu Date: Thu, 15 May 2025 11:15:35 -0700 (PDT) Message-ID: <68262f47.050a0220.2f15e9.0f66SMTPIN_ADDED_MISSING@mx.google.com> Received: from [172.21.0.6] (unknown [172.18.0.240]) by postal.iol.unh.edu (Postfix) with ESMTP id A29576052471; Thu, 15 May 2025 14:15:34 -0400 (EDT) Subject: |SUCCESS| pw153444 [PATCH] crypto/virtio: check for invalid IOVA add From: dpdklab@iol.unh.edu To: Test Report Cc: dpdk-test-reports@iol.unh.edu In-Reply-To: <20250515080313.1612-1-gmuthukrishn@marvell.com> References: <20250515080313.1612-1-gmuthukrishn@marvell.com> Content-Type: text/plain X-BeenThere: test-report@dpdk.org X-Mailman-Version: 2.1.29 Precedence: list List-Id: automatic DPDK test reports List-Unsubscribe: , List-Archive: List-Post: List-Help: List-Subscribe: , Errors-To: test-report-bounces@dpdk.org Test-Label: iol-unit-arm64-testing Test-Status: SUCCESS http://dpdk.org/patch/153444 _Testing PASS_ Submitter: Gowrishankar Muthukrishnan Date: Thursday, May 15 2025 08:03:10 DPDK git baseline: Repo:dpdk Branch: master CommitID:dcf9f9363aa9b4163d241caf8b26a84ca0c0006b 153444 --> testing pass Upstream job id: Generic-Unit-Test-DPDK#338050 Test environment and result as below: +-----------------------------+--------------+---------------------------+------------------------------+----------------+ | Environment | lpm_autotest | cryptodev_sw_zuc_autotest | cryptodev_sw_snow3g_autotest | dpdk_unit_test | +=============================+==============+===========================+==============================+================+ | Ubuntu 20.04 ARM SVE | PASS | SKIPPED | SKIPPED | SKIPPED | +-----------------------------+--------------+---------------------------+------------------------------+----------------+ | Debian 12 (arm) | SKIPPED | PASS | PASS | PASS | +-----------------------------+--------------+---------------------------+------------------------------+----------------+ | CentOS Stream 9 (ARM) | SKIPPED | SKIPPED | SKIPPED | PASS | +-----------------------------+--------------+---------------------------+------------------------------+----------------+ | CentOS Stream 10 (ARM) | SKIPPED | SKIPPED | SKIPPED | PASS | +-----------------------------+--------------+---------------------------+------------------------------+----------------+ | Fedora 40 (ARM Clang) | SKIPPED | SKIPPED | SKIPPED | PASS | +-----------------------------+--------------+---------------------------+------------------------------+----------------+ | RHEL9 (ARM) | SKIPPED | SKIPPED | SKIPPED | PASS | +-----------------------------+--------------+---------------------------+------------------------------+----------------+ | Fedora 40 (ARM) | SKIPPED | SKIPPED | SKIPPED | PASS | +-----------------------------+--------------+---------------------------+------------------------------+----------------+ | Fedora 41 (ARM Clang) | SKIPPED | SKIPPED | SKIPPED | PASS | +-----------------------------+--------------+---------------------------+------------------------------+----------------+ | Ubuntu 20.04 (ARM) | SKIPPED | SKIPPED | SKIPPED | PASS | +-----------------------------+--------------+---------------------------+------------------------------+----------------+ | Ubuntu 22.04 (ARM) | SKIPPED | SKIPPED | SKIPPED | PASS | +-----------------------------+--------------+---------------------------+------------------------------+----------------+ | Fedora 41 (ARM) | SKIPPED | SKIPPED | SKIPPED | PASS | +-----------------------------+--------------+---------------------------+------------------------------+----------------+ | Ubuntu 24.04 (ARM) | SKIPPED | SKIPPED | SKIPPED | PASS | +-----------------------------+--------------+---------------------------+------------------------------+----------------+ | 32-bit Ubuntu 22.04.4 (ARM) | SKIPPED | SKIPPED | SKIPPED | PASS | +-----------------------------+--------------+---------------------------+------------------------------+----------------+ Ubuntu 20.04 ARM SVE Kernel: Depends on container host Compiler: gcc (Ubuntu 10.5.0-1ubuntu1~20.04) 10.5.0 Debian 12 (arm) Kernel: Depends on container host Compiler: gcc (Debian 12.2.0-14) 12.2.0 CentOS Stream 9 (ARM) Kernel: Depends on container host Compiler: gcc 11.5.0 20240719 (Red Hat 11.5.0-2) CentOS Stream 10 (ARM) Kernel: Depends on container host Compiler: gcc 14.2.1 20241104 (Red Hat 14.2.1-6) Fedora 40 (ARM Clang) Kernel: Depends on container host Compiler: clang 18.1.8 (Fedora 18.1.8-1.fc40) RHEL9 (ARM) Kernel: Depends on container host Compiler: gcc 11.5.0 20240719 (Red Hat 11.5.0-2) Fedora 40 (ARM) Kernel: Depends on container host Compiler: gcc 14.2.1 20240912 (Red Hat 14.2.1-3) Fedora 41 (ARM Clang) Kernel: Depends on container host Compiler: clang 19.1.5 (Fedora 19.1.5-1.fc41) Ubuntu 20.04 (ARM) Kernel: Depends on container host Compiler: gcc (Ubuntu 9.4.0-1ubuntu1~20.04.2) 9.4.0 Ubuntu 22.04 (ARM) Kernel: Depends on container host Compiler: gcc (Ubuntu 11.4.0-1ubuntu1~22.04) 11.4.0 Fedora 41 (ARM) Kernel: Depends on container host Compiler: gcc 14.2.1 20240912 (Red Hat 14.2.1-3) Ubuntu 24.04 (ARM) Kernel: Depends on container host Compiler: gcc (Ubuntu 13.3.0-6ubuntu2~24.04) 13.3.0 32-bit Ubuntu 22.04.4 (ARM) Kernel: 5.15.83+ aarch64 Compiler: gcc (Ubuntu 11.4.0-1ubuntu1~22.04) 11.4.0 To view detailed results, visit: https://lab.dpdk.org/results/dashboard/patchsets/33175/ UNH-IOL DPDK Community Lab To manage your email subscriptions, visit: https://lab.dpdk.org/results/dashboard/preferences/subscriptions/