From mboxrd@z Thu Jan 1 00:00:00 1970 Return-Path: Received: from mails.dpdk.org (mails.dpdk.org [217.70.189.124]) by inbox.dpdk.org (Postfix) with ESMTP id 9960E46758 for ; Thu, 15 May 2025 20:18:46 +0200 (CEST) Received: from mails.dpdk.org (localhost [127.0.0.1]) by mails.dpdk.org (Postfix) with ESMTP id 948CA40EDC; Thu, 15 May 2025 20:18:46 +0200 (CEST) Received: from mail-pf1-f227.google.com (mail-pf1-f227.google.com [209.85.210.227]) by mails.dpdk.org (Postfix) with ESMTP id CB34740E03 for ; Thu, 15 May 2025 20:18:45 +0200 (CEST) Received: by mail-pf1-f227.google.com with SMTP id d2e1a72fcca58-73bf5aa95e7so1374917b3a.1 for ; Thu, 15 May 2025 11:18:45 -0700 (PDT) DKIM-Signature: v=1; a=rsa-sha256; c=relaxed/relaxed; d=iol.unh.edu; s=unh-iol; t=1747333125; x=1747937925; darn=dpdk.org; h=references:in-reply-to:cc:to:from:subject:message-id:date:from:to :cc:subject:date:message-id:reply-to; bh=MALxXiKY9PhmEKbsyayFGZ+jzeJt6d/4poHKgkZ96vA=; b=Cmclw/sLPDZu0ONR8mpZgiXPtnveGSbK5w/UwdPvUqr8JNbb8PMeH1DBkIgmxoUVsD HhCi11M/9N3/zGi51bCbYwQI78wbRuclAjPYOBxb6iNsRw68AhbeUaahDWzSUR7BlGRZ u5unEgy+gHZJEHg45PfGuocHouieK0hMVBsVA= X-Google-DKIM-Signature: v=1; a=rsa-sha256; c=relaxed/relaxed; d=1e100.net; s=20230601; t=1747333125; x=1747937925; h=references:in-reply-to:cc:to:from:subject:message-id:date :x-gm-message-state:from:to:cc:subject:date:message-id:reply-to; bh=MALxXiKY9PhmEKbsyayFGZ+jzeJt6d/4poHKgkZ96vA=; b=TxmGNLYGQzLW9uT0i5ay7DzUMcgMnNtFQtsfdTsX7HIaMjdPSW8yQeaF0/3Si05gL7 rH5Qv5CILDtyflz3mSy8k1e+0rZ4HS/NHbJRDnaQ6Xbp2lzzi9vdYIrTPI5VpwF/hop4 T9OT8KQ4hDuC3CpquxB3xd56sdzDzeoxTcfgi7mIipZW3hPR30TZuCZtmraaxXj14Wra Pawdpj0N3bsyVzHah1rUdZCiEMi0o/26pZsYtODbbEEK6BUlDJ0h1xfGpIXDZmVvOYhi lVlKqaGcEDHt7fKnd2s7D1wIZjsfstAqFSx8R/WgEHh4qPUqIkykGR4VuQwhF+uPauyg sHqA== X-Gm-Message-State: AOJu0YzKQcOz+LLr6D0c3WCLPtnVtV0qtj4qlUNzBp6nxvlkpgQEQGl9 of61ZDGf2v20XXFcgYq+KPuLB2YOlOEImzDVXKVpKgVZGFZwlRd155Me//OP7bp+Dl70YeGRmwJ p+DnXc9CcgkglbWjFdWlflfdJcou++XntbGFPgNbQVyAt X-Gm-Gg: ASbGncuobBvjKxFOJ3xPduKvcHU8lKo92jBkQnaQRRP96Tfx+aZz3FTftPq1WWzCrY4 EyjPvfM+b2g/PotASgSXw3qPdJ4bld+i1PAkJfU5kFPnZChbnnuHP714S7+XS2Z091/qnh7KS34 FH6s6L0BYYnjJPKfGqgSYla61ahYk96oyQkRLpkJIydP281pfHM5JnECKmn6Ta08UPFTU3ErgWC 93OXJ2bUiddNUUhR0/df5B0thvnYGQzOp8+Tj+SZrgP00MJCECkKhRF8Oqtm4Zf9qKRm5OcAWeC EJD29yZVFYTuVgMrQfO33AeHVYZP2zNnMB1QJOnfuNN2uQEDmW9KFrTmSfE= X-Google-Smtp-Source: AGHT+IHtNOz+bLvspvyZ7sodgVJNAiJc2+9Y+fYyTpXqL+699r57ujtQJ5p4Yax7idOuLenv2W3ZgdePOnjW X-Received: by 2002:a17:902:d589:b0:22e:4509:cb8a with SMTP id d9443c01a7336-231d45114e2mr6651895ad.21.1747333124976; Thu, 15 May 2025 11:18:44 -0700 (PDT) Received: from postal.iol.unh.edu (postal.iol.unh.edu. [132.177.123.84]) by smtp-relay.gmail.com with ESMTPS id d9443c01a7336-231d4e960b4sm80455ad.93.2025.05.15.11.18.44 (version=TLS1_2 cipher=ECDHE-ECDSA-AES128-GCM-SHA256 bits=128/128); Thu, 15 May 2025 11:18:44 -0700 (PDT) X-Relaying-Domain: iol.unh.edu Date: Thu, 15 May 2025 11:18:44 -0700 (PDT) Message-ID: <68263004.170a0220.2e30f2.06edSMTPIN_ADDED_MISSING@mx.google.com> Received: from [172.21.0.7] (unknown [172.18.0.240]) by postal.iol.unh.edu (Postfix) with ESMTP id 1D4466052471; Thu, 15 May 2025 14:18:44 -0400 (EDT) Subject: |SUCCESS| pw153446 [PATCH] crypto/cnxk: fix uninitialized scalar var From: dpdklab@iol.unh.edu To: Test Report Cc: dpdk-test-reports@iol.unh.edu In-Reply-To: <20250515080632.1676-1-gmuthukrishn@marvell.com> References: <20250515080632.1676-1-gmuthukrishn@marvell.com> Content-Type: text/plain X-BeenThere: test-report@dpdk.org X-Mailman-Version: 2.1.29 Precedence: list List-Id: automatic DPDK test reports List-Unsubscribe: , List-Archive: List-Post: List-Help: List-Subscribe: , Errors-To: test-report-bounces@dpdk.org Test-Label: iol-compile-arm64-testing Test-Status: SUCCESS http://dpdk.org/patch/153446 _Testing PASS_ Submitter: Gowrishankar Muthukrishnan Date: Thursday, May 15 2025 08:06:29 DPDK git baseline: Repo:dpdk Branch: master CommitID:ca1690ebd224f148268285b15b97441ccdbdd07e 153446 --> testing pass Upstream job id: Generic-DPDK-Compile-Meson#388181 Test environment and result as below: +----------------------------------------+--------------------+ | Environment | dpdk_meson_compile | +========================================+====================+ | RHEL9 (ARM) | PASS | +----------------------------------------+--------------------+ | Ubuntu 20.04 ARM GCC Cross Compile | PASS | +----------------------------------------+--------------------+ | Ubuntu 20.04 ARM SVE | PASS | +----------------------------------------+--------------------+ | Debian 12 with MUSDK | PASS | +----------------------------------------+--------------------+ | Fedora 40 (ARM) | PASS | +----------------------------------------+--------------------+ | Fedora 40 (ARM Clang) | PASS | +----------------------------------------+--------------------+ | Fedora 41 (ARM) | PASS | +----------------------------------------+--------------------+ | Fedora 41 (ARM Clang) | PASS | +----------------------------------------+--------------------+ | Ubuntu 20.04 (ARM) | PASS | +----------------------------------------+--------------------+ | Ubuntu 22.04 (ARM) | PASS | +----------------------------------------+--------------------+ | Ubuntu 24.04 (ARM) | PASS | +----------------------------------------+--------------------+ | CentOS Stream 9 (ARM) | PASS | +----------------------------------------+--------------------+ | CentOS Stream 10 (ARM) | PASS | +----------------------------------------+--------------------+ | Debian 12 (arm) | PASS | +----------------------------------------+--------------------+ | Ubuntu 20.04 ARM Clang Cross Compile | PASS | +----------------------------------------+--------------------+ | Ubuntu 20.04 aarch32 GCC Cross Compile | PASS | +----------------------------------------+--------------------+ RHEL9 (ARM) Kernel: Depends on container host Compiler: gcc 11.5.0 20240719 (Red Hat 11.5.0-2) Ubuntu 20.04 ARM GCC Cross Compile Kernel: Depends on container host Compiler: aarch64-linux-gnu-gcc (Ubuntu 9.4.0-1ubuntu1~20.04.2) 9.4.0 Ubuntu 20.04 ARM SVE Kernel: Depends on container host Compiler: gcc (Ubuntu 10.5.0-1ubuntu1~20.04) 10.5.0 Debian 12 with MUSDK Kernel: Depends on container host Compiler: gcc (Debian 12.2.0-14) 12.2.0 Fedora 40 (ARM) Kernel: Depends on container host Compiler: gcc 14.2.1 20240912 (Red Hat 14.2.1-3) Fedora 40 (ARM Clang) Kernel: Depends on container host Compiler: clang 18.1.8 (Fedora 18.1.8-1.fc40) Fedora 41 (ARM) Kernel: Depends on container host Compiler: gcc 14.2.1 20240912 (Red Hat 14.2.1-3) Fedora 41 (ARM Clang) Kernel: Depends on container host Compiler: clang 19.1.5 (Fedora 19.1.5-1.fc41) Ubuntu 20.04 (ARM) Kernel: Depends on container host Compiler: gcc (Ubuntu 9.4.0-1ubuntu1~20.04.2) 9.4.0 Ubuntu 22.04 (ARM) Kernel: Depends on container host Compiler: gcc (Ubuntu 11.4.0-1ubuntu1~22.04) 11.4.0 Ubuntu 24.04 (ARM) Kernel: Depends on container host Compiler: gcc (Ubuntu 13.3.0-6ubuntu2~24.04) 13.3.0 CentOS Stream 9 (ARM) Kernel: Depends on container host Compiler: gcc 11.5.0 20240719 (Red Hat 11.5.0-2) CentOS Stream 10 (ARM) Kernel: Depends on container host Compiler: gcc 14.2.1 20241104 (Red Hat 14.2.1-6) Debian 12 (arm) Kernel: Depends on container host Compiler: gcc (Debian 12.2.0-14) 12.2.0 Ubuntu 20.04 ARM Clang Cross Compile Kernel: Depends on container host Compiler: clang 10.0.0-4ubuntu1 Ubuntu 20.04 aarch32 GCC Cross Compile Kernel: Depends on container host Compiler: gcc 9.4.0 To view detailed results, visit: https://lab.dpdk.org/results/dashboard/patchsets/33177/ UNH-IOL DPDK Community Lab To manage your email subscriptions, visit: https://lab.dpdk.org/results/dashboard/preferences/subscriptions/