From mboxrd@z Thu Jan 1 00:00:00 1970 Return-Path: Received: from mails.dpdk.org (mails.dpdk.org [217.70.189.124]) by inbox.dpdk.org (Postfix) with ESMTP id B777F46758 for ; Thu, 15 May 2025 20:19:40 +0200 (CEST) Received: from mails.dpdk.org (localhost [127.0.0.1]) by mails.dpdk.org (Postfix) with ESMTP id B10C140EDC; Thu, 15 May 2025 20:19:40 +0200 (CEST) Received: from mail-pf1-f227.google.com (mail-pf1-f227.google.com [209.85.210.227]) by mails.dpdk.org (Postfix) with ESMTP id BF03F40E03 for ; Thu, 15 May 2025 20:19:39 +0200 (CEST) Received: by mail-pf1-f227.google.com with SMTP id d2e1a72fcca58-7418e182864so1443012b3a.1 for ; Thu, 15 May 2025 11:19:39 -0700 (PDT) DKIM-Signature: v=1; a=rsa-sha256; c=relaxed/relaxed; d=iol.unh.edu; s=unh-iol; t=1747333179; x=1747937979; darn=dpdk.org; h=references:in-reply-to:cc:to:from:subject:message-id:date:from:to :cc:subject:date:message-id:reply-to; bh=OUnhy4hiNVtIrHCm3cAsmyagz28GUMhXU5DNVN4P53w=; b=dVpFgbYuYsva8DkR8BhBnO5oKopM+firxSjKHnoa4m81dMPBnSeVGyhRW1jK5UkDHb XxZEYb/Vuf8tWNZCJzwtUgvHzxRBqr9NzJr9uzYtlLsNRblwGivQ+rf02nUNsBvngegY lCmGiwC2iYt34v7aLgIw3x52lQ2A60LX2JH9c= X-Google-DKIM-Signature: v=1; a=rsa-sha256; c=relaxed/relaxed; d=1e100.net; s=20230601; t=1747333179; x=1747937979; h=references:in-reply-to:cc:to:from:subject:message-id:date :x-gm-message-state:from:to:cc:subject:date:message-id:reply-to; bh=OUnhy4hiNVtIrHCm3cAsmyagz28GUMhXU5DNVN4P53w=; b=OgIvHEacpDCcqTwMEYk8lMOLwsU+HmsG0wIH+N38Y0WnACpw+VzxU48WED3b8Ty6V9 Jff7/F+InaNHZ3nGYPwvRZo+sQKAGNsgj0tlGY0Ja1zb3EzK40huq0Ue7rX8UsSehc+o ae7M9Ry4+ZtfQsloKvZYSh/9iQfaIWuWCqnHLQvukht+1uL5Fyvrg/TAJzZpYeWEnKIS cpC4EY+zN+QbcthUM73PdcM7XGNyvPvKPtu4fUf+uSAx/D3cZtO/Idznq+Sg5NbWVPDX KaTS4IMoQF4zXgcA+k+vrMjgrwcFJUcakqRJt1kgPPJfIPzcVca7qhTnDM5vu7ZXWu9M EsFg== X-Gm-Message-State: AOJu0Ywmsoogd20jS3xsfzFyidMunvjuZylRoFgL6XAgLpt8hTPwx7t1 m+qBcVtPXO0nOMMz4ivRpuMfzEkZBzlXdMgqN5HbcX3NpLw42hB5qMmUimhOOPy6pszL7vwElP3 2h8b3euPn9Jk/6rhfLveaEixuW6iW+/NDbVfRBsXgrWqX X-Gm-Gg: ASbGncuyHPGijOknJF1ObX4CWeHlNVwrgAfGNNpCmS3HbFn11fDEB1QGxadDpz3UiUG 1DaFwCkNG0VGfn4C2inQvJWfGBW90c0R6AS5os68F0cCTFZSeN1otNMrOyObiT67/Z+P8e1iWke JR75ccLLWI7fxSGW91Kc6+ZctD0RV9z4poppckzek/HCSbEEVX1p3NPK4K0wSYZQoYzrKMYs8AM zH2BovV4jIu6k2fcj0gjp9/A1ZtcjVTSqDP+uSJR0THpC74+/u75v0A3t2r01iZApFy6V8MhngK M2vqXUFGBMgHyBlPbM03UrS2nE9Cfikw91wRs8s6j/2UJqe+0w8o17jIahQ= X-Google-Smtp-Source: AGHT+IEAZrN+TzPIk2TiJrp4xKi37wKjEvnnXCGGUtaEbmKLjH9EoG12ofW/7uB3PmBs32umVIEinDRb0A9S X-Received: by 2002:a17:902:e80c:b0:224:78e:4eb4 with SMTP id d9443c01a7336-231d45a9c3cmr5429795ad.39.1747333178973; Thu, 15 May 2025 11:19:38 -0700 (PDT) Received: from postal.iol.unh.edu (postal.iol.unh.edu. [132.177.123.84]) by smtp-relay.gmail.com with ESMTPS id d9443c01a7336-231d4eb9d4bsm77685ad.104.2025.05.15.11.19.38 (version=TLS1_2 cipher=ECDHE-ECDSA-AES128-GCM-SHA256 bits=128/128); Thu, 15 May 2025 11:19:38 -0700 (PDT) X-Relaying-Domain: iol.unh.edu Date: Thu, 15 May 2025 11:19:38 -0700 (PDT) Message-ID: <6826303a.170a0220.10aed8.06c9SMTPIN_ADDED_MISSING@mx.google.com> Received: from [172.21.0.6] (unknown [172.18.0.240]) by postal.iol.unh.edu (Postfix) with ESMTP id 629476052471; Thu, 15 May 2025 14:19:38 -0400 (EDT) Subject: |SUCCESS| pw153445 [PATCH] crypto/cnxk: fix out-of-bounds access From: dpdklab@iol.unh.edu To: Test Report Cc: dpdk-test-reports@iol.unh.edu In-Reply-To: <20250515080528.1644-1-gmuthukrishn@marvell.com> References: <20250515080528.1644-1-gmuthukrishn@marvell.com> Content-Type: text/plain X-BeenThere: test-report@dpdk.org X-Mailman-Version: 2.1.29 Precedence: list List-Id: automatic DPDK test reports List-Unsubscribe: , List-Archive: List-Post: List-Help: List-Subscribe: , Errors-To: test-report-bounces@dpdk.org Test-Label: iol-unit-amd64-testing Test-Status: SUCCESS http://dpdk.org/patch/153445 _Testing PASS_ Submitter: Gowrishankar Muthukrishnan Date: Thursday, May 15 2025 08:05:25 DPDK git baseline: Repo:dpdk Branch: master CommitID:dcf9f9363aa9b4163d241caf8b26a84ca0c0006b 153445 --> testing pass Upstream job id: Generic-Unit-Test-DPDK#338027 Test environment and result as below: +-------------------+----------------+ | Environment | dpdk_unit_test | +===================+================+ | Debian 12 | PASS | +-------------------+----------------+ | CentOS Stream 9 | PASS | +-------------------+----------------+ | CentOS Stream 10 | PASS | +-------------------+----------------+ | RHEL9 | PASS | +-------------------+----------------+ | Fedora 41 (Clang) | PASS | +-------------------+----------------+ | Fedora 40 (Clang) | PASS | +-------------------+----------------+ | Fedora 41 | PASS | +-------------------+----------------+ | Ubuntu 20.04 | PASS | +-------------------+----------------+ | Ubuntu 22.04 | PASS | +-------------------+----------------+ | Fedora 40 | PASS | +-------------------+----------------+ | Ubuntu 24.04 | PASS | +-------------------+----------------+ | RHEL8 | PASS | +-------------------+----------------+ Debian 12 Kernel: Depends on container host Compiler: gcc (Debian 12.2.0-14) 12.2.0 CentOS Stream 9 Kernel: Depends on container host Compiler: gcc 11.5.0 20240719 (Red Hat 11.5.0-2) CentOS Stream 10 Kernel: Depends on container host Compiler: gcc 14.2.1 20241104 (Red Hat 14.2.1-6) RHEL9 Kernel: Depends on container host Compiler: gcc 11.5.0 20240719 (Red Hat 11.5.0-2) Fedora 41 (Clang) Kernel: Depends on container host Compiler: clang 19.1.5 (Fedora 19.1.5-1.fc41) Fedora 40 (Clang) Kernel: Depends on container host Compiler: clang 18.1.8 (Fedora 18.1.8-1.fc40) Fedora 41 Kernel: Depends on container host Compiler: gcc 14.2.1 20240912 (Red Hat 14.2.1-3) Ubuntu 20.04 Kernel: Depends on container host Compiler: gcc (Ubuntu 9.4.0-1ubuntu1~20.04.2) 9.4.0 Ubuntu 22.04 Kernel: Depends on container host Compiler: gcc (Ubuntu 11.4.0-1ubuntu1~22.04) 11.4.0 Fedora 40 Kernel: Depends on container host Compiler: gcc 14.2.1 20240912 (Red Hat 14.2.1-3) Ubuntu 24.04 Kernel: Depends on container host Compiler: gcc (Ubuntu 13.3.0-6ubuntu2~24.04) 13.3.0 RHEL8 Kernel: Depends on container host Compiler: gcc 8.5.0 20210514 (Red Hat 8.5.0-22) To view detailed results, visit: https://lab.dpdk.org/results/dashboard/patchsets/33176/ UNH-IOL DPDK Community Lab To manage your email subscriptions, visit: https://lab.dpdk.org/results/dashboard/preferences/subscriptions/