From mboxrd@z Thu Jan  1 00:00:00 1970
Return-Path: <test-report-bounces@dpdk.org>
Received: from mails.dpdk.org (mails.dpdk.org [217.70.189.124])
	by inbox.dpdk.org (Postfix) with ESMTP id 027F946758
	for <public@inbox.dpdk.org>; Thu, 15 May 2025 20:27:55 +0200 (CEST)
Received: from mails.dpdk.org (localhost [127.0.0.1])
	by mails.dpdk.org (Postfix) with ESMTP id E303D40EDC;
	Thu, 15 May 2025 20:27:55 +0200 (CEST)
Received: from mail-io1-f98.google.com (mail-io1-f98.google.com
 [209.85.166.98]) by mails.dpdk.org (Postfix) with ESMTP id 25DE640E03
 for <test-report@dpdk.org>; Thu, 15 May 2025 20:27:55 +0200 (CEST)
Received: by mail-io1-f98.google.com with SMTP id
 ca18e2360f4ac-867355d9c4eso32146439f.0
 for <test-report@dpdk.org>; Thu, 15 May 2025 11:27:55 -0700 (PDT)
DKIM-Signature: v=1; a=rsa-sha256; c=relaxed/relaxed;
 d=iol.unh.edu; s=unh-iol; t=1747333674; x=1747938474; darn=dpdk.org;
 h=references:in-reply-to:cc:to:from:subject:message-id:date:from:to
 :cc:subject:date:message-id:reply-to;
 bh=9Rx3wHAOqdGBvJqka2CB9ueQOEpB8pXg9vjAaXwuFk0=;
 b=Z4dmmDaETPQ7HD9WWsBv1NW9lt5NJy3+r7bsm8dWEPi5tc3YxbEAmSkKxVjH6M92qp
 byGiy7S2aBS+A2bJ1Dvx2mBLCPkfZzfdY7bAZ7zFJseroGCuh+xz74zQhD21jiHYI2i2
 i22K6WtiQk0WBbh8R1gb/aHsmeLRC1uBir0PY=
X-Google-DKIM-Signature: v=1; a=rsa-sha256; c=relaxed/relaxed;
 d=1e100.net; s=20230601; t=1747333674; x=1747938474;
 h=references:in-reply-to:cc:to:from:subject:message-id:date
 :x-gm-message-state:from:to:cc:subject:date:message-id:reply-to;
 bh=9Rx3wHAOqdGBvJqka2CB9ueQOEpB8pXg9vjAaXwuFk0=;
 b=GUqOcxixz6ThTFaZ2Y4FBfSN3YcibEb3DuGqQyZ1o4SRcFk4fPm6tSDw9JxBZXaCeg
 nQf1jgxGrsNShPNJx2dx9s9yRFPBycMG8g5eF4eU7rIYgJ2QVwbRVTTEa/82A6MA0dbX
 7dxtpCKpxwMPlHEl5I2WFp48GrI4Evbc2yjWv3CTl4sYpQCrvc+c8mqk2LC1x7oGU4U8
 H6NSNDiYRymSOPlY9lTeJPXazQ4pLnKbhxwPdofQjtDYIKXLXG+YEHv/CqITOYZ2hawt
 Z4ZWgm/69yzfDkh+Zm2RpeIdInn32piNsLUe66sisg1nrHstZAPwDvYrrQ3AKU6WFrI6
 Cz8Q==
X-Gm-Message-State: AOJu0Ywck7CLFjOxOWHFUHs0zsfMl/3+obkM08zaldjO1tFDsG34BgRw
 AkcvafKFLeHPmR9z8uTanGJvilYw2fDXvf3q2uIbwd7djJ84pbG6Um+0Oq1e0CBVehPJRNItEGC
 rIz8CNO7NzLg7ZYR8WOMVxJIAUy2+RZrd6oMUvmDOsttB
X-Gm-Gg: ASbGnct1+SK+fy6DgUAJTyQNGBM4Eroj3xineCfvkibRUW7rr/8Bg5PDWUTBDOD3wu3
 8JJTymbwoe5UjPNBv+ly/z1NGSAlO2xx0rmIAuVWp9PGT002ZZ14s87ktYdrMvC3XQOGtG3QzM9
 rcBlPRMSrZVEKh+j3U6AaPbMlSFe3v+qKhDL98fRNzjGhB0ukv5NVPS+NCxJ21qxYA43U62yDWH
 IoR+vWUFKqXEJ1+ZCPXGbIuUjyMhNcuzqH+0cWfvK7NGa2Qfp8Y8ut/30hXHTM8HhAOcgbakRu5
 BBwx2QaECAE4juW2R6yPwVxzc87lozNxUXedIHcwWb0hWV6Vy9HE9XRNTJs=
X-Google-Smtp-Source: AGHT+IH1D0x+d6fqrRThTuZyrGPKvL8x0LQUUxR1q+D9JhQwwWWkEZ8ZXpoSHJdmk7LBGSN0E0rVX90fqikB
X-Received: by 2002:a05:6e02:1fce:b0:3d9:24d8:8d41 with SMTP id
 e9e14a558f8ab-3db8433a390mr9643515ab.16.1747333673909; 
 Thu, 15 May 2025 11:27:53 -0700 (PDT)
Received: from postal.iol.unh.edu (postal.iol.unh.edu. [132.177.123.84])
 by smtp-relay.gmail.com with ESMTPS id
 8926c6da1cb9f-4fbcc4a0658sm7073173.70.2025.05.15.11.27.53
 (version=TLS1_2 cipher=ECDHE-ECDSA-AES128-GCM-SHA256 bits=128/128);
 Thu, 15 May 2025 11:27:53 -0700 (PDT)
X-Relaying-Domain: iol.unh.edu
Date: Thu, 15 May 2025 11:27:53 -0700 (PDT)
Message-ID: <68263229.050a0220.3466f9.06a3SMTPIN_ADDED_MISSING@mx.google.com>
Received: from [172.21.0.6] (unknown [172.18.0.240])
 by postal.iol.unh.edu (Postfix) with ESMTP id 69AC06052471;
 Thu, 15 May 2025 14:27:53 -0400 (EDT)
Subject: |WARNING| pw153444 [PATCH] crypto/virtio: check for invalid IOVA add
From: dpdklab@iol.unh.edu
To: Test Report <test-report@dpdk.org>
Cc: dpdk-test-reports@iol.unh.edu
In-Reply-To: <20250515080313.1612-1-gmuthukrishn@marvell.com>
References: <20250515080313.1612-1-gmuthukrishn@marvell.com>
Content-Type: text/plain
X-BeenThere: test-report@dpdk.org
X-Mailman-Version: 2.1.29
Precedence: list
List-Id: automatic DPDK test reports <test-report.dpdk.org>
List-Unsubscribe: <https://mails.dpdk.org/options/test-report>,
 <mailto:test-report-request@dpdk.org?subject=unsubscribe>
List-Archive: <http://mails.dpdk.org/archives/test-report/>
List-Post: <mailto:test-report@dpdk.org>
List-Help: <mailto:test-report-request@dpdk.org?subject=help>
List-Subscribe: <https://mails.dpdk.org/listinfo/test-report>,
 <mailto:test-report-request@dpdk.org?subject=subscribe>
Errors-To: test-report-bounces@dpdk.org

Test-Label: iol-compile-amd64-testing
Test-Status: WARNING
http://dpdk.org/patch/153444

_Testing issues_

Submitter: Gowrishankar Muthukrishnan <gmuthukrishn@marvell.com>
Date: Thursday, May 15 2025 08:03:10 
DPDK git baseline: Repo:dpdk
  Branch: master
  CommitID:dcf9f9363aa9b4163d241caf8b26a84ca0c0006b

153444 --> testing issues

Upstream job id: Generic-DPDK-Compile-Meson#388240

Test environment and result as below:

+-----------------------------------+--------------------+-------------------+------------------+-------------------+-------------------------+
|            Environment            | dpdk_meson_compile | dpdk_compile_spdk | dpdk_compile_ovs | dpdk_msvc_compile | dpdk_llvm_clang_compile |
+===================================+====================+===================+==================+===================+=========================+
| CentOS Stream 9                   | PASS               | PASS              | SKIPPED          | SKIPPED           | SKIPPED                 |
+-----------------------------------+--------------------+-------------------+------------------+-------------------+-------------------------+
| CentOS Stream 10                  | PASS               | SKIPPED           | SKIPPED          | SKIPPED           | SKIPPED                 |
+-----------------------------------+--------------------+-------------------+------------------+-------------------+-------------------------+
| Debian 12                         | PASS               | PASS              | SKIPPED          | SKIPPED           | SKIPPED                 |
+-----------------------------------+--------------------+-------------------+------------------+-------------------+-------------------------+
| Fedora 40 (Clang)                 | PASS               | WARN              | SKIPPED          | SKIPPED           | SKIPPED                 |
+-----------------------------------+--------------------+-------------------+------------------+-------------------+-------------------------+
| Fedora 40                         | PASS               | PASS              | SKIPPED          | SKIPPED           | SKIPPED                 |
+-----------------------------------+--------------------+-------------------+------------------+-------------------+-------------------------+
| Fedora 41 (Clang)                 | PEND               | PEND              | PEND             | SKIPPED           | SKIPPED                 |
+-----------------------------------+--------------------+-------------------+------------------+-------------------+-------------------------+
| RHEL8                             | PASS               | SKIPPED           | SKIPPED          | SKIPPED           | SKIPPED                 |
+-----------------------------------+--------------------+-------------------+------------------+-------------------+-------------------------+
| Fedora 41                         | PEND               | PEND              | PEND             | SKIPPED           | SKIPPED                 |
+-----------------------------------+--------------------+-------------------+------------------+-------------------+-------------------------+
| RHEL9                             | PASS               | SKIPPED           | SKIPPED          | SKIPPED           | SKIPPED                 |
+-----------------------------------+--------------------+-------------------+------------------+-------------------+-------------------------+
| Ubuntu 22.04                      | PEND               | PEND              | SKIPPED          | SKIPPED           | SKIPPED                 |
+-----------------------------------+--------------------+-------------------+------------------+-------------------+-------------------------+
| Ubuntu 20.04                      | PASS               | SKIPPED           | SKIPPED          | SKIPPED           | SKIPPED                 |
+-----------------------------------+--------------------+-------------------+------------------+-------------------+-------------------------+
| openSUSE Leap 15                  | PEND               | SKIPPED           | SKIPPED          | SKIPPED           | SKIPPED                 |
+-----------------------------------+--------------------+-------------------+------------------+-------------------+-------------------------+
| Ubuntu 24.04                      | PEND               | PEND              | PEND             | SKIPPED           | SKIPPED                 |
+-----------------------------------+--------------------+-------------------+------------------+-------------------+-------------------------+
| Ubuntu 24.04 32 Bit Cross Compile | PEND               | SKIPPED           | SKIPPED          | SKIPPED           | SKIPPED                 |
+-----------------------------------+--------------------+-------------------+------------------+-------------------+-------------------------+
| FreeBSD 13.5                      | PASS               | SKIPPED           | SKIPPED          | SKIPPED           | SKIPPED                 |
+-----------------------------------+--------------------+-------------------+------------------+-------------------+-------------------------+
| FreeBSD 14.2                      | PASS               | SKIPPED           | SKIPPED          | SKIPPED           | SKIPPED                 |
+-----------------------------------+--------------------+-------------------+------------------+-------------------+-------------------------+
| Alpine                            | PEND               | SKIPPED           | SKIPPED          | SKIPPED           | SKIPPED                 |
+-----------------------------------+--------------------+-------------------+------------------+-------------------+-------------------------+
| Windows Server 2022               | SKIPPED            | SKIPPED           | SKIPPED          | PASS              | PASS                    |
+-----------------------------------+--------------------+-------------------+------------------+-------------------+-------------------------+

==== 20 line log output for Fedora 40 (Clang) (dpdk_compile_spdk): ====
 --- Failed to get log output --- 
==== End log output ====

CentOS Stream 9
	Kernel: Depends on container host
	Compiler: gcc 11.5.0 20240719 (Red Hat 11.5.0-2)

CentOS Stream 10
	Kernel: Depends on container host
	Compiler: gcc 14.2.1 20241104 (Red Hat 14.2.1-6)

Debian 12
	Kernel: Depends on container host
	Compiler: gcc (Debian 12.2.0-14) 12.2.0

Fedora 40 (Clang)
	Kernel: Depends on container host
	Compiler: clang 18.1.8 (Fedora 18.1.8-1.fc40)

Fedora 40
	Kernel: Depends on container host
	Compiler: gcc 14.2.1 20240912 (Red Hat 14.2.1-3)

Fedora 41 (Clang)
	Kernel: Depends on container host
	Compiler: clang 19.1.5 (Fedora 19.1.5-1.fc41)

RHEL8
	Kernel: Depends on container host
	Compiler: gcc 8.5.0 20210514 (Red Hat 8.5.0-22)

Fedora 41
	Kernel: Depends on container host
	Compiler: gcc 14.2.1 20240912 (Red Hat 14.2.1-3)

RHEL9
	Kernel: Depends on container host
	Compiler: gcc 11.5.0 20240719 (Red Hat 11.5.0-2)

Ubuntu 22.04
	Kernel: Depends on container host
	Compiler: gcc (Ubuntu 11.4.0-1ubuntu1~22.04) 11.4.0

Ubuntu 20.04
	Kernel: Depends on container host
	Compiler: gcc (Ubuntu 9.4.0-1ubuntu1~20.04.2) 9.4.0

openSUSE Leap 15
	Kernel: Depends on container host
	Compiler: gcc (SUSE Linux) 7.5.0

Ubuntu 24.04
	Kernel: Depends on container host
	Compiler: gcc (Ubuntu 13.3.0-6ubuntu2~24.04) 13.3.0

Ubuntu 24.04 32 Bit Cross Compile
	Kernel: Depends on container host
	Compiler: gcc (Ubuntu 13.3.0-6ubuntu2~24.04) 13.3.0

FreeBSD 13.5
	Kernel: 13.5-RELEASE
	Compiler: clang 19.1.7

FreeBSD 14.2
	Kernel: 14.2-RELEASE
	Compiler: clang 18.1.6

Alpine
	Kernel: Depends on container host
	Compiler: gcc (Alpine 14.2.0) 14.2.0

Windows Server 2022
	Kernel: 10.0.20348.2031
	Compiler: clang 15.0.7, gcc 14.1.0 (MinGW), and MSVC VS 19.39.33521

To view detailed results, visit:
https://lab.dpdk.org/results/dashboard/patchsets/33175/

UNH-IOL DPDK Community Lab

To manage your email subscriptions, visit: 
https://lab.dpdk.org/results/dashboard/preferences/subscriptions/