From mboxrd@z Thu Jan 1 00:00:00 1970 Return-Path: Received: from mails.dpdk.org (mails.dpdk.org [217.70.189.124]) by inbox.dpdk.org (Postfix) with ESMTP id 066B146758 for ; Thu, 15 May 2025 20:39:34 +0200 (CEST) Received: from mails.dpdk.org (localhost [127.0.0.1]) by mails.dpdk.org (Postfix) with ESMTP id E5DA241060; Thu, 15 May 2025 20:39:33 +0200 (CEST) Received: from mail-qt1-f225.google.com (mail-qt1-f225.google.com [209.85.160.225]) by mails.dpdk.org (Postfix) with ESMTP id 5173440EDC for ; Thu, 15 May 2025 20:39:32 +0200 (CEST) Received: by mail-qt1-f225.google.com with SMTP id d75a77b69052e-47686580529so14141351cf.2 for ; Thu, 15 May 2025 11:39:32 -0700 (PDT) DKIM-Signature: v=1; a=rsa-sha256; c=relaxed/relaxed; d=iol.unh.edu; s=unh-iol; t=1747334371; x=1747939171; darn=dpdk.org; h=references:in-reply-to:cc:to:from:subject:message-id:date:from:to :cc:subject:date:message-id:reply-to; bh=k2/ENGg4gHHNXe2vxJkitjlKb6MC3Wmb8oqgAh1nMhk=; b=I5+2FgA1M6ONOzs9QJCY/i6yV/0Hsa5qFNrQ7VFaEizjzstr1i6+oS4nipiKcc3uAv WUBB+GqYgeM9jeEtuzoZ/+6PFQyJiM1PnAdK+YesoMndZ/YSdO7uKAsz8Zd+SqCGzNH7 ATgO1IuWZojDGt/RJN89BSoY8d+QdaQQxZZZU= X-Google-DKIM-Signature: v=1; a=rsa-sha256; c=relaxed/relaxed; d=1e100.net; s=20230601; t=1747334371; x=1747939171; h=references:in-reply-to:cc:to:from:subject:message-id:date :x-gm-message-state:from:to:cc:subject:date:message-id:reply-to; bh=k2/ENGg4gHHNXe2vxJkitjlKb6MC3Wmb8oqgAh1nMhk=; b=AWXFi9Ii6npeNOxSbz3JEo7YZZ0PjAG2oIxZSYNjY4OE2E1zwIj96Xrwxzgs3sB7qF 6TqY2B+b/VfsGAAto7tu4QN0FnkbWh3CqN8F2tnRs+L+0k8aLhxunTFgXMfPxiuuNM2j cdxLhXR+hNg9U2dihEWlR55NgI+xN4ORMNTUORFt2QOUM9HroclakimY1e0ghknWxNys P77ljQVE1giLQ4AQqPodDR8LgX2AMnSrTFmKk5mJyiP009MavoTIN4BIuvaNY2LWMl6G ENdZl4YilvfXlSAaCjIn/Id1x70SpOMPpFnn1kVR7s+DhKyyRfw5wkJKHO8Zn3c1Gri2 JKmg== X-Gm-Message-State: AOJu0Yyf2ZDTuCWuSdVgGP7VTiSBx6CvpJ9SIqkKNHYIDYH2PQDh38wW Y8InwJvfApABmx4lRIDuCY5heL7YbSjs51fnmzpzRLG/zAs5oTlElqPUki1qIrf20OViDWZDRlI cl4ECR0dM4z7FwWs1OISaDEui4UuujQs/CeQvNUrhPmpJg+a5i1T+5HTRdchq X-Gm-Gg: ASbGncuS86AFVeQCrf7XwSC+cQU2zCsDNqwI34rukREDJABAWlSR+AOX2spQO6k9VV5 Q3pyc09GBKns1Vpiub/V2bVvcwXICZ8mmr9HapCAxO9oZqP/NAqAJP407e+930v4V7lKKqmtbbs jW/FQ+X1G06Cy8RXNWZ/4FDPHhmioTQAgDM4kzoXNIvQ8vXwsGM15WqXFd8Fo5sPj+uVg29ln5Z bMScypC0WAlEVIBYyBPeX1Xub+HT6jmUouKOONC+8g2f+ZrKihumvZM2BbXPr1WtS7mKlnzR4k8 OcTP0DIlGGK5y9McGESD3MP7gsnncA0Z3G8a X-Google-Smtp-Source: AGHT+IG+Pk2VOxDUSKduJEdQj8CpK4+vCv+Kb2pLuY7f4XvqKbmJnGYLCIHROTuXfSM6eZmsoPnYCTVoqeWj X-Received: by 2002:a05:622a:1ccc:b0:476:71d2:61e0 with SMTP id d75a77b69052e-494ae3d6dc8mr8967761cf.23.1747334371483; Thu, 15 May 2025 11:39:31 -0700 (PDT) Received: from postal.iol.unh.edu (postal.iol.unh.edu. [2606:4100:3880:1234::84]) by smtp-relay.gmail.com with ESMTPS id d75a77b69052e-494ae507a4csm72211cf.22.2025.05.15.11.39.31 (version=TLS1_2 cipher=ECDHE-ECDSA-AES128-GCM-SHA256 bits=128/128); Thu, 15 May 2025 11:39:31 -0700 (PDT) X-Relaying-Domain: iol.unh.edu Date: Thu, 15 May 2025 11:39:31 -0700 (PDT) Message-ID: <682634e3.c80a0220.3c6b48.0606SMTPIN_ADDED_MISSING@mx.google.com> Received: from [172.21.0.6] (unknown [172.18.0.240]) by postal.iol.unh.edu (Postfix) with ESMTP id 2ED2A6052471; Thu, 15 May 2025 14:39:31 -0400 (EDT) Subject: |SUCCESS| pw153445 [PATCH] crypto/cnxk: fix out-of-bounds access From: dpdklab@iol.unh.edu To: Test Report Cc: dpdk-test-reports@iol.unh.edu In-Reply-To: <20250515080528.1644-1-gmuthukrishn@marvell.com> References: <20250515080528.1644-1-gmuthukrishn@marvell.com> Content-Type: text/plain X-BeenThere: test-report@dpdk.org X-Mailman-Version: 2.1.29 Precedence: list List-Id: automatic DPDK test reports List-Unsubscribe: , List-Archive: List-Post: List-Help: List-Subscribe: , Errors-To: test-report-bounces@dpdk.org Test-Label: iol-unit-amd64-testing Test-Status: SUCCESS http://dpdk.org/patch/153445 _Testing PASS_ Submitter: Gowrishankar Muthukrishnan Date: Thursday, May 15 2025 08:05:25 DPDK git baseline: Repo:dpdk Branch: master CommitID:ca1690ebd224f148268285b15b97441ccdbdd07e 153445 --> testing pass Upstream job id: Generic-VM-Unit-Test-DPDK#28536 Test environment and result as below: +---------------------+----------------+ | Environment | dpdk_unit_test | +=====================+================+ | CentOS Stream 10 | PASS | +---------------------+----------------+ | CentOS Stream 9 | PASS | +---------------------+----------------+ | Debian 12 | PASS | +---------------------+----------------+ | Fedora 41 | PASS | +---------------------+----------------+ | RHEL8 | PASS | +---------------------+----------------+ | Fedora 40 (Clang) | PASS | +---------------------+----------------+ | Fedora 40 | PASS | +---------------------+----------------+ | Fedora 41 (Clang) | PASS | +---------------------+----------------+ | RHEL9 | PASS | +---------------------+----------------+ | Ubuntu 20.04 | PASS | +---------------------+----------------+ | Ubuntu 22.04 | PASS | +---------------------+----------------+ | Ubuntu 24.04 | PASS | +---------------------+----------------+ | Windows Server 2022 | PASS | +---------------------+----------------+ CentOS Stream 10 Kernel: Depends on container host Compiler: gcc 14.2.1 20241104 (Red Hat 14.2.1-6) CentOS Stream 9 Kernel: Depends on container host Compiler: gcc 11.5.0 20240719 (Red Hat 11.5.0-2) Debian 12 Kernel: Depends on container host Compiler: gcc (Debian 12.2.0-14) 12.2.0 Fedora 41 Kernel: Depends on container host Compiler: gcc 14.2.1 20240912 (Red Hat 14.2.1-3) RHEL8 Kernel: Depends on container host Compiler: gcc 8.5.0 20210514 (Red Hat 8.5.0-22) Fedora 40 (Clang) Kernel: Depends on container host Compiler: clang 18.1.8 (Fedora 18.1.8-1.fc40) Fedora 40 Kernel: Depends on container host Compiler: gcc 14.2.1 20240912 (Red Hat 14.2.1-3) Fedora 41 (Clang) Kernel: Depends on container host Compiler: clang 19.1.5 (Fedora 19.1.5-1.fc41) RHEL9 Kernel: Depends on container host Compiler: gcc 11.5.0 20240719 (Red Hat 11.5.0-2) Ubuntu 20.04 Kernel: Depends on container host Compiler: gcc (Ubuntu 9.4.0-1ubuntu1~20.04.2) 9.4.0 Ubuntu 22.04 Kernel: Depends on container host Compiler: gcc (Ubuntu 11.4.0-1ubuntu1~22.04) 11.4.0 Ubuntu 24.04 Kernel: Depends on container host Compiler: gcc (Ubuntu 13.3.0-6ubuntu2~24.04) 13.3.0 Windows Server 2022 Kernel: 10.0.20348.2031 Compiler: clang 15.0.7, gcc 14.1.0 (MinGW), and MSVC VS 19.39.33521 To view detailed results, visit: https://lab.dpdk.org/results/dashboard/patchsets/33176/ UNH-IOL DPDK Community Lab To manage your email subscriptions, visit: https://lab.dpdk.org/results/dashboard/preferences/subscriptions/