From mboxrd@z Thu Jan 1 00:00:00 1970 Return-Path: Received: from mails.dpdk.org (mails.dpdk.org [217.70.189.124]) by inbox.dpdk.org (Postfix) with ESMTP id CFDF646758 for ; Thu, 15 May 2025 21:17:02 +0200 (CEST) Received: from mails.dpdk.org (localhost [127.0.0.1]) by mails.dpdk.org (Postfix) with ESMTP id C723041060; Thu, 15 May 2025 21:17:02 +0200 (CEST) Received: from mail-pf1-f225.google.com (mail-pf1-f225.google.com [209.85.210.225]) by mails.dpdk.org (Postfix) with ESMTP id 7F3CE40EDC for ; Thu, 15 May 2025 21:17:02 +0200 (CEST) Received: by mail-pf1-f225.google.com with SMTP id d2e1a72fcca58-7376dd56f8fso1676439b3a.2 for ; Thu, 15 May 2025 12:17:02 -0700 (PDT) DKIM-Signature: v=1; a=rsa-sha256; c=relaxed/relaxed; d=iol.unh.edu; s=unh-iol; t=1747336621; x=1747941421; darn=dpdk.org; h=references:in-reply-to:cc:to:from:subject:message-id:date:from:to :cc:subject:date:message-id:reply-to; bh=L9XIJEPYxi4EAErR4e5zjdvxDiPad47j+KVLpqULWdM=; b=b48RxIXcrQHBH0s5697ohfhQErY0F58AV69HutdfjNQ+SUI3lZC/HN3VG0WbgFQxWE Ix+ysX+JxR4vNDdIkO5/v0leNxShUzc4WbKy2XxFm6No5EAH1X/xZJQL36s5L17grnem lAzpGdG61m7KzVrLYaN7sXszDhW7sRbD5OkRU= X-Google-DKIM-Signature: v=1; a=rsa-sha256; c=relaxed/relaxed; d=1e100.net; s=20230601; t=1747336621; x=1747941421; h=references:in-reply-to:cc:to:from:subject:message-id:date :x-gm-message-state:from:to:cc:subject:date:message-id:reply-to; bh=L9XIJEPYxi4EAErR4e5zjdvxDiPad47j+KVLpqULWdM=; b=pHO5b5kft++CCr8nr+s6iX2hRjWlbt6YYAjLYd94WsFp2mCY4l5neaR3DxBzCFzq1v mTgc0xQLAsffiUSBjOwWSBdzcRuzAXZhUwFayK8hZ1h6C+sz+Upax4HkguimvkYUO1ud H/qnpTgDsb4SUbaM6f1tE6eKURhh2TeJrA4AHX6B2MfVyLe5qsO93gZZCV9sDWWE/HbB 4bTNHIcS9MSjSTPNzJBpqIy0GF0DEd/l5kD/wDtsG4WarGsyJu6DWM9VBUCp/MjRREKs mSg+JWcuUaNWZMwacCH8mTT/H62McgI4UZaUV+lYjaI4s5Tgho4YYH5XASsnC2h9FZDK eumA== X-Gm-Message-State: AOJu0YwsmsdmnpbWZybJc6TdI/BcuBXetuhdnVMs85BYE9O4npbsD7xm 9GuP2ruX7wdWpwUQPjcBV2tOceljNXG8id3pLxIkc+oNqmx0drOosCEq7LciYN0YDWV41nI23m7 4qfm9cV9htKdQoTHUTEABDllbVt8YQlcRQaYXv4bH8wy+kEEU/Sqrj9zNvEWd X-Gm-Gg: ASbGncuu5KMV72razvAUQchQYNQSXm1ekwGzWK3HiZ/s60WxMM5E9iEFZZuKA84HuBO zmlBf70zzl6OmAH97VzHy2zSf3hMW3MuVA9ajveBR1K3939gZJY/xBZK17mZ42oeIaxL4qDDJ/e FvmdLhfVeoGtGeUWAh2c7vNRuT0sAdU2SrVZQDI+KJ3/XC/ZhuhGKADbTYT3nTl7VDUA8stqDAe nR5CAwmA4hVPlpIUE1WisxTNwyAl+A9S+zB3CHahi7beBQPSDhOoNq0+ddwuxgy82UZy6O58q1f h8c7wbcpSMu0F/EXXhAOMhYvNGE+kiliKdX+ X-Google-Smtp-Source: AGHT+IHnotPDSg+rhpfYWw61ukUUqu4ZX5ljfo7xVdgLPh4kb6GmtdWsiC4l0cpR39I9Dgrt2h8Bkv1XcqnR X-Received: by 2002:a05:6a00:929c:b0:736:3e50:bfec with SMTP id d2e1a72fcca58-742a97c5bb9mr763129b3a.8.1747336621354; Thu, 15 May 2025 12:17:01 -0700 (PDT) Received: from postal.iol.unh.edu (postal.iol.unh.edu. [2606:4100:3880:1234::84]) by smtp-relay.gmail.com with ESMTPS id d2e1a72fcca58-742a970d8desm18902b3a.4.2025.05.15.12.17.01 (version=TLS1_2 cipher=ECDHE-ECDSA-AES128-GCM-SHA256 bits=128/128); Thu, 15 May 2025 12:17:01 -0700 (PDT) X-Relaying-Domain: iol.unh.edu Date: Thu, 15 May 2025 12:17:01 -0700 (PDT) Message-ID: <68263dad.050a0220.38fc2f.0f59SMTPIN_ADDED_MISSING@mx.google.com> Received: from [172.21.0.7] (unknown [172.18.0.240]) by postal.iol.unh.edu (Postfix) with ESMTP id 7C91A6052471; Thu, 15 May 2025 15:17:00 -0400 (EDT) Subject: |SUCCESS| pw153429-153431 [PATCH] [v4,3/3] doc: provide examples of From: dpdklab@iol.unh.edu To: Test Report Cc: dpdk-test-reports@iol.unh.edu In-Reply-To: <20250513161710.410000-4-bruce.richardson@intel.com> References: <20250513161710.410000-4-bruce.richardson@intel.com> Content-Type: text/plain X-BeenThere: test-report@dpdk.org X-Mailman-Version: 2.1.29 Precedence: list List-Id: automatic DPDK test reports List-Unsubscribe: , List-Archive: List-Post: List-Help: List-Subscribe: , Errors-To: test-report-bounces@dpdk.org Test-Label: iol-unit-arm64-testing Test-Status: SUCCESS http://dpdk.org/patch/153431 _Testing PASS RETEST #1_ Submitter: Bruce Richardson Date: Tuesday, May 13 2025 16:17:10 DPDK git baseline: Repo:dpdk Branch: master CommitID:2bf836de46d36a81f9321f947fbfce52b3180782 153429-153431 --> testing pass Upstream job id: Generic-Unit-Test-DPDK#338073 Test environment and result as below: +-----------------------------+--------------+------------------------------+---------------------------+----------------+ | Environment | lpm_autotest | cryptodev_sw_snow3g_autotest | cryptodev_sw_zuc_autotest | dpdk_unit_test | +=============================+==============+==============================+===========================+================+ | Ubuntu 20.04 ARM SVE | PASS | SKIPPED | SKIPPED | SKIPPED | +-----------------------------+--------------+------------------------------+---------------------------+----------------+ | Debian 12 (arm) | SKIPPED | PASS | PASS | PASS | +-----------------------------+--------------+------------------------------+---------------------------+----------------+ | CentOS Stream 9 (ARM) | SKIPPED | SKIPPED | SKIPPED | PASS | +-----------------------------+--------------+------------------------------+---------------------------+----------------+ | CentOS Stream 10 (ARM) | SKIPPED | SKIPPED | SKIPPED | PASS | +-----------------------------+--------------+------------------------------+---------------------------+----------------+ | Fedora 41 (ARM) | SKIPPED | SKIPPED | SKIPPED | PASS | +-----------------------------+--------------+------------------------------+---------------------------+----------------+ | Fedora 40 (ARM Clang) | SKIPPED | SKIPPED | SKIPPED | PASS | +-----------------------------+--------------+------------------------------+---------------------------+----------------+ | Fedora 40 (ARM) | SKIPPED | SKIPPED | SKIPPED | PASS | +-----------------------------+--------------+------------------------------+---------------------------+----------------+ | RHEL9 (ARM) | SKIPPED | SKIPPED | SKIPPED | PASS | +-----------------------------+--------------+------------------------------+---------------------------+----------------+ | Ubuntu 20.04 (ARM) | SKIPPED | SKIPPED | SKIPPED | PASS | +-----------------------------+--------------+------------------------------+---------------------------+----------------+ | Ubuntu 24.04 (ARM) | SKIPPED | SKIPPED | SKIPPED | PASS | +-----------------------------+--------------+------------------------------+---------------------------+----------------+ | Ubuntu 22.04 (ARM) | SKIPPED | SKIPPED | SKIPPED | PASS | +-----------------------------+--------------+------------------------------+---------------------------+----------------+ | Fedora 41 (ARM Clang) | SKIPPED | SKIPPED | SKIPPED | PASS | +-----------------------------+--------------+------------------------------+---------------------------+----------------+ | 32-bit Ubuntu 22.04.4 (ARM) | SKIPPED | SKIPPED | SKIPPED | PASS | +-----------------------------+--------------+------------------------------+---------------------------+----------------+ Ubuntu 20.04 ARM SVE Kernel: Depends on container host Compiler: gcc (Ubuntu 10.5.0-1ubuntu1~20.04) 10.5.0 Debian 12 (arm) Kernel: Depends on container host Compiler: gcc (Debian 12.2.0-14) 12.2.0 CentOS Stream 9 (ARM) Kernel: Depends on container host Compiler: gcc 11.5.0 20240719 (Red Hat 11.5.0-2) CentOS Stream 10 (ARM) Kernel: Depends on container host Compiler: gcc 14.2.1 20241104 (Red Hat 14.2.1-6) Fedora 41 (ARM) Kernel: Depends on container host Compiler: gcc 14.2.1 20240912 (Red Hat 14.2.1-3) Fedora 40 (ARM Clang) Kernel: Depends on container host Compiler: clang 18.1.8 (Fedora 18.1.8-1.fc40) Fedora 40 (ARM) Kernel: Depends on container host Compiler: gcc 14.2.1 20240912 (Red Hat 14.2.1-3) RHEL9 (ARM) Kernel: Depends on container host Compiler: gcc 11.5.0 20240719 (Red Hat 11.5.0-2) Ubuntu 20.04 (ARM) Kernel: Depends on container host Compiler: gcc (Ubuntu 9.4.0-1ubuntu1~20.04.2) 9.4.0 Ubuntu 24.04 (ARM) Kernel: Depends on container host Compiler: gcc (Ubuntu 13.3.0-6ubuntu2~24.04) 13.3.0 Ubuntu 22.04 (ARM) Kernel: Depends on container host Compiler: gcc (Ubuntu 11.4.0-1ubuntu1~22.04) 11.4.0 Fedora 41 (ARM Clang) Kernel: Depends on container host Compiler: clang 19.1.5 (Fedora 19.1.5-1.fc41) 32-bit Ubuntu 22.04.4 (ARM) Kernel: 5.15.83+ aarch64 Compiler: gcc (Ubuntu 11.4.0-1ubuntu1~22.04) 11.4.0 To view detailed results, visit: https://lab.dpdk.org/results/dashboard/patchsets/33164/ UNH-IOL DPDK Community Lab To manage your email subscriptions, visit: https://lab.dpdk.org/results/dashboard/preferences/subscriptions/