From mboxrd@z Thu Jan 1 00:00:00 1970 Return-Path: Received: from mails.dpdk.org (mails.dpdk.org [217.70.189.124]) by inbox.dpdk.org (Postfix) with ESMTP id 82C8946758 for ; Thu, 15 May 2025 21:23:18 +0200 (CEST) Received: from mails.dpdk.org (localhost [127.0.0.1]) by mails.dpdk.org (Postfix) with ESMTP id 62FDB41060; Thu, 15 May 2025 21:23:18 +0200 (CEST) Received: from mail-pl1-f227.google.com (mail-pl1-f227.google.com [209.85.214.227]) by mails.dpdk.org (Postfix) with ESMTP id E085840EDC for ; Thu, 15 May 2025 21:23:17 +0200 (CEST) Received: by mail-pl1-f227.google.com with SMTP id d9443c01a7336-22e661313a3so15763255ad.3 for ; Thu, 15 May 2025 12:23:17 -0700 (PDT) DKIM-Signature: v=1; a=rsa-sha256; c=relaxed/relaxed; d=iol.unh.edu; s=unh-iol; t=1747336997; x=1747941797; darn=dpdk.org; h=references:in-reply-to:cc:to:from:subject:message-id:date:from:to :cc:subject:date:message-id:reply-to; bh=I+yxtMNFW8to74Q/Ev3fcjtZuELTemgWHvosUQaqET8=; b=EL4al/1VIon3fmOpcP9ihUOknAZSMxHv2maLW/ybzebye7PPBuAmXRQug6aCEfFOu8 ZSzGNNiEii4SlMsbzz8TXxrRe2iQ/5Mb9hWycz3xNMM26GcsEyC7RUNqk0Yf/nMHDDFL jAGm8aAuhOkmtY81w7Hr0c+VXcRaZML4Px798= X-Google-DKIM-Signature: v=1; a=rsa-sha256; c=relaxed/relaxed; d=1e100.net; s=20230601; t=1747336997; x=1747941797; h=references:in-reply-to:cc:to:from:subject:message-id:date :x-gm-message-state:from:to:cc:subject:date:message-id:reply-to; bh=I+yxtMNFW8to74Q/Ev3fcjtZuELTemgWHvosUQaqET8=; b=qiT6mprN7XAJDZRfh5UrXau3K38o8YIZZEQ0XMK4txbvI42w8dzykNo5hluNVDgdw9 uiFPWP8w7WIZJ5HoKXHgSO21kq4tPhK/3j6yKqoaziUQzOf9JQicthXGj9k4yPC/NPeO BAReSZfDs14kx8hzVtR58FSAnzyx7cWUkuuKp69vsUa3mEJPvNLTGxpa0yf9dGQB63Kl rJ1XuyORisEEhFgya9uENxzoif/+oX5qtENp7lWHrhc6m0tbOCTdBHqbfXh6n5gqtwqd rfILoqT/KuZ7J1OzBciT+6KqYD+6vHkwHJz4aSF5HYGsasXqlXl4xr2RRo8LcSyVsXfQ EvuQ== X-Gm-Message-State: AOJu0YzPRtyxyq8tNJ06TrSB5BCiEi0vqw+Og/kkyRujaAbcgCnUaLwr 9gyY45zpRdan3UYnmwQB+2VGV/Yb2NatM+c9oULngiU0eXJQMM+AMhBjOtelhJOfJLuluzDjhfS NpOuwoB4s6/1trlDb0XLRtFuzvdybQqdzSahek+/QciLB+WvBZ9ZbqwYGge17 X-Gm-Gg: ASbGncvh2Uf493/W5p5whydGwq2j2nlf+kC1T0+lYaW8gHJNCmuTLPNWxw1u+D4H0Bv rF1Q/q7OA9HsQOlWLc0bv6Oqq4voUNu1SiVwou+zRK/DNV3oE/OPGnx3cysQqlbAjaSJQFZPKFT V3NUcqMty+kcJQkLHNwBtV6eUinzkSSG6EtoRecdbT/1RwjaGqx8/qId0O7xHJ79VX280I3zN3L AcNmnEQWbJ8ZY5LIV1q7wahWbNHFSFfhBFuCKbruwBnnDwBWNAw38H+pBp8lh/7DcyIUSPlV86C wAlqCihDPEvNwjAn1eqPzeXHcDhwXaJKbuxW X-Google-Smtp-Source: AGHT+IG++RdH297SvLauhRrHdsZOAEXNJ2G+nwWfzy89BGnjqDn9dn0cxYZnJOpucxQQCB/F6RycGC8mnitB X-Received: by 2002:a17:902:d503:b0:231:7fbc:19bf with SMTP id d9443c01a7336-231d438b4famr6502255ad.6.1747336996696; Thu, 15 May 2025 12:23:16 -0700 (PDT) Received: from postal.iol.unh.edu (postal.iol.unh.edu. [2606:4100:3880:1234::84]) by smtp-relay.gmail.com with ESMTPS id d9443c01a7336-231d4acaa18sm154675ad.42.2025.05.15.12.23.16 (version=TLS1_2 cipher=ECDHE-ECDSA-AES128-GCM-SHA256 bits=128/128); Thu, 15 May 2025 12:23:16 -0700 (PDT) X-Relaying-Domain: iol.unh.edu Date: Thu, 15 May 2025 12:23:16 -0700 (PDT) Message-ID: <68263f24.170a0220.6d6d6.0d42SMTPIN_ADDED_MISSING@mx.google.com> Received: from [172.21.0.9] (unknown [172.18.0.240]) by postal.iol.unh.edu (Postfix) with ESMTP id D2B686052471; Thu, 15 May 2025 15:23:15 -0400 (EDT) Subject: |SUCCESS| pw153445 [PATCH] crypto/cnxk: fix out-of-bounds access From: dpdklab@iol.unh.edu To: Test Report Cc: dpdk-test-reports@iol.unh.edu In-Reply-To: <20250515080528.1644-1-gmuthukrishn@marvell.com> References: <20250515080528.1644-1-gmuthukrishn@marvell.com> Content-Type: text/plain X-BeenThere: test-report@dpdk.org X-Mailman-Version: 2.1.29 Precedence: list List-Id: automatic DPDK test reports List-Unsubscribe: , List-Archive: List-Post: List-Help: List-Subscribe: , Errors-To: test-report-bounces@dpdk.org Test-Label: iol-abi-testing Test-Status: SUCCESS http://dpdk.org/patch/153445 _Testing PASS_ Submitter: Gowrishankar Muthukrishnan Date: Thursday, May 15 2025 08:05:25 DPDK git baseline: Repo:dpdk Branch: master CommitID:dcf9f9363aa9b4163d241caf8b26a84ca0c0006b 153445 --> testing pass Upstream job id: Generic-DPDK-Compile-ABI#126476 Test environment and result as below: +-------------------+----------+ | Environment | abi_test | +===================+==========+ | CentOS Stream 9 | PASS | +-------------------+----------+ | Fedora 40 (Clang) | PASS | +-------------------+----------+ | CentOS Stream 10 | PASS | +-------------------+----------+ | Debian 12 | PASS | +-------------------+----------+ | RHEL8 | PASS | +-------------------+----------+ | openSUSE Leap 15 | PASS | +-------------------+----------+ | Fedora 40 | PASS | +-------------------+----------+ | Fedora 41 | PASS | +-------------------+----------+ | Fedora 41 (Clang) | PASS | +-------------------+----------+ | Ubuntu 24.04 | PASS | +-------------------+----------+ | Ubuntu 22.04 | PASS | +-------------------+----------+ | RHEL9 | PASS | +-------------------+----------+ CentOS Stream 9 Kernel: Depends on container host Compiler: gcc 11.5.0 20240719 (Red Hat 11.5.0-2) Fedora 40 (Clang) Kernel: Depends on container host Compiler: clang 18.1.8 (Fedora 18.1.8-1.fc40) CentOS Stream 10 Kernel: Depends on container host Compiler: gcc 14.2.1 20241104 (Red Hat 14.2.1-6) Debian 12 Kernel: Depends on container host Compiler: gcc (Debian 12.2.0-14) 12.2.0 RHEL8 Kernel: Depends on container host Compiler: gcc 8.5.0 20210514 (Red Hat 8.5.0-22) openSUSE Leap 15 Kernel: Depends on container host Compiler: gcc (SUSE Linux) 7.5.0 Fedora 40 Kernel: Depends on container host Compiler: gcc 14.2.1 20240912 (Red Hat 14.2.1-3) Fedora 41 Kernel: Depends on container host Compiler: gcc 14.2.1 20240912 (Red Hat 14.2.1-3) Fedora 41 (Clang) Kernel: Depends on container host Compiler: clang 19.1.5 (Fedora 19.1.5-1.fc41) Ubuntu 24.04 Kernel: Depends on container host Compiler: gcc (Ubuntu 13.3.0-6ubuntu2~24.04) 13.3.0 Ubuntu 22.04 Kernel: Depends on container host Compiler: gcc (Ubuntu 11.4.0-1ubuntu1~22.04) 11.4.0 RHEL9 Kernel: Depends on container host Compiler: gcc 11.5.0 20240719 (Red Hat 11.5.0-2) To view detailed results, visit: https://lab.dpdk.org/results/dashboard/patchsets/33176/ UNH-IOL DPDK Community Lab To manage your email subscriptions, visit: https://lab.dpdk.org/results/dashboard/preferences/subscriptions/