From mboxrd@z Thu Jan 1 00:00:00 1970 Return-Path: Received: from mails.dpdk.org (mails.dpdk.org [217.70.189.124]) by inbox.dpdk.org (Postfix) with ESMTP id 7353846758 for ; Thu, 15 May 2025 21:38:31 +0200 (CEST) Received: from mails.dpdk.org (localhost [127.0.0.1]) by mails.dpdk.org (Postfix) with ESMTP id 5D5CF410D0; Thu, 15 May 2025 21:38:31 +0200 (CEST) Received: from mail-il1-f225.google.com (mail-il1-f225.google.com [209.85.166.225]) by mails.dpdk.org (Postfix) with ESMTP id 1D07E41060 for ; Thu, 15 May 2025 21:38:30 +0200 (CEST) Received: by mail-il1-f225.google.com with SMTP id e9e14a558f8ab-3d8e9f26b96so9790625ab.1 for ; Thu, 15 May 2025 12:38:30 -0700 (PDT) DKIM-Signature: v=1; a=rsa-sha256; c=relaxed/relaxed; d=iol.unh.edu; s=unh-iol; t=1747337909; x=1747942709; darn=dpdk.org; h=references:in-reply-to:cc:to:from:subject:message-id:date:from:to :cc:subject:date:message-id:reply-to; bh=x/wtOdj9g11K4bdpBQYqHz2LxtLYUB87mNHZaEEnwdQ=; b=SR70fRDqevz0uIscq9RQkPTOB9cNEKdvQuecSXEM2JhOvsISZ23R2wi+fx1Q9rM6Y0 4gFj8KZJ3U8ciJd/EZJVHhYtD1Rov0/Qj0KYuiC3C+thmHAHn5jahVpsrWD+1RG/j6vO vyFRRl0ykMviHap4ha256mxjRFRtf6FvMiOg8= X-Google-DKIM-Signature: v=1; a=rsa-sha256; c=relaxed/relaxed; d=1e100.net; s=20230601; t=1747337909; x=1747942709; h=references:in-reply-to:cc:to:from:subject:message-id:date :x-gm-message-state:from:to:cc:subject:date:message-id:reply-to; bh=x/wtOdj9g11K4bdpBQYqHz2LxtLYUB87mNHZaEEnwdQ=; b=jcCn0UvBC9qt1nLFpl8wZRTcl3vHpnkHjzzQCFsHVxikfOwitxRwN+n7W4PO/KBBSN ciSh0B3uOoBAEurcDGB8cRTB9mzEyuo4pxA0uV32tA+jIGPq1DG/jTb0ib8XeCdcK1mH 2YqVVGpO0qbBG9SNIYh9/riH/wfblsjVcy0s5GX0WHeM9fk5tjOdD8oiZzMq5IPzrb68 wk9VsX4/m8/bo8HyIds2cRhNa1x+Vquowdxfx3VzPmkLA1b6kmkeacSwChWQBcWlriVQ xkA+cPkkx0imhpsLP96aHTxSFg9mr6uwwyPC2QlDMshgx4rkI+LP8iaV96vAPCzSEH2z mVxA== X-Gm-Message-State: AOJu0YwsGIzuCGpzJkeGwyv6yJT8NoFd6ud1QNYM/uvI6HI+iitNNtmT nc5dNamv3yyogiq5iCPxWp9+Z+8y/CtIwgJ+vRX4zVk0KJYkaxY6wRRJeiqPH1ZG+U03jgk4EnM yG4qduSMlDIuscXpajpmCn7OamdYM/UlAN/CDRZmi19Se X-Gm-Gg: ASbGncst89HOAfhj2UXlpqde3L5JVeSALQFACL1LEihiuKhPKm3ZQDeJ4rvrnRncToR Ota9oIBkQfXW0JP/kNQvVaAZBLQDE5IzndtPptely5xh91ZpBr8Qc3EJseJHp2EEuq5KbwvzrTH eBiNZd9Zc7BX1RjXHnt860HAdyjHbHsK4OU9OWuCyb+ShPZJF7F1VvdtcElZJEp0GVgM8EDKGAv yySdQ/MZ63R4mBVjVbUprtcF5wmyB1cNCycXwqj9aP17/rSuXAIL5ryPkC60Vu/DBJr8uqCCDSr HQJ0FotSV9OSGFVjlEwaAsruzVMwwpjd9/p0RO7vy+CpoDa2Yo7453JnMG0= X-Google-Smtp-Source: AGHT+IF1eiHAQxuacFeKrSuZpvQQyP8Y2MLp97S0B9w0FjbfUqpG/CbO+8rGKCHXOEhgLiGXpRKalNrJ4EkO X-Received: by 2002:a05:6e02:3784:b0:3d9:6cb5:3be4 with SMTP id e9e14a558f8ab-3db84322dfamr14334015ab.15.1747337909351; Thu, 15 May 2025 12:38:29 -0700 (PDT) Received: from postal.iol.unh.edu (postal.iol.unh.edu. [132.177.123.84]) by smtp-relay.gmail.com with ESMTPS id e9e14a558f8ab-3db8449c042sm170395ab.52.2025.05.15.12.38.29 (version=TLS1_2 cipher=ECDHE-ECDSA-AES128-GCM-SHA256 bits=128/128); Thu, 15 May 2025 12:38:29 -0700 (PDT) X-Relaying-Domain: iol.unh.edu Date: Thu, 15 May 2025 12:38:29 -0700 (PDT) Message-ID: <682642b5.920a0220.1337a2.0e7dSMTPIN_ADDED_MISSING@mx.google.com> Received: from [172.21.0.7] (unknown [172.18.0.240]) by postal.iol.unh.edu (Postfix) with ESMTP id D11736052471; Thu, 15 May 2025 15:38:28 -0400 (EDT) Subject: |SUCCESS| pw153445 [PATCH] crypto/cnxk: fix out-of-bounds access From: dpdklab@iol.unh.edu To: Test Report Cc: dpdk-test-reports@iol.unh.edu In-Reply-To: <20250515080528.1644-1-gmuthukrishn@marvell.com> References: <20250515080528.1644-1-gmuthukrishn@marvell.com> Content-Type: text/plain X-BeenThere: test-report@dpdk.org X-Mailman-Version: 2.1.29 Precedence: list List-Id: automatic DPDK test reports List-Unsubscribe: , List-Archive: List-Post: List-Help: List-Subscribe: , Errors-To: test-report-bounces@dpdk.org Test-Label: iol-sample-apps-testing Test-Status: SUCCESS http://dpdk.org/patch/153445 _Testing PASS_ Submitter: Gowrishankar Muthukrishnan Date: Thursday, May 15 2025 08:05:25 DPDK git baseline: Repo:dpdk Branch: master CommitID:ca1690ebd224f148268285b15b97441ccdbdd07e 153445 --> testing pass Upstream job id: ACVP-FIPS-testing#9818 Test environment and result as below: +--------------------+----------------------+----------------------+ | Environment | compressdev_zlib_pmd | dpdk_fips_validation | +====================+======================+======================+ | Ubuntu 22.04 | PASS | SKIPPED | +--------------------+----------------------+----------------------+ | Ubuntu 22.04 (ARM) | PASS | SKIPPED | +--------------------+----------------------+----------------------+ | Ubuntu 20.04 | SKIPPED | PASS | +--------------------+----------------------+----------------------+ Ubuntu 22.04 Kernel: 5.15.0-100-generic Compiler: gcc gcc (Ubuntu 11.4.0-1ubuntu1~22.04) 11.4.0 Ubuntu 22.04 (ARM) Kernel: 5.15.0-97-generic Compiler: gcc gcc (Ubuntu 11.4.0-1ubuntu1~22.04) 11.4.0 Ubuntu 20.04 Kernel: Depends on container host Compiler: gcc (Ubuntu 9.4.0-1ubuntu1~20.04.2) 9.4.0 To view detailed results, visit: https://lab.dpdk.org/results/dashboard/patchsets/33176/ UNH-IOL DPDK Community Lab To manage your email subscriptions, visit: https://lab.dpdk.org/results/dashboard/preferences/subscriptions/