From mboxrd@z Thu Jan 1 00:00:00 1970 Return-Path: Received: from mails.dpdk.org (mails.dpdk.org [217.70.189.124]) by inbox.dpdk.org (Postfix) with ESMTP id C38AA46758 for ; Thu, 15 May 2025 21:40:32 +0200 (CEST) Received: from mails.dpdk.org (localhost [127.0.0.1]) by mails.dpdk.org (Postfix) with ESMTP id BEA69410D0; Thu, 15 May 2025 21:40:32 +0200 (CEST) Received: from mail-qv1-f98.google.com (mail-qv1-f98.google.com [209.85.219.98]) by mails.dpdk.org (Postfix) with ESMTP id 3324441060 for ; Thu, 15 May 2025 21:40:31 +0200 (CEST) Received: by mail-qv1-f98.google.com with SMTP id 6a1803df08f44-6f8b2682d61so396016d6.0 for ; Thu, 15 May 2025 12:40:31 -0700 (PDT) DKIM-Signature: v=1; a=rsa-sha256; c=relaxed/relaxed; d=iol.unh.edu; s=unh-iol; t=1747338030; x=1747942830; darn=dpdk.org; h=references:in-reply-to:cc:to:from:subject:message-id:date:from:to :cc:subject:date:message-id:reply-to; bh=cX8FfEdDqJbLxJbdU5MogkF4Q6fJwWejuIwaGF8e7AY=; b=LfXD5ZVF3kjkttFF3yC5ZhWGjN7Zw2lEt6HRvv87XBqGuTISi/iA6LDkzq2DrA164Y C59LrzZlKwhfO7cad/c0psxx75Mhomnq+yMY3/WBrcPnYHXPqszkVon1HLO+qCxczM2d 9gVEPMsri74k50medSFuLdiHYAcBYz8zPdVFE= X-Google-DKIM-Signature: v=1; a=rsa-sha256; c=relaxed/relaxed; d=1e100.net; s=20230601; t=1747338030; x=1747942830; h=references:in-reply-to:cc:to:from:subject:message-id:date :x-gm-message-state:from:to:cc:subject:date:message-id:reply-to; bh=cX8FfEdDqJbLxJbdU5MogkF4Q6fJwWejuIwaGF8e7AY=; b=fmAiO8FC/kAQ4j3mVtpBu1B0nTrUwhmUjfc+FiVgAqflgghAzlBrAFAJhQl/YefIfn VU3Wxf0Z2lbh2G9G6FyFEtwQrgSCauP/oaac/K0mn49Y006H8JLJdSDME4gSnTA7O5l1 iSxGNy9eQU+e+pG1YiKd7xcVtaAwEGcQa2hBXXkjyIqLXvzYPo4p5fxC3Cf/Afaodo/w aTQLENeFlaDgMHdpdlSRBvXcv7/CF0lgTuJKdJypsLw7tgi6ZPvUUdwIgzhhtEvFFsOP BZGo0SwoXqYQArEO9SEPmv1cdRzICH8zVv13bSfU1vgGWChqB3MoautIGbwxv/efM6LL DRkg== X-Gm-Message-State: AOJu0YzYGlea/FAo5y/pft8GekuDu0usM8Ai3cCB78HLdOcqLLLcqz9E vaG8ecqapXKI6qSzwL81x1HzaG7b7JukW/H0cLNDUhaKCXs0zGjdUYe0KU5iIh/yGCcnkxdWJAK 3qhPrlx05zHlE0R2xmy6CvSs/n5FaHh5Vb+TTmxN1nvHsbCpmA1iHnUrb7J6i X-Gm-Gg: ASbGncuPvyLVoIs69qAqhvvv/2z9VsDy6D/YGiOfy7/hD0OTKjgwC/tr6XBWe62aNbO wayNURJYh+lrUS2ndXTFNZqc1RrdH1kUWtWmq55aUbklC9UviYCth7rLSwIMCZvhM7eNmsGwrKd 39Bs1mBmvatgD5VrbTtNa15F6jszUCmqiSIVRrmw1sMe4Zh1ec83EdDzcFKzknHcFq1InX7aZog VE6qo25tlVV4kq2/mjxgK40GwBqcnAIbUTROhwqE8N9bF85wndh49NEbFItrnvtttnspwChPhZF CeFn35+d5Mo3u7f65BRgvUbpPM39h9QAaJjl X-Google-Smtp-Source: AGHT+IF5WyVmfukVwEpwCZOjCkLvQ1f+CGOmWudf1j1GBxuNkDP6lPlcjsN+KX/mV7iP1mTQOYIn0Jlch8E1 X-Received: by 2002:ad4:5cc6:0:b0:6f2:be2b:c95b with SMTP id 6a1803df08f44-6f8a3210c0dmr78018266d6.15.1747338030487; Thu, 15 May 2025 12:40:30 -0700 (PDT) Received: from postal.iol.unh.edu (postal.iol.unh.edu. [2606:4100:3880:1234::84]) by smtp-relay.gmail.com with ESMTPS id 6a1803df08f44-6f8b089d34asm178796d6.6.2025.05.15.12.40.30 (version=TLS1_2 cipher=ECDHE-ECDSA-AES128-GCM-SHA256 bits=128/128); Thu, 15 May 2025 12:40:30 -0700 (PDT) X-Relaying-Domain: iol.unh.edu Date: Thu, 15 May 2025 12:40:30 -0700 (PDT) Message-ID: <6826432e.050a0220.12d342.0f2cSMTPIN_ADDED_MISSING@mx.google.com> Received: from [172.21.0.7] (unknown [172.18.0.240]) by postal.iol.unh.edu (Postfix) with ESMTP id 418646052471; Thu, 15 May 2025 15:40:30 -0400 (EDT) Subject: |SUCCESS| pw153461-153462 [PATCH] [2/2] test/power_intel_uncore: ski From: dpdklab@iol.unh.edu To: Test Report Cc: dpdk-test-reports@iol.unh.edu In-Reply-To: <20250515165854.1087247-2-bruce.richardson@intel.com> References: <20250515165854.1087247-2-bruce.richardson@intel.com> Content-Type: text/plain X-BeenThere: test-report@dpdk.org X-Mailman-Version: 2.1.29 Precedence: list List-Id: automatic DPDK test reports List-Unsubscribe: , List-Archive: List-Post: List-Help: List-Subscribe: , Errors-To: test-report-bounces@dpdk.org Test-Label: iol-compile-amd64-testing Test-Status: SUCCESS http://dpdk.org/patch/153462 _Testing PASS_ Submitter: Bruce Richardson Date: Thursday, May 15 2025 16:58:54 DPDK git baseline: Repo:dpdk Branch: master CommitID:dcf9f9363aa9b4163d241caf8b26a84ca0c0006b 153461-153462 --> testing pass Upstream job id: Generic-VM-DPDK-Compile-Meson#35454 Test environment and result as below: +--------------+--------------------+ | Environment | dpdk_meson_compile | +==============+====================+ | Ubuntu 20.04 | PASS | +--------------+--------------------+ | FreeBSD 13.5 | PASS | +--------------+--------------------+ | FreeBSD 14.2 | PASS | +--------------+--------------------+ Ubuntu 20.04 Kernel: 4.19.325-0419325-generic Compiler: gcc (Ubuntu 9.4.0-1ubuntu1~20.04.2) 9.4.0 FreeBSD 13.5 Kernel: 13.5-RELEASE Compiler: clang 19.1.7 FreeBSD 14.2 Kernel: 14.2-RELEASE Compiler: clang 18.1.6 To view detailed results, visit: https://lab.dpdk.org/results/dashboard/patchsets/33184/ UNH-IOL DPDK Community Lab To manage your email subscriptions, visit: https://lab.dpdk.org/results/dashboard/preferences/subscriptions/