From mboxrd@z Thu Jan 1 00:00:00 1970 Return-Path: Received: from mails.dpdk.org (mails.dpdk.org [217.70.189.124]) by inbox.dpdk.org (Postfix) with ESMTP id F236F46758 for ; Thu, 15 May 2025 21:41:54 +0200 (CEST) Received: from mails.dpdk.org (localhost [127.0.0.1]) by mails.dpdk.org (Postfix) with ESMTP id EB9D9410D0; Thu, 15 May 2025 21:41:54 +0200 (CEST) Received: from mail-il1-f228.google.com (mail-il1-f228.google.com [209.85.166.228]) by mails.dpdk.org (Postfix) with ESMTP id A9B9541060 for ; Thu, 15 May 2025 21:41:53 +0200 (CEST) Received: by mail-il1-f228.google.com with SMTP id e9e14a558f8ab-3da7d0d7d58so8722095ab.0 for ; Thu, 15 May 2025 12:41:53 -0700 (PDT) DKIM-Signature: v=1; a=rsa-sha256; c=relaxed/relaxed; d=iol.unh.edu; s=unh-iol; t=1747338113; x=1747942913; darn=dpdk.org; h=references:in-reply-to:cc:to:from:subject:message-id:date:from:to :cc:subject:date:message-id:reply-to; bh=N4O/Mb8r2tmTUqcCyfBsRlOtcorv7qIxmn7CjdfoqTk=; b=Wlx19zvh9SGbayzNvuCyYjF3PX9+ruGoR/9TMqU1wiXxn3GMBzIyDOONPBcHGg24Cf Wy+DrV2sjC6OsmfHCWEHMhfCqXb2y1WgozsuVdSIAANkPcQ1QT2w9dNSCVU6vCtVYE3Q vWLZIe4YK79y6LrL+BiSDI+EfOb+CKv/sehbE= X-Google-DKIM-Signature: v=1; a=rsa-sha256; c=relaxed/relaxed; d=1e100.net; s=20230601; t=1747338113; x=1747942913; h=references:in-reply-to:cc:to:from:subject:message-id:date :x-gm-message-state:from:to:cc:subject:date:message-id:reply-to; bh=N4O/Mb8r2tmTUqcCyfBsRlOtcorv7qIxmn7CjdfoqTk=; b=spRx5YraALO74hsvlCdWfeYoGMbqtiGu+/FUwO9+wTRANb23Bl+nJuCzfBCN3/6uQs WAiq0v1A3QWqsS3+0iExubQoqst0shqqtFmHc2syX7ombIBQMsoPWgAmIOAUSNRfEtNd U7jrHpWCX3x2t80tQWbBTxqPiPTXbLrueZzUWEsszqjzUETKEl0bWtTOMvH3l/nVW2lS BNZLaKKBjatiB5q1XdholXQXRzpxlR7frWzugZ+2rA0Sei2yGENtU8JcuSehYECiJbBA VD22vRxWKoyBdF3E5JTqIsI3zXGc/8MVwBK5TkGMl1jNo3VfqO2BTOrAfGmaDJZiS4jj Wb5w== X-Gm-Message-State: AOJu0YyrZpXl+ZwefjcEWciGHEOzh+WmSXJ0n+ASYYaHevAte4J8zfyO cle6gJfkXGDBCUeOvrPfx95f4WEMzla2u3oCVMwiSyovrO6noLC1OFu8X31Y+96pMSSIokIzMgv oCSOe4yUr3/9Oep/KZgyrL6hSBJjJyhT+fte9hpbkIK6Nc98z5xQlFAr6KvB3 X-Gm-Gg: ASbGnctvj09mWedVPZ7cPzV9Vb7uW82N7mj/9XF8Z1IQaFh4lAN90JyMcymKWhUqZs2 WeW6kT8HAVuRrkaT28Upw31e/b1+sAlD4oGzMxEd48HnT1UUEIDEpawmmFuKf+CUkQz7b0JTeOS vwvP6Rfg+di7uhJEdioMdN+xvomfQHzqdFy5VlPPxuU/U+qwSfIY0TwY6eZVuxpTzdOkVhN5IF2 MhPlBvpLpc+Kvd/u2PDZwUDzxuFr4BUEpR3Cwlf96g6XZRlHUbIdNnnSQ0yX5KM1vawLS0hXhLN pJFDVZA5pUh1HzrCPFr+G3sOyHu7KuSX8a6M X-Google-Smtp-Source: AGHT+IG7RKohqkuProp9dIHKohSvl90ZK1UZ2YXsWuI8NOeyOeXtdks80WWUFX+bLO7WukTGaIuytAPZLrIW X-Received: by 2002:a05:6602:388b:b0:85b:35b1:53b4 with SMTP id ca18e2360f4ac-86a24cd237cmr12111639f.12.1747338101884; Thu, 15 May 2025 12:41:41 -0700 (PDT) Received: from postal.iol.unh.edu (postal.iol.unh.edu. [2606:4100:3880:1234::84]) by smtp-relay.gmail.com with ESMTPS id ca18e2360f4ac-86a23764086sm1427339f.21.2025.05.15.12.41.41 (version=TLS1_2 cipher=ECDHE-ECDSA-AES128-GCM-SHA256 bits=128/128); Thu, 15 May 2025 12:41:41 -0700 (PDT) X-Relaying-Domain: iol.unh.edu Date: Thu, 15 May 2025 12:41:41 -0700 (PDT) Message-ID: <68264375.050a0220.26d90a.0bc5SMTPIN_ADDED_MISSING@mx.google.com> Received: from [172.21.0.9] (unknown [172.18.0.240]) by postal.iol.unh.edu (Postfix) with ESMTP id 691246052471; Thu, 15 May 2025 15:41:41 -0400 (EDT) Subject: |SUCCESS| pw153461-153462 [PATCH] [2/2] test/power_intel_uncore: ski From: dpdklab@iol.unh.edu To: Test Report Cc: dpdk-test-reports@iol.unh.edu In-Reply-To: <20250515165854.1087247-2-bruce.richardson@intel.com> References: <20250515165854.1087247-2-bruce.richardson@intel.com> Content-Type: text/plain X-BeenThere: test-report@dpdk.org X-Mailman-Version: 2.1.29 Precedence: list List-Id: automatic DPDK test reports List-Unsubscribe: , List-Archive: List-Post: List-Help: List-Subscribe: , Errors-To: test-report-bounces@dpdk.org Test-Label: iol-compile-amd64-testing Test-Status: SUCCESS http://dpdk.org/patch/153462 _Testing PASS_ Submitter: Bruce Richardson Date: Thursday, May 15 2025 16:58:54 DPDK git baseline: Repo:dpdk Branch: master CommitID:dcf9f9363aa9b4163d241caf8b26a84ca0c0006b 153461-153462 --> testing pass Upstream job id: Generic-VM-DPDK-Compile-Meson#35456 Test environment and result as below: +--------------+--------------------+ | Environment | dpdk_meson_compile | +==============+====================+ | Ubuntu 20.04 | PASS | +--------------+--------------------+ | FreeBSD 13.5 | PASS | +--------------+--------------------+ | FreeBSD 14.2 | PASS | +--------------+--------------------+ Ubuntu 20.04 Kernel: 4.19.325-0419325-generic Compiler: gcc (Ubuntu 9.4.0-1ubuntu1~20.04.2) 9.4.0 FreeBSD 13.5 Kernel: 13.5-RELEASE Compiler: clang 19.1.7 FreeBSD 14.2 Kernel: 14.2-RELEASE Compiler: clang 18.1.6 To view detailed results, visit: https://lab.dpdk.org/results/dashboard/patchsets/33184/ UNH-IOL DPDK Community Lab To manage your email subscriptions, visit: https://lab.dpdk.org/results/dashboard/preferences/subscriptions/