From mboxrd@z Thu Jan 1 00:00:00 1970 Return-Path: Received: from mails.dpdk.org (mails.dpdk.org [217.70.189.124]) by inbox.dpdk.org (Postfix) with ESMTP id 2B29246758 for ; Thu, 15 May 2025 21:51:03 +0200 (CEST) Received: from mails.dpdk.org (localhost [127.0.0.1]) by mails.dpdk.org (Postfix) with ESMTP id E4E64410D0; Thu, 15 May 2025 21:51:02 +0200 (CEST) Received: from mail-io1-f98.google.com (mail-io1-f98.google.com [209.85.166.98]) by mails.dpdk.org (Postfix) with ESMTP id 7905641060 for ; Thu, 15 May 2025 21:51:02 +0200 (CEST) Received: by mail-io1-f98.google.com with SMTP id ca18e2360f4ac-85de3e8d0adso32371439f.1 for ; Thu, 15 May 2025 12:51:02 -0700 (PDT) DKIM-Signature: v=1; a=rsa-sha256; c=relaxed/relaxed; d=iol.unh.edu; s=unh-iol; t=1747338661; x=1747943461; darn=dpdk.org; h=references:in-reply-to:cc:to:from:subject:message-id:date:from:to :cc:subject:date:message-id:reply-to; bh=0bd3k3dN1PH4mX5+JJ5BmPidZYN/oC4ZFYZZHe4gpSQ=; b=ELh9ZpGujn8bRW7CdCxaHmjZAUxbawFMwTADkMkDcZIowXKqkFyIlYh5bn+T2L68YR 4yr6wxLiJkfzXlZ3kKb6PLGZaHByKNYLldx3pMdTPCVvR24p+iOzekI22l/Gf3sClqMd jLptyoV5mXGW5MX+Z6/tcCKUnt+VHX9b4719Q= X-Google-DKIM-Signature: v=1; a=rsa-sha256; c=relaxed/relaxed; d=1e100.net; s=20230601; t=1747338661; x=1747943461; h=references:in-reply-to:cc:to:from:subject:message-id:date :x-gm-message-state:from:to:cc:subject:date:message-id:reply-to; bh=0bd3k3dN1PH4mX5+JJ5BmPidZYN/oC4ZFYZZHe4gpSQ=; b=WH9eSWey+SgdkZP2lSDTVUJHkp2UFVhOwZNlluq2HcmsOVUIyNYaeKK0kJ4dk1c4xB Gxuqz+GBK65gDyyRhKa5XA9DXMtpWgXg+JLCZj+pGBwoz5YcshQ6Ep88x1aAug0gir7i im3mgAbbCYoG61h0ghXI+Ae/adRgetv0aU2AFJ9Lxl95mB4uCqw7bXVdKdl1x6UxSBUW zPt7IvMMtOHO6xZqePJuyvc3lUBflNqJLpnmYrEyZR8UdsYXgvAiVXn9BiLsyfKTa3mx 3dmfdB30aL76Rv/yRPMl/9w6CxFEkhZfBM8lmGxIr14C3BtUS8Mv/8duarE7ZQJ+069m dgPg== X-Gm-Message-State: AOJu0Yx5YrxvOXdw6zzXcEcpy4CJO4QTUQH3ljhWZEewoQMKAhJPNqC1 AcyCg8OzNdS48WVthnDx53dUQsTtGVSu2RRgimheQOAGBbPHsbYkxcCknJ8FSjdlGJY9yIwZz4D zNfYb3kWIdfbo741PxBf1xMiwLU5YT1ouxq3Hld+yYItPPf+Wr9FqR1QSG3uw X-Gm-Gg: ASbGncsdWo0CUpgE/wEcrQcCHZzwIydnnI4K45+A/OecYGdgBbZ7+rC0MFXq7nX89uq vETvI33D4zpa/C2Ok0+l+J9sqm3tekd2xDnCZOC4/cE+GeQqtD2Hrxfrsp8mIWT0rOWE49frgWj IayLnO84urWWUDDW/T4I+06HXQ2QqyoECa0NSeMGau3Y//63tir3VmTnA1L9lo0Qe4MsB61PKvf 0Ukf0sTMuTczRmXjJzNy+sc5t6VVm5xuu49v4lfl+iTuB1v7+pZeO7/oXQpnPN0iJOr0JmvyExh +IT6lfQshDQhpardeIUQ+MMmsUphdSA4865+ X-Google-Smtp-Source: AGHT+IHHl3+R/HnPWmuDkNLUkTtr15Hvno5b2qqoVOdqIKqItpNNkhg3+Pi7IsvvApcg/zRetB+fWu6VRtg6 X-Received: by 2002:a05:6602:4808:b0:867:235d:32d9 with SMTP id ca18e2360f4ac-86a24baec79mr26420339f.1.1747338661665; Thu, 15 May 2025 12:51:01 -0700 (PDT) Received: from postal.iol.unh.edu (postal.iol.unh.edu. [2606:4100:3880:1234::84]) by smtp-relay.gmail.com with ESMTPS id 8926c6da1cb9f-4fbcc3ae3b3sm15395173.29.2025.05.15.12.51.01 (version=TLS1_2 cipher=ECDHE-ECDSA-AES128-GCM-SHA256 bits=128/128); Thu, 15 May 2025 12:51:01 -0700 (PDT) X-Relaying-Domain: iol.unh.edu Date: Thu, 15 May 2025 12:51:01 -0700 (PDT) Message-ID: <682645a5.050a0220.2b54e1.0e29SMTPIN_ADDED_MISSING@mx.google.com> Received: from [172.21.0.6] (unknown [172.18.0.240]) by postal.iol.unh.edu (Postfix) with ESMTP id 1F96A6052471; Thu, 15 May 2025 15:51:01 -0400 (EDT) Subject: |SUCCESS| pw153445 [PATCH] crypto/cnxk: fix out-of-bounds access From: dpdklab@iol.unh.edu To: Test Report Cc: dpdk-test-reports@iol.unh.edu In-Reply-To: <20250515080528.1644-1-gmuthukrishn@marvell.com> References: <20250515080528.1644-1-gmuthukrishn@marvell.com> Content-Type: text/plain X-BeenThere: test-report@dpdk.org X-Mailman-Version: 2.1.29 Precedence: list List-Id: automatic DPDK test reports List-Unsubscribe: , List-Archive: List-Post: List-Help: List-Subscribe: , Errors-To: test-report-bounces@dpdk.org Test-Label: iol-unit-amd64-testing Test-Status: SUCCESS http://dpdk.org/patch/153445 _Testing PASS_ Submitter: Gowrishankar Muthukrishnan Date: Thursday, May 15 2025 08:05:25 DPDK git baseline: Repo:dpdk Branch: master CommitID:dcf9f9363aa9b4163d241caf8b26a84ca0c0006b 153445 --> testing pass Upstream job id: Generic-VM-Unit-Test-DPDK#28538 Test environment and result as below: +---------------------+----------------+ | Environment | dpdk_unit_test | +=====================+================+ | Debian 12 | PASS | +---------------------+----------------+ | CentOS Stream 9 | PASS | +---------------------+----------------+ | CentOS Stream 10 | PASS | +---------------------+----------------+ | RHEL9 | PASS | +---------------------+----------------+ | Fedora 41 (Clang) | PASS | +---------------------+----------------+ | Fedora 40 (Clang) | PASS | +---------------------+----------------+ | Fedora 41 | PASS | +---------------------+----------------+ | Ubuntu 20.04 | PASS | +---------------------+----------------+ | Ubuntu 22.04 | PASS | +---------------------+----------------+ | Fedora 40 | PASS | +---------------------+----------------+ | Ubuntu 24.04 | PASS | +---------------------+----------------+ | RHEL8 | PASS | +---------------------+----------------+ | Windows Server 2022 | PASS | +---------------------+----------------+ Debian 12 Kernel: Depends on container host Compiler: gcc (Debian 12.2.0-14) 12.2.0 CentOS Stream 9 Kernel: Depends on container host Compiler: gcc 11.5.0 20240719 (Red Hat 11.5.0-2) CentOS Stream 10 Kernel: Depends on container host Compiler: gcc 14.2.1 20241104 (Red Hat 14.2.1-6) RHEL9 Kernel: Depends on container host Compiler: gcc 11.5.0 20240719 (Red Hat 11.5.0-2) Fedora 41 (Clang) Kernel: Depends on container host Compiler: clang 19.1.5 (Fedora 19.1.5-1.fc41) Fedora 40 (Clang) Kernel: Depends on container host Compiler: clang 18.1.8 (Fedora 18.1.8-1.fc40) Fedora 41 Kernel: Depends on container host Compiler: gcc 14.2.1 20240912 (Red Hat 14.2.1-3) Ubuntu 20.04 Kernel: Depends on container host Compiler: gcc (Ubuntu 9.4.0-1ubuntu1~20.04.2) 9.4.0 Ubuntu 22.04 Kernel: Depends on container host Compiler: gcc (Ubuntu 11.4.0-1ubuntu1~22.04) 11.4.0 Fedora 40 Kernel: Depends on container host Compiler: gcc 14.2.1 20240912 (Red Hat 14.2.1-3) Ubuntu 24.04 Kernel: Depends on container host Compiler: gcc (Ubuntu 13.3.0-6ubuntu2~24.04) 13.3.0 RHEL8 Kernel: Depends on container host Compiler: gcc 8.5.0 20210514 (Red Hat 8.5.0-22) Windows Server 2022 Kernel: 10.0.20348.2031 Compiler: clang 15.0.7, gcc 14.1.0 (MinGW), and MSVC VS 19.39.33521 To view detailed results, visit: https://lab.dpdk.org/results/dashboard/patchsets/33176/ UNH-IOL DPDK Community Lab To manage your email subscriptions, visit: https://lab.dpdk.org/results/dashboard/preferences/subscriptions/