From mboxrd@z Thu Jan 1 00:00:00 1970 Return-Path: Received: from mails.dpdk.org (mails.dpdk.org [217.70.189.124]) by inbox.dpdk.org (Postfix) with ESMTP id 09C5646758 for ; Thu, 15 May 2025 21:51:23 +0200 (CEST) Received: from mails.dpdk.org (localhost [127.0.0.1]) by mails.dpdk.org (Postfix) with ESMTP id 044E0410D0; Thu, 15 May 2025 21:51:23 +0200 (CEST) Received: from mail-qk1-f227.google.com (mail-qk1-f227.google.com [209.85.222.227]) by mails.dpdk.org (Postfix) with ESMTP id 2E0AF41060 for ; Thu, 15 May 2025 21:51:22 +0200 (CEST) Received: by mail-qk1-f227.google.com with SMTP id af79cd13be357-7c7913bab2cso127302285a.0 for ; Thu, 15 May 2025 12:51:22 -0700 (PDT) DKIM-Signature: v=1; a=rsa-sha256; c=relaxed/relaxed; d=iol.unh.edu; s=unh-iol; t=1747338681; x=1747943481; darn=dpdk.org; h=references:in-reply-to:cc:to:from:subject:message-id:date:from:to :cc:subject:date:message-id:reply-to; bh=0merJEFgke/PvblDkePQYPOUo4qfLTJ7GHw/dSUuOzE=; b=LfZVturBesBCddwyKSsG0MdKZr/6ZUIrZgEZDXNm+4QF504C78T1tMjY2XzXH33SFe esM9kSKWkNCXVf/ApWOolZpuGKNUkfl4tDbDG5ppZNAMRhK6ClOeTjC5IuWdZo7fHvYM bjxvNyE6iFohlADcvTasa08O9L0PBmTnkB8Tk= X-Google-DKIM-Signature: v=1; a=rsa-sha256; c=relaxed/relaxed; d=1e100.net; s=20230601; t=1747338681; x=1747943481; h=references:in-reply-to:cc:to:from:subject:message-id:date :x-gm-message-state:from:to:cc:subject:date:message-id:reply-to; bh=0merJEFgke/PvblDkePQYPOUo4qfLTJ7GHw/dSUuOzE=; b=vBNEYVP+75CPHAZ6fXEongKE1vd100JB2qJHlwL4LEKStQpRSh3e5a+lmhIC4DjzGS dfbeqklerwDH5MEUVCXO3Ov4qZPLEK7Wc70kDQd63qR2SSOHpcqnTUO9zxh5PzQIMr/W du2eVviruYR13yhayUt5WP09yigkBxNdLFXkl78Vuix64IQ3ERnlUOxroNbBPds9CviE cUW2c1EDF3TUs8w2OR4Lix8KX5G/8oUobZ314MBgh7MlT8Zy41jz2RfTtn/EktL+8WPz 7LxGJwT2t6rR1ozOVEIUlzS0qPgpzWPajqBMW/b+i/xcw9/oWYOE6R6VFnfzwVuWs1pa u2Vg== X-Gm-Message-State: AOJu0YxlUTA+BWqkIUINnW42fy+ViJIwGKWifMpTXYw4g00ivgO/fBg6 pYi1K+0U7yjNGYscepto9HQAwtDyHm9eZBaABt19uXsL0JfcKb8SwZbEUhH+s6HoShZu1zHhflg rypizUkRyRxOMBsuy5eV4xrXGhw3YflYZFrHF65tHG5+ma+cCi26YU77/zpgS X-Gm-Gg: ASbGncsE3wdOzwqhOy89HD9pnCo6Q6vv9gwPqSBqTMDKbVSW4osMFcuDRuFxt6gDZcd zKWusF42dbbD3QiBk9JNdBjfoOtEK1JHocTKeluHRAK72hlH0G6eAzJzQKLGWsbG0bwmHuu8CdV SbPQFSUhQzVRD/FlLMRM/wdVfHs5FqDkWbU94IcTOhH3oxds5W3DRZUL0B/kWS5cjsiZzneyaxY a/KwYSyUtG9bl7bcuhTILla09Roar1Xy3fH/klK9y+YueOcqIDxwnW+FJ98oHdrPEuWcUjlgsVj CHYmHWh2pmY4oMG2H/e4gXh5KYXFgr05dcVK X-Google-Smtp-Source: AGHT+IGL7IKhTXhrujUBrxmRsX2L29j3TIuIO8lKmDEVbKGgeQLzq/tL9r40nBWVeJNh6qn/zIXKHb5oPYYx X-Received: by 2002:a05:620a:4015:b0:7cc:9245:9ec3 with SMTP id af79cd13be357-7cd47f0f393mr6230085a.8.1747338681537; Thu, 15 May 2025 12:51:21 -0700 (PDT) Received: from postal.iol.unh.edu (postal.iol.unh.edu. [2606:4100:3880:1234::84]) by smtp-relay.gmail.com with ESMTPS id 6a1803df08f44-6f8b08b3907sm181076d6.20.2025.05.15.12.51.21 (version=TLS1_2 cipher=ECDHE-ECDSA-AES128-GCM-SHA256 bits=128/128); Thu, 15 May 2025 12:51:21 -0700 (PDT) X-Relaying-Domain: iol.unh.edu Date: Thu, 15 May 2025 12:51:21 -0700 (PDT) Message-ID: <682645b9.050a0220.3577c6.0fb7SMTPIN_ADDED_MISSING@mx.google.com> Received: from [172.21.0.5] (unknown [172.18.0.240]) by postal.iol.unh.edu (Postfix) with ESMTP id 41E0B6052471; Thu, 15 May 2025 15:51:21 -0400 (EDT) Subject: |SUCCESS| pw153460 [PATCH] [RFC] dts: add rte flow test suite From: dpdklab@iol.unh.edu To: Test Report Cc: dpdk-test-reports@iol.unh.edu In-Reply-To: <20250515163809.184720-2-dmarx@iol.unh.edu> References: <20250515163809.184720-2-dmarx@iol.unh.edu> Content-Type: text/plain X-BeenThere: test-report@dpdk.org X-Mailman-Version: 2.1.29 Precedence: list List-Id: automatic DPDK test reports List-Unsubscribe: , List-Archive: List-Post: List-Help: List-Subscribe: , Errors-To: test-report-bounces@dpdk.org Test-Label: iol-compile-amd64-testing Test-Status: SUCCESS http://dpdk.org/patch/153460 _Testing PASS_ Submitter: Dean Marx Date: Thursday, May 15 2025 16:38:09 DPDK git baseline: Repo:dpdk Branch: master CommitID:1aef42bc97a31906486c9d66b792208948af06f3 153460 --> testing pass Upstream job id: Generic-VM-DPDK-Compile-Meson#35459 Test environment and result as below: +--------------+--------------------+ | Environment | dpdk_meson_compile | +==============+====================+ | Ubuntu 20.04 | PASS | +--------------+--------------------+ | FreeBSD 13.5 | PASS | +--------------+--------------------+ | FreeBSD 14.2 | PASS | +--------------+--------------------+ Ubuntu 20.04 Kernel: 4.19.325-0419325-generic Compiler: gcc (Ubuntu 9.4.0-1ubuntu1~20.04.2) 9.4.0 FreeBSD 13.5 Kernel: 13.5-RELEASE Compiler: clang 19.1.7 FreeBSD 14.2 Kernel: 14.2-RELEASE Compiler: clang 18.1.6 To view detailed results, visit: https://lab.dpdk.org/results/dashboard/patchsets/33183/ UNH-IOL DPDK Community Lab To manage your email subscriptions, visit: https://lab.dpdk.org/results/dashboard/preferences/subscriptions/