From mboxrd@z Thu Jan 1 00:00:00 1970 Return-Path: Received: from mails.dpdk.org (mails.dpdk.org [217.70.189.124]) by inbox.dpdk.org (Postfix) with ESMTP id D289146758 for ; Thu, 15 May 2025 21:57:53 +0200 (CEST) Received: from mails.dpdk.org (localhost [127.0.0.1]) by mails.dpdk.org (Postfix) with ESMTP id BBB2F410D0; Thu, 15 May 2025 21:57:53 +0200 (CEST) Received: from mail-qt1-f225.google.com (mail-qt1-f225.google.com [209.85.160.225]) by mails.dpdk.org (Postfix) with ESMTP id 6EAA541060 for ; Thu, 15 May 2025 21:57:52 +0200 (CEST) Received: by mail-qt1-f225.google.com with SMTP id d75a77b69052e-47662449055so8738471cf.1 for ; Thu, 15 May 2025 12:57:52 -0700 (PDT) DKIM-Signature: v=1; a=rsa-sha256; c=relaxed/relaxed; d=iol.unh.edu; s=unh-iol; t=1747339072; x=1747943872; darn=dpdk.org; h=references:in-reply-to:cc:to:from:subject:message-id:date:from:to :cc:subject:date:message-id:reply-to; bh=bEZq4o7oPjln+oIafA+4z14zE6QaAsvoiSUC5FoEK00=; b=Ehu/b5lkhBJstaNJCFxkp3ONu0BIedyIeFWbBPutxYm657pGNANu3STe011o8/q9zc ReUNumnvpwtQTHEYo495cVB+Yfvn262OTbm8CuQsCpOe7KVmxaM9aZxPHTZwvg0hRYLU tft/DG2VqPyIV0PmTtuNOPGbZ86Q8rFwjmvXc= X-Google-DKIM-Signature: v=1; a=rsa-sha256; c=relaxed/relaxed; d=1e100.net; s=20230601; t=1747339072; x=1747943872; h=references:in-reply-to:cc:to:from:subject:message-id:date :x-gm-message-state:from:to:cc:subject:date:message-id:reply-to; bh=bEZq4o7oPjln+oIafA+4z14zE6QaAsvoiSUC5FoEK00=; b=M0A1j8jtDM3rhkeScC6uxLM2dDkCwqsn7Wfj1Tf98r+YdJUE2hRtAP4QkKW3Ia2WdP /TSUvKNdm/Q7p6uCQkaaNzfqzC1KlANRasFyoyDiulomdC8DsnvdjJKzbs5ob5yRLpGG cl5gZar0yC+FP2RlVdqR3ZNpPIt+dNCxnkWnGf5Qf9DmF4/nLdCksfIyIXVBy9tH4Cge Mra5OsQBHWV/7s/KC9szSBA4Kk+nftuXZpg0WgqXLHkED+PbO8Ir/Ac+IfXbrqx0HPeS c/MXH38O4VuoXM2eXT6bSFYmi00rxWPTwjiXLzTfJlCZkL901MdVEz5BwE+tJ2ZNd7nU gKAg== X-Gm-Message-State: AOJu0YzE88+zkQMsN7rVpcKRvKxQwHb6jcrNJuY2W/CjYQfB5f09AO44 gXK1eVDKsswg5xBaA5BGsd/zvgQ+BLAoaRUuW+r6fRex8mzgEktMDYVlLkPD1lYg7sED2t2wWal 12cqBC3ohpuu0v8lM3a7EdjWrB+r6EFFk9JoBav4OaD1Y X-Gm-Gg: ASbGncu2NfKKOD+I0S4RjYHji1mWYK9xCUXbAsA1enMOVJOt9db1UIwvG+wqnqTonxv k+8js951ncfAYOz0v0nvqX/NXmmPvvI6/fP/gc357r3tokcavLV5lTTMBHWffULEbYpQeTvAe4h 0Vbn1cBmFUlxOttcP7XC3LDO8fSXiwzU40LB8Xp/uZvrl+33IljGBQjbsHKo8JPiMio9eZTiaGV 9lWTT8Xp94h1r4q9iDuD/qecPVgIWKZtDEi/26yNxTEa9QSnYlpZm9WxyJvQe3jv70cSz/edjkd l/rXX27n2rRyyXWCK2TRnd97ZG/2po7UAulff4Co4urgi7/2LK/Cj1hkJd0= X-Google-Smtp-Source: AGHT+IHYUQQ9GqgS2PawqdgWi1K+SLQkwYwQ9Hrw076n4GPcFuxe1AHRFgaPKYg4vYDIysaNsjODMAEQvjRa X-Received: by 2002:a05:622a:22a9:b0:494:a0bf:e0ae with SMTP id d75a77b69052e-494ae46242fmr9866101cf.40.1747339071711; Thu, 15 May 2025 12:57:51 -0700 (PDT) Received: from postal.iol.unh.edu (postal.iol.unh.edu. [132.177.123.84]) by smtp-relay.gmail.com with ESMTPS id d75a77b69052e-494ae428a35sm141381cf.11.2025.05.15.12.57.51 (version=TLS1_2 cipher=ECDHE-ECDSA-AES128-GCM-SHA256 bits=128/128); Thu, 15 May 2025 12:57:51 -0700 (PDT) X-Relaying-Domain: iol.unh.edu Date: Thu, 15 May 2025 12:57:51 -0700 (PDT) Message-ID: <6826473f.050a0220.1c0f91.0bf0SMTPIN_ADDED_MISSING@mx.google.com> Received: from [172.21.0.7] (unknown [172.18.0.240]) by postal.iol.unh.edu (Postfix) with ESMTP id 5C8C06052471; Thu, 15 May 2025 15:57:51 -0400 (EDT) Subject: |SUCCESS| pw153444 [PATCH] crypto/virtio: check for invalid IOVA add From: dpdklab@iol.unh.edu To: Test Report Cc: dpdk-test-reports@iol.unh.edu In-Reply-To: <20250515080313.1612-1-gmuthukrishn@marvell.com> References: <20250515080313.1612-1-gmuthukrishn@marvell.com> Content-Type: text/plain X-BeenThere: test-report@dpdk.org X-Mailman-Version: 2.1.29 Precedence: list List-Id: automatic DPDK test reports List-Unsubscribe: , List-Archive: List-Post: List-Help: List-Subscribe: , Errors-To: test-report-bounces@dpdk.org Test-Label: iol-compile-arm64-testing Test-Status: SUCCESS http://dpdk.org/patch/153444 _Testing PASS_ Submitter: Gowrishankar Muthukrishnan Date: Thursday, May 15 2025 08:03:10 DPDK git baseline: Repo:dpdk Branch: master CommitID:dcf9f9363aa9b4163d241caf8b26a84ca0c0006b 153444 --> testing pass Upstream job id: Generic-DPDK-Compile-Meson#388228 Test environment and result as below: +----------------------------------------+--------------------+ | Environment | dpdk_meson_compile | +========================================+====================+ | RHEL9 (ARM) | PASS | +----------------------------------------+--------------------+ | Ubuntu 20.04 ARM GCC Cross Compile | PASS | +----------------------------------------+--------------------+ | Ubuntu 20.04 ARM SVE | PASS | +----------------------------------------+--------------------+ | Debian 12 with MUSDK | PASS | +----------------------------------------+--------------------+ | Fedora 40 (ARM) | PASS | +----------------------------------------+--------------------+ | Fedora 41 (ARM) | PASS | +----------------------------------------+--------------------+ | Fedora 40 (ARM Clang) | PASS | +----------------------------------------+--------------------+ | Ubuntu 24.04 (ARM) | PASS | +----------------------------------------+--------------------+ | CentOS Stream 9 (ARM) | PASS | +----------------------------------------+--------------------+ | Fedora 41 (ARM Clang) | PASS | +----------------------------------------+--------------------+ | Ubuntu 20.04 (ARM) | PASS | +----------------------------------------+--------------------+ | Ubuntu 22.04 (ARM) | PASS | +----------------------------------------+--------------------+ | Ubuntu 20.04 ARM Clang Cross Compile | PASS | +----------------------------------------+--------------------+ | CentOS Stream 10 (ARM) | PASS | +----------------------------------------+--------------------+ | Debian 12 (arm) | PASS | +----------------------------------------+--------------------+ | Ubuntu 20.04 aarch32 GCC Cross Compile | PASS | +----------------------------------------+--------------------+ RHEL9 (ARM) Kernel: Depends on container host Compiler: gcc 11.5.0 20240719 (Red Hat 11.5.0-2) Ubuntu 20.04 ARM GCC Cross Compile Kernel: Depends on container host Compiler: aarch64-linux-gnu-gcc (Ubuntu 9.4.0-1ubuntu1~20.04.2) 9.4.0 Ubuntu 20.04 ARM SVE Kernel: Depends on container host Compiler: gcc (Ubuntu 10.5.0-1ubuntu1~20.04) 10.5.0 Debian 12 with MUSDK Kernel: Depends on container host Compiler: gcc (Debian 12.2.0-14) 12.2.0 Fedora 40 (ARM) Kernel: Depends on container host Compiler: gcc 14.2.1 20240912 (Red Hat 14.2.1-3) Fedora 41 (ARM) Kernel: Depends on container host Compiler: gcc 14.2.1 20240912 (Red Hat 14.2.1-3) Fedora 40 (ARM Clang) Kernel: Depends on container host Compiler: clang 18.1.8 (Fedora 18.1.8-1.fc40) Ubuntu 24.04 (ARM) Kernel: Depends on container host Compiler: gcc (Ubuntu 13.3.0-6ubuntu2~24.04) 13.3.0 CentOS Stream 9 (ARM) Kernel: Depends on container host Compiler: gcc 11.5.0 20240719 (Red Hat 11.5.0-2) Fedora 41 (ARM Clang) Kernel: Depends on container host Compiler: clang 19.1.5 (Fedora 19.1.5-1.fc41) Ubuntu 20.04 (ARM) Kernel: Depends on container host Compiler: gcc (Ubuntu 9.4.0-1ubuntu1~20.04.2) 9.4.0 Ubuntu 22.04 (ARM) Kernel: Depends on container host Compiler: gcc (Ubuntu 11.4.0-1ubuntu1~22.04) 11.4.0 Ubuntu 20.04 ARM Clang Cross Compile Kernel: Depends on container host Compiler: clang 10.0.0-4ubuntu1 CentOS Stream 10 (ARM) Kernel: Depends on container host Compiler: gcc 14.2.1 20241104 (Red Hat 14.2.1-6) Debian 12 (arm) Kernel: Depends on container host Compiler: gcc (Debian 12.2.0-14) 12.2.0 Ubuntu 20.04 aarch32 GCC Cross Compile Kernel: Depends on container host Compiler: gcc 9.4.0 To view detailed results, visit: https://lab.dpdk.org/results/dashboard/patchsets/33175/ UNH-IOL DPDK Community Lab To manage your email subscriptions, visit: https://lab.dpdk.org/results/dashboard/preferences/subscriptions/