From mboxrd@z Thu Jan 1 00:00:00 1970 Return-Path: Received: from mails.dpdk.org (mails.dpdk.org [217.70.189.124]) by inbox.dpdk.org (Postfix) with ESMTP id B0F664675A for ; Thu, 15 May 2025 22:17:29 +0200 (CEST) Received: from mails.dpdk.org (localhost [127.0.0.1]) by mails.dpdk.org (Postfix) with ESMTP id 95402410D0; Thu, 15 May 2025 22:17:29 +0200 (CEST) Received: from mail-pg1-f226.google.com (mail-pg1-f226.google.com [209.85.215.226]) by mails.dpdk.org (Postfix) with ESMTP id 5D00341060 for ; Thu, 15 May 2025 22:17:28 +0200 (CEST) Received: by mail-pg1-f226.google.com with SMTP id 41be03b00d2f7-b0db0b6a677so1100353a12.2 for ; Thu, 15 May 2025 13:17:28 -0700 (PDT) DKIM-Signature: v=1; a=rsa-sha256; c=relaxed/relaxed; d=iol.unh.edu; s=unh-iol; t=1747340247; x=1747945047; darn=dpdk.org; h=references:in-reply-to:cc:to:from:subject:message-id:date:from:to :cc:subject:date:message-id:reply-to; bh=O0wXG6cWyY9wior0eHtA2RY3fwFOQWRAErJj1Ld8d+I=; b=hISV2Vw/pzyYKlb20GSMx7jxq9eQiUULIuiQnGVKc+bF1k+SELPDdPnjYOx4UA5feq dsPIsMwKlQ73jAz5d1rbZmyQTQz0jRbeUiUxuC1/a7wi9ZDD2HS7yPJIgW4Eo2Dece55 vldhqxEqaH2bkehrI1PT5zq5E/I2cRA100LDY= X-Google-DKIM-Signature: v=1; a=rsa-sha256; c=relaxed/relaxed; d=1e100.net; s=20230601; t=1747340247; x=1747945047; h=references:in-reply-to:cc:to:from:subject:message-id:date :x-gm-message-state:from:to:cc:subject:date:message-id:reply-to; bh=O0wXG6cWyY9wior0eHtA2RY3fwFOQWRAErJj1Ld8d+I=; b=eaNxDzbm1xp7ybO3KQaz11w+v9j+Lglwz3uUz+A1friZQpu7y7lfJCQwbC2J2aXLqh 3YF8GBXZt88xUiH9N+yvWvqznoSd/LOvG8XyJKXpp8I/v6rwo6ddxPxcycSro/klAtLG C74UqlkZfgYhamkEJgpFbbWypdIQAXX06cARavzFIgddZso2Q31cJWQWanImn2vHNlpP dVZhkxXVzMkDmE7HGgP7ImIXoDQDe8QMfWTpCoDQk5ke53xV8zG7aUX9xb9jrEeuvBGe KG+CE7Wyx0PV9QqFxkkxJFVByVi2V3iYw8xl+cNKDKNHecBEueFdbe+CVZ9fhUOeouxm AwCg== X-Gm-Message-State: AOJu0YyAaO+5l8x7Yhz0LBwNhzZ8hjhLgdNs0OdOlM67s5vSIUwFzlB5 Ac+B23e3R13ODaKoBDUlrJ6a7D+E2np5iK4d42p3yxZwEuJgUmBIYy2C5UCUXdYAzcNG4s5Xlks ptg+8q1B6aihSrmfYgZOMzd9ns5W62PcODaSskjhOGqOlCjfShNZBlH3Pd9ad X-Gm-Gg: ASbGncu0pvEfikxZT/HGagjsNDloBOad3/tbnkOIbsRrJkIFGq83PISJ4qECYbl0cGr YGArbSWeWXrPXtQuxxaBGaWZwF809hxqsZkHuY80+NIevpoHrb8/vzwK3GDUe/SV4Ev0pAQfeCq c9SX3NPaS9QSILCPQ6U1jywTMN+KRgeozMyG4i8sTKBLgwm9mue7hT+dFyIWmqA3odNrqh92FF6 ambr2h7BguJdIFSUI8o/2Tn4feFjlqWbenGrkKmQ6/9EKQP5rKf3GcCT5gvtz25klnOuzL87L8x xtJ5D5sFgrMZiu09rQPnrzVgeTHvuPPWpE1P X-Google-Smtp-Source: AGHT+IF6NOy3wGjPyDX3mgvoQO6Y3MuPnwSgew4FZZ1UVWJamaATf/4do0lFgeeoSNUqW/FzWljUWOTWdOzY X-Received: by 2002:a17:902:e801:b0:22e:4cae:5958 with SMTP id d9443c01a7336-231d44f6bffmr7989665ad.18.1747340247146; Thu, 15 May 2025 13:17:27 -0700 (PDT) Received: from postal.iol.unh.edu (postal.iol.unh.edu. [2606:4100:3880:1234::84]) by smtp-relay.gmail.com with ESMTPS id d9443c01a7336-231d4aa7083sm191995ad.22.2025.05.15.13.17.27 (version=TLS1_2 cipher=ECDHE-ECDSA-AES128-GCM-SHA256 bits=128/128); Thu, 15 May 2025 13:17:27 -0700 (PDT) X-Relaying-Domain: iol.unh.edu Date: Thu, 15 May 2025 13:17:27 -0700 (PDT) Message-ID: <68264bd7.170a0220.2704b7.1164SMTPIN_ADDED_MISSING@mx.google.com> Received: from [172.21.0.5] (unknown [172.18.0.240]) by postal.iol.unh.edu (Postfix) with ESMTP id 4F6836052471; Thu, 15 May 2025 16:17:26 -0400 (EDT) Subject: |SUCCESS| pw153459 [PATCH] [v3] build: automatically report minimum From: dpdklab@iol.unh.edu To: Test Report Cc: dpdk-test-reports@iol.unh.edu In-Reply-To: <20250515134647.932537-1-bruce.richardson@intel.com> References: <20250515134647.932537-1-bruce.richardson@intel.com> Content-Type: text/plain X-BeenThere: test-report@dpdk.org X-Mailman-Version: 2.1.29 Precedence: list List-Id: automatic DPDK test reports List-Unsubscribe: , List-Archive: List-Post: List-Help: List-Subscribe: , Errors-To: test-report-bounces@dpdk.org Test-Label: iol-unit-arm64-testing Test-Status: SUCCESS http://dpdk.org/patch/153459 _Testing PASS_ Submitter: Bruce Richardson Date: Thursday, May 15 2025 13:46:47 DPDK git baseline: Repo:dpdk Branch: master CommitID:4029c5e3f2c6e950e8579be2401dab12e4209d53 153459 --> testing pass Upstream job id: Generic-Unit-Test-DPDK#338106 Test environment and result as below: +-----------------------------+--------------+------------------------------+----------------+---------------------------+ | Environment | lpm_autotest | cryptodev_sw_snow3g_autotest | dpdk_unit_test | cryptodev_sw_zuc_autotest | +=============================+==============+==============================+================+===========================+ | Ubuntu 20.04 ARM SVE | PASS | SKIPPED | SKIPPED | SKIPPED | +-----------------------------+--------------+------------------------------+----------------+---------------------------+ | Debian 12 (arm) | SKIPPED | PASS | PASS | PASS | +-----------------------------+--------------+------------------------------+----------------+---------------------------+ | CentOS Stream 10 (ARM) | SKIPPED | SKIPPED | PASS | SKIPPED | +-----------------------------+--------------+------------------------------+----------------+---------------------------+ | CentOS Stream 9 (ARM) | SKIPPED | SKIPPED | PASS | SKIPPED | +-----------------------------+--------------+------------------------------+----------------+---------------------------+ | Fedora 41 (ARM) | SKIPPED | SKIPPED | PASS | SKIPPED | +-----------------------------+--------------+------------------------------+----------------+---------------------------+ | Fedora 41 (ARM Clang) | SKIPPED | SKIPPED | PASS | SKIPPED | +-----------------------------+--------------+------------------------------+----------------+---------------------------+ | Ubuntu 24.04 (ARM) | SKIPPED | SKIPPED | PASS | SKIPPED | +-----------------------------+--------------+------------------------------+----------------+---------------------------+ | Fedora 40 (ARM Clang) | SKIPPED | SKIPPED | PASS | SKIPPED | +-----------------------------+--------------+------------------------------+----------------+---------------------------+ | Fedora 40 (ARM) | SKIPPED | SKIPPED | PASS | SKIPPED | +-----------------------------+--------------+------------------------------+----------------+---------------------------+ | RHEL9 (ARM) | SKIPPED | SKIPPED | PASS | SKIPPED | +-----------------------------+--------------+------------------------------+----------------+---------------------------+ | Ubuntu 22.04 (ARM) | SKIPPED | SKIPPED | PASS | SKIPPED | +-----------------------------+--------------+------------------------------+----------------+---------------------------+ | Ubuntu 20.04 (ARM) | SKIPPED | SKIPPED | PASS | SKIPPED | +-----------------------------+--------------+------------------------------+----------------+---------------------------+ | 32-bit Ubuntu 22.04.4 (ARM) | SKIPPED | SKIPPED | PASS | SKIPPED | +-----------------------------+--------------+------------------------------+----------------+---------------------------+ Ubuntu 20.04 ARM SVE Kernel: Depends on container host Compiler: gcc (Ubuntu 10.5.0-1ubuntu1~20.04) 10.5.0 Debian 12 (arm) Kernel: Depends on container host Compiler: gcc (Debian 12.2.0-14) 12.2.0 CentOS Stream 10 (ARM) Kernel: Depends on container host Compiler: gcc 14.2.1 20241104 (Red Hat 14.2.1-6) CentOS Stream 9 (ARM) Kernel: Depends on container host Compiler: gcc 11.5.0 20240719 (Red Hat 11.5.0-2) Fedora 41 (ARM) Kernel: Depends on container host Compiler: gcc 14.2.1 20240912 (Red Hat 14.2.1-3) Fedora 41 (ARM Clang) Kernel: Depends on container host Compiler: clang 19.1.5 (Fedora 19.1.5-1.fc41) Ubuntu 24.04 (ARM) Kernel: Depends on container host Compiler: gcc (Ubuntu 13.3.0-6ubuntu2~24.04) 13.3.0 Fedora 40 (ARM Clang) Kernel: Depends on container host Compiler: clang 18.1.8 (Fedora 18.1.8-1.fc40) Fedora 40 (ARM) Kernel: Depends on container host Compiler: gcc 14.2.1 20240912 (Red Hat 14.2.1-3) RHEL9 (ARM) Kernel: Depends on container host Compiler: gcc 11.5.0 20240719 (Red Hat 11.5.0-2) Ubuntu 22.04 (ARM) Kernel: Depends on container host Compiler: gcc (Ubuntu 11.4.0-1ubuntu1~22.04) 11.4.0 Ubuntu 20.04 (ARM) Kernel: Depends on container host Compiler: gcc (Ubuntu 9.4.0-1ubuntu1~20.04.2) 9.4.0 32-bit Ubuntu 22.04.4 (ARM) Kernel: 5.15.83+ aarch64 Compiler: gcc (Ubuntu 11.4.0-1ubuntu1~22.04) 11.4.0 To view detailed results, visit: https://lab.dpdk.org/results/dashboard/patchsets/33182/ UNH-IOL DPDK Community Lab To manage your email subscriptions, visit: https://lab.dpdk.org/results/dashboard/preferences/subscriptions/