From mboxrd@z Thu Jan 1 00:00:00 1970 Return-Path: Received: from mails.dpdk.org (mails.dpdk.org [217.70.189.124]) by inbox.dpdk.org (Postfix) with ESMTP id B87774675A for ; Thu, 15 May 2025 22:26:56 +0200 (CEST) Received: from mails.dpdk.org (localhost [127.0.0.1]) by mails.dpdk.org (Postfix) with ESMTP id B4197410D0; Thu, 15 May 2025 22:26:56 +0200 (CEST) Received: from mail-io1-f100.google.com (mail-io1-f100.google.com [209.85.166.100]) by mails.dpdk.org (Postfix) with ESMTP id 36C3441060 for ; Thu, 15 May 2025 22:26:55 +0200 (CEST) Received: by mail-io1-f100.google.com with SMTP id ca18e2360f4ac-86135ac9542so54610439f.1 for ; Thu, 15 May 2025 13:26:55 -0700 (PDT) DKIM-Signature: v=1; a=rsa-sha256; c=relaxed/relaxed; d=iol.unh.edu; s=unh-iol; t=1747340814; x=1747945614; darn=dpdk.org; h=references:in-reply-to:cc:to:from:subject:message-id:date:from:to :cc:subject:date:message-id:reply-to; bh=zuIltarpokXO0/x2aLP0un3IBZV/6wRAaj0RKqMENG4=; b=a5D1Cz9oKH3DcxSUrbrfNL90ey8WjHtaHC9Ebaw8iRbOFgClulX6m8Txh6VvCeSdxY /C93KNKXcwF/2gQZmp7L4/U6iIbwTISbLFpLzEY4kUwRcBGe5VaczO75yBpm8X5qS2z/ JlmdBBwEtwV0+DbV5Guk8ZaKgMAdNLyG8ZTRw= X-Google-DKIM-Signature: v=1; a=rsa-sha256; c=relaxed/relaxed; d=1e100.net; s=20230601; t=1747340814; x=1747945614; h=references:in-reply-to:cc:to:from:subject:message-id:date :x-gm-message-state:from:to:cc:subject:date:message-id:reply-to; bh=zuIltarpokXO0/x2aLP0un3IBZV/6wRAaj0RKqMENG4=; b=VwY7dzCQ7LlKuj+NlrX4FkYt6oYzVMsGcebRo7gOzKfAAnhAYIcle3e3ixZeOmsUDC GQ/AiX/sWNRF+iZJ4YBs/UIR4uKJsBS7vQFA5GIdEvtCXg0dRHlRgkNL0Ws6qgRc86eB vxbpYczKDiN3pVDgXrRuLs1kegEatg4aorR/Bl5pu5dG8cFBYYOoZjdeuUxRK8WG/rok 8Vl811K9MVbiVpLXO5yqej4G7UxZCyAxO3/5CmeJXMlWkjMJiamOPNML+/NmGEQZ8SuE IZgfCdC1k4fY/pb+fuDuRoWBMXvaqD3J6kT0A1B9xEGqK9Tt/CltxY2H2M5d05n1fOP4 AhdA== X-Gm-Message-State: AOJu0YyI0RT9w9zxHjwtOxXv7PAYHryQzCwmRrnHwPhlZZ37vK+g8p9d JgeI4BvbjRa4Jr+Km5DjfLG6MV7Cmv79mKfQRgtdVfY5t5UMxy3yIykA6nEfjhYF2j0mVhcM/7K /ncfpa9fx7Ii0j/skkYTKS+E93chqldclr02oZyA54sKuY2ueNFBlW4iEgSz/ X-Gm-Gg: ASbGnctsCvm5J0q8cs6XKdo4YSFzmw9MS4YHCWEXczuugmuDx5joyOXmvvgPSFKojLN dyHdExw6zw9yhA0Hf/EoTNJW4qEr7FtDdeYbyx1ZmcdvlmFZRCWPcrWRmHA3wRJwqKSRIiWG+VY 5D4gnfcY8qAFHQJizkyL8JOJZLwb77Sb4wyQy2p96Pq5jzk17OU849ozXFmbJ61mDHDaR+T4XUm ULok5JXTyFe0b2RlBiVu+rAFYO+E4fd9W4FWAejxhlkv+nBmssSIMbnmRC2H5OX8EJUnEXwa4yd XE9zqlN9lLs/ZxowkXm8liv/8jucNGk8XlEi X-Google-Smtp-Source: AGHT+IGX4GrknyoGvfSFwxEGxO6osmJlhiPc5ADmmfNUNaOKf4mf09tPy/Z+VdyxgfQSyk50wVhpjptwCJEG X-Received: by 2002:a05:6602:1406:b0:867:15a5:d16 with SMTP id ca18e2360f4ac-86a17552130mr639243139f.8.1747340814480; Thu, 15 May 2025 13:26:54 -0700 (PDT) Received: from postal.iol.unh.edu (postal.iol.unh.edu. [2606:4100:3880:1234::84]) by smtp-relay.gmail.com with ESMTPS id 8926c6da1cb9f-4fbcc48b013sm15615173.54.2025.05.15.13.26.54 (version=TLS1_2 cipher=ECDHE-ECDSA-AES128-GCM-SHA256 bits=128/128); Thu, 15 May 2025 13:26:54 -0700 (PDT) X-Relaying-Domain: iol.unh.edu Date: Thu, 15 May 2025 13:26:54 -0700 (PDT) Message-ID: <68264e0e.050a0220.1fffea.0cefSMTPIN_ADDED_MISSING@mx.google.com> Received: from [172.21.0.5] (unknown [172.18.0.240]) by postal.iol.unh.edu (Postfix) with ESMTP id 00A9F6052471; Thu, 15 May 2025 16:26:54 -0400 (EDT) Subject: |SUCCESS| pw153444 [PATCH] crypto/virtio: check for invalid IOVA add From: dpdklab@iol.unh.edu To: Test Report Cc: dpdk-test-reports@iol.unh.edu In-Reply-To: <20250515080313.1612-1-gmuthukrishn@marvell.com> References: <20250515080313.1612-1-gmuthukrishn@marvell.com> Content-Type: text/plain X-BeenThere: test-report@dpdk.org X-Mailman-Version: 2.1.29 Precedence: list List-Id: automatic DPDK test reports List-Unsubscribe: , List-Archive: List-Post: List-Help: List-Subscribe: , Errors-To: test-report-bounces@dpdk.org Test-Label: iol-unit-amd64-testing Test-Status: SUCCESS http://dpdk.org/patch/153444 _Testing PASS_ Submitter: Gowrishankar Muthukrishnan Date: Thursday, May 15 2025 08:03:10 DPDK git baseline: Repo:dpdk Branch: master CommitID:dcf9f9363aa9b4163d241caf8b26a84ca0c0006b 153444 --> testing pass Upstream job id: Generic-VM-Unit-Test-DPDK#28540 Test environment and result as below: +---------------------+----------------+ | Environment | dpdk_unit_test | +=====================+================+ | Fedora 40 (Clang) | PASS | +---------------------+----------------+ | CentOS Stream 9 | PASS | +---------------------+----------------+ | CentOS Stream 10 | PASS | +---------------------+----------------+ | Debian 12 | PASS | +---------------------+----------------+ | Fedora 40 | PASS | +---------------------+----------------+ | RHEL8 | PASS | +---------------------+----------------+ | Fedora 41 | PASS | +---------------------+----------------+ | Fedora 41 (Clang) | PASS | +---------------------+----------------+ | RHEL9 | PASS | +---------------------+----------------+ | Ubuntu 22.04 | PASS | +---------------------+----------------+ | Ubuntu 20.04 | PASS | +---------------------+----------------+ | Ubuntu 24.04 | PASS | +---------------------+----------------+ | Windows Server 2022 | PASS | +---------------------+----------------+ Fedora 40 (Clang) Kernel: Depends on container host Compiler: clang 18.1.8 (Fedora 18.1.8-1.fc40) CentOS Stream 9 Kernel: Depends on container host Compiler: gcc 11.5.0 20240719 (Red Hat 11.5.0-2) CentOS Stream 10 Kernel: Depends on container host Compiler: gcc 14.2.1 20241104 (Red Hat 14.2.1-6) Debian 12 Kernel: Depends on container host Compiler: gcc (Debian 12.2.0-14) 12.2.0 Fedora 40 Kernel: Depends on container host Compiler: gcc 14.2.1 20240912 (Red Hat 14.2.1-3) RHEL8 Kernel: Depends on container host Compiler: gcc 8.5.0 20210514 (Red Hat 8.5.0-22) Fedora 41 Kernel: Depends on container host Compiler: gcc 14.2.1 20240912 (Red Hat 14.2.1-3) Fedora 41 (Clang) Kernel: Depends on container host Compiler: clang 19.1.5 (Fedora 19.1.5-1.fc41) RHEL9 Kernel: Depends on container host Compiler: gcc 11.5.0 20240719 (Red Hat 11.5.0-2) Ubuntu 22.04 Kernel: Depends on container host Compiler: gcc (Ubuntu 11.4.0-1ubuntu1~22.04) 11.4.0 Ubuntu 20.04 Kernel: Depends on container host Compiler: gcc (Ubuntu 9.4.0-1ubuntu1~20.04.2) 9.4.0 Ubuntu 24.04 Kernel: Depends on container host Compiler: gcc (Ubuntu 13.3.0-6ubuntu2~24.04) 13.3.0 Windows Server 2022 Kernel: 10.0.20348.2031 Compiler: clang 15.0.7, gcc 14.1.0 (MinGW), and MSVC VS 19.39.33521 To view detailed results, visit: https://lab.dpdk.org/results/dashboard/patchsets/33175/ UNH-IOL DPDK Community Lab To manage your email subscriptions, visit: https://lab.dpdk.org/results/dashboard/preferences/subscriptions/