From mboxrd@z Thu Jan 1 00:00:00 1970 Return-Path: Received: from mails.dpdk.org (mails.dpdk.org [217.70.189.124]) by inbox.dpdk.org (Postfix) with ESMTP id 559D24675A for ; Thu, 15 May 2025 22:43:30 +0200 (CEST) Received: from mails.dpdk.org (localhost [127.0.0.1]) by mails.dpdk.org (Postfix) with ESMTP id 50AB6410D0; Thu, 15 May 2025 22:43:30 +0200 (CEST) Received: from mail-ot1-f100.google.com (mail-ot1-f100.google.com [209.85.210.100]) by mails.dpdk.org (Postfix) with ESMTP id D181641060 for ; Thu, 15 May 2025 22:43:28 +0200 (CEST) Received: by mail-ot1-f100.google.com with SMTP id 46e09a7af769-72c173211feso620080a34.1 for ; Thu, 15 May 2025 13:43:28 -0700 (PDT) DKIM-Signature: v=1; a=rsa-sha256; c=relaxed/relaxed; d=iol.unh.edu; s=unh-iol; t=1747341808; x=1747946608; darn=dpdk.org; h=references:in-reply-to:cc:to:from:subject:message-id:date:from:to :cc:subject:date:message-id:reply-to; bh=+M/QV1ZN3Mo3tUDqIcYLl2gkMavTGCsZbIw8YcJC/t4=; b=CJSq80T7s5r6CytRxpyBbOGGb3WzZj/G2bhJ8coao3IdFqTZjqELnXQbE+4gppUm7s zwiSalMgIZaML9w4G9rNTQ58lAKSdYUQyRW4yRic8TcdDKKXie+yW4HD4KoQ8WhleNKc 02XiDeq/rqBvjSfbcUVS3dqyt+lulPPt/W9ho= X-Google-DKIM-Signature: v=1; a=rsa-sha256; c=relaxed/relaxed; d=1e100.net; s=20230601; t=1747341808; x=1747946608; h=references:in-reply-to:cc:to:from:subject:message-id:date :x-gm-message-state:from:to:cc:subject:date:message-id:reply-to; bh=+M/QV1ZN3Mo3tUDqIcYLl2gkMavTGCsZbIw8YcJC/t4=; b=FElD70cXabxODm2N9cyv2l8GiHpcPfZ3oCy+rSIo3chJuM7U0BRLfQPEpmwShm6miS ML9UA4QjxzwhCCrJslQrGljbnV6eSW1ggCuB/oEQtzQrIUER7sjbEhHfJor1ClclvDu4 gtpaeZS8suKe+TBOl+7b3aDHGM8tH6DSqGeeDLAO7yYc7mrSgkYVamOZUxduzqMlFzCi eXXsrX+AHC2MY8PEugpTs0jbqpB2AxM3CJopGH9xRLr1KwiYrgyct1NxUtUMsn4aCsMS Ho2Ww0Ez+aMpuL1WnRxsmr5v8s1lZAl5QtbZ82RXI9GZZgicuq5G6Yi8WXw/0nSLsaBF ZscQ== X-Gm-Message-State: AOJu0YxPWGsm0Xd+4FaY9etx6fOnI7i9Wuy8a1mKJyCp0YmUj8ABEHtB eeh3X4t+l4jAoJ3JxZY5JAyuUWorItBm4xtNr+Fmz2JQs7sBPhI3tR6kG5FnNJGY5tgptH5wrD9 9P2pY4LoRpuqY/pqobjsj8Oiu4IDgLK+FhXdJVwM4uFAl37r/GpAoVvV1eOXg X-Gm-Gg: ASbGncu3kj33aVopf7pYXK54L5xKBJbLY5wAPBXPnE7P3sH810jvlcLvDED29Bq6164 x0ia0lZzezNNapPruRX7kX9LHlayTuZwOl9Et9nn5jezDRzpu3o535e8Cki9ZMwWBx322Txx6pu HXGh+mD3Z9YoZp3g6li5+jL3zmIdFpDS6Y68059aQ0tuhNVB0l2tfe1DilaR13F7vMVJoU5gTua W3p5P9ByetHe1L2Xmuq8vt6DtMlhrBwxZa1hBqAxd6g/D+5ZdDg78rb9dBHeI+8XP3780RnfjWS NrL038TKTMIrrlnDVELNGnJSGsEjRlT5NZQU X-Google-Smtp-Source: AGHT+IFYLxlOdkhslMfugTM34tPlc0Ly3ykLPUGBf4dvlOw5pltJPDBzYoS0s9M6/hIvpr67Mw7tFXo3q6Io X-Received: by 2002:a05:6830:3c0e:b0:72c:320c:d960 with SMTP id 46e09a7af769-734f98aa4f4mr128152a34.15.1747341808033; Thu, 15 May 2025 13:43:28 -0700 (PDT) Received: from postal.iol.unh.edu (postal.iol.unh.edu. [2606:4100:3880:1234::84]) by smtp-relay.gmail.com with ESMTPS id 46e09a7af769-734f6a531c5sm23892a34.2.2025.05.15.13.43.27 (version=TLS1_2 cipher=ECDHE-ECDSA-AES128-GCM-SHA256 bits=128/128); Thu, 15 May 2025 13:43:28 -0700 (PDT) X-Relaying-Domain: iol.unh.edu Date: Thu, 15 May 2025 13:43:28 -0700 (PDT) Message-ID: <682651f0.050a0220.265e0f.1f14SMTPIN_ADDED_MISSING@mx.google.com> Received: from [172.21.0.5] (unknown [172.18.0.240]) by postal.iol.unh.edu (Postfix) with ESMTP id 7FA396052471; Thu, 15 May 2025 16:43:27 -0400 (EDT) Subject: |SUCCESS| pw153459 [PATCH] [v3] build: automatically report minimum From: dpdklab@iol.unh.edu To: Test Report Cc: dpdk-test-reports@iol.unh.edu In-Reply-To: <20250515134647.932537-1-bruce.richardson@intel.com> References: <20250515134647.932537-1-bruce.richardson@intel.com> Content-Type: text/plain X-BeenThere: test-report@dpdk.org X-Mailman-Version: 2.1.29 Precedence: list List-Id: automatic DPDK test reports List-Unsubscribe: , List-Archive: List-Post: List-Help: List-Subscribe: , Errors-To: test-report-bounces@dpdk.org Test-Label: iol-unit-amd64-testing Test-Status: SUCCESS http://dpdk.org/patch/153459 _Testing PASS_ Submitter: Bruce Richardson Date: Thursday, May 15 2025 13:46:47 DPDK git baseline: Repo:dpdk Branch: master CommitID:4029c5e3f2c6e950e8579be2401dab12e4209d53 153459 --> testing pass Upstream job id: Generic-Unit-Test-DPDK#338107 Test environment and result as below: +-------------------+----------------+ | Environment | dpdk_unit_test | +===================+================+ | CentOS Stream 9 | PASS | +-------------------+----------------+ | Debian 12 | PASS | +-------------------+----------------+ | CentOS Stream 10 | PASS | +-------------------+----------------+ | Fedora 40 (Clang) | PASS | +-------------------+----------------+ | Fedora 40 | PASS | +-------------------+----------------+ | Fedora 41 (Clang) | PASS | +-------------------+----------------+ | Ubuntu 24.04 | PASS | +-------------------+----------------+ | RHEL9 | PASS | +-------------------+----------------+ | Ubuntu 20.04 | PASS | +-------------------+----------------+ | Fedora 41 | PASS | +-------------------+----------------+ | RHEL8 | PASS | +-------------------+----------------+ | Ubuntu 22.04 | PASS | +-------------------+----------------+ CentOS Stream 9 Kernel: Depends on container host Compiler: gcc 11.5.0 20240719 (Red Hat 11.5.0-2) Debian 12 Kernel: Depends on container host Compiler: gcc (Debian 12.2.0-14) 12.2.0 CentOS Stream 10 Kernel: Depends on container host Compiler: gcc 14.2.1 20241104 (Red Hat 14.2.1-6) Fedora 40 (Clang) Kernel: Depends on container host Compiler: clang 18.1.8 (Fedora 18.1.8-1.fc40) Fedora 40 Kernel: Depends on container host Compiler: gcc 14.2.1 20240912 (Red Hat 14.2.1-3) Fedora 41 (Clang) Kernel: Depends on container host Compiler: clang 19.1.5 (Fedora 19.1.5-1.fc41) Ubuntu 24.04 Kernel: Depends on container host Compiler: gcc (Ubuntu 13.3.0-6ubuntu2~24.04) 13.3.0 RHEL9 Kernel: Depends on container host Compiler: gcc 11.5.0 20240719 (Red Hat 11.5.0-2) Ubuntu 20.04 Kernel: Depends on container host Compiler: gcc (Ubuntu 9.4.0-1ubuntu1~20.04.2) 9.4.0 Fedora 41 Kernel: Depends on container host Compiler: gcc 14.2.1 20240912 (Red Hat 14.2.1-3) RHEL8 Kernel: Depends on container host Compiler: gcc 8.5.0 20210514 (Red Hat 8.5.0-22) Ubuntu 22.04 Kernel: Depends on container host Compiler: gcc (Ubuntu 11.4.0-1ubuntu1~22.04) 11.4.0 To view detailed results, visit: https://lab.dpdk.org/results/dashboard/patchsets/33182/ UNH-IOL DPDK Community Lab To manage your email subscriptions, visit: https://lab.dpdk.org/results/dashboard/preferences/subscriptions/