From mboxrd@z Thu Jan 1 00:00:00 1970 Return-Path: Received: from mails.dpdk.org (mails.dpdk.org [217.70.189.124]) by inbox.dpdk.org (Postfix) with ESMTP id 63B3A4675A for ; Thu, 15 May 2025 22:43:48 +0200 (CEST) Received: from mails.dpdk.org (localhost [127.0.0.1]) by mails.dpdk.org (Postfix) with ESMTP id 5F3C2410D0; Thu, 15 May 2025 22:43:48 +0200 (CEST) Received: from mail-pg1-f227.google.com (mail-pg1-f227.google.com [209.85.215.227]) by mails.dpdk.org (Postfix) with ESMTP id 11BD741060 for ; Thu, 15 May 2025 22:43:47 +0200 (CEST) Received: by mail-pg1-f227.google.com with SMTP id 41be03b00d2f7-b074d908e56so919323a12.2 for ; Thu, 15 May 2025 13:43:47 -0700 (PDT) DKIM-Signature: v=1; a=rsa-sha256; c=relaxed/relaxed; d=iol.unh.edu; s=unh-iol; t=1747341826; x=1747946626; darn=dpdk.org; h=references:in-reply-to:cc:to:from:subject:message-id:date:from:to :cc:subject:date:message-id:reply-to; bh=avVNaCxQm41PGZdB2ropb+zm8iDlWwJn6ZQ4v9nNA38=; b=Bfp4hTW7alboE2jaEUEgPkIj90r6w7QXGz/IjfMEH2NV9EVLD1D7F3U9gnV5Ks4nZY vn0xYOZTAOJs1LowqAuUKswyeFHUKskgKuWrDt3arNfM2RKTn2RdE6ltLfFTVlYHUXi5 JscdMJ5YJqa8xpUOGGxC7CT2Rg/4dojbEpg7c= X-Google-DKIM-Signature: v=1; a=rsa-sha256; c=relaxed/relaxed; d=1e100.net; s=20230601; t=1747341826; x=1747946626; h=references:in-reply-to:cc:to:from:subject:message-id:date :x-gm-message-state:from:to:cc:subject:date:message-id:reply-to; bh=avVNaCxQm41PGZdB2ropb+zm8iDlWwJn6ZQ4v9nNA38=; b=VLtAkraizAY6de20FDKI71u1FW/9PpHemPJj2ykgxrXrRlqICqUA57QYDZUJTMqTat +rCtbZEYLZVAjoT00pUJtLPATnQeYazL3Tw71gx7/E27vj8bafYtLwbqhIPKAKYkh7ls I/qH/2/wtpbbyJf64/qOPJ5Ro4gyWHOfS5r7OjteUTejtEqjUZu23jEOXrgZCS+4nenB RVD3aRVk/eJfg+Ht7RKKv1PerX6c723neCVYgr0ydnUN+9fC24bIT9gxxlE0kqhB33Gy mtELIwD0QGmsJU1GHeqOat+m71KpRhzEROrKXfa67CBlJQ6Bicp4xnBkbTUn4XWtGrs7 5aew== X-Gm-Message-State: AOJu0YztaoF0s/aiVDBE0IM1qQbCXU0fN4IovZcCDfoKbyibv2E3H9vg dH629jYiJc+i/o2lGDLQY/QDF1kSeJ360p6YnvPoU74QWkBHyEDdJcirLIsMDXZmF7Jv/IkQyVX ymJ1yGJjhu/jLmoz9q3CbcSBk5oPHpNCAHTdsYZIPEnSu X-Gm-Gg: ASbGncuqa298bEW4VdD55cEp/JOKvAhgWz2vbTGG+i6emRSmPD5xtA4DmQB6baVadjA uNFEGXjvc30uRQktg7Qzifu4WBpcTYtOAT/eeUYjb5lyIgt1kIr7to/lEUnJVhhKvl9CQ0Gg3j3 6Q2DGy4LVUoO9fKrW6zBjonZueXmhjx1pkQJgVCWphFtZYtuiX+hvV3I/FKwAuDrguHOQLhSlPo pZADxho7J6R+V13379/nre60TmvGNJ7CYAgwq5SCoQt8JAeGUOw+t5R4tRbIsg04BuRCQHGLc/+ hAXK3NeQBnmEIUtfnIu4w2a7YH6Ud6uXy9hjYqJ9QX8mv6c5Nj5n5GS/INM= X-Google-Smtp-Source: AGHT+IEpA0EDEtmF/eI0NTjZoq1YpPbf2SW7Y52fp/KJ15UTsoYOBNAUP3AHjY4fQoBCzRijW3MuozKXPjcE X-Received: by 2002:a17:903:230b:b0:224:93e:b5d7 with SMTP id d9443c01a7336-231d4526ad9mr11152625ad.34.1747341825736; Thu, 15 May 2025 13:43:45 -0700 (PDT) Received: from postal.iol.unh.edu (postal.iol.unh.edu. [132.177.123.84]) by smtp-relay.gmail.com with ESMTPS id d9443c01a7336-231d4ebcfc8sm204125ad.120.2025.05.15.13.43.45 (version=TLS1_2 cipher=ECDHE-ECDSA-AES128-GCM-SHA256 bits=128/128); Thu, 15 May 2025 13:43:45 -0700 (PDT) X-Relaying-Domain: iol.unh.edu Date: Thu, 15 May 2025 13:43:45 -0700 (PDT) Message-ID: <68265201.170a0220.1d2752.118bSMTPIN_ADDED_MISSING@mx.google.com> Received: from [172.21.0.5] (unknown [172.18.0.240]) by postal.iol.unh.edu (Postfix) with ESMTP id D9F9D6052471; Thu, 15 May 2025 16:43:44 -0400 (EDT) Subject: |SUCCESS| pw153459 [PATCH] [v3] build: automatically report minimum From: dpdklab@iol.unh.edu To: Test Report Cc: dpdk-test-reports@iol.unh.edu In-Reply-To: <20250515134647.932537-1-bruce.richardson@intel.com> References: <20250515134647.932537-1-bruce.richardson@intel.com> Content-Type: text/plain X-BeenThere: test-report@dpdk.org X-Mailman-Version: 2.1.29 Precedence: list List-Id: automatic DPDK test reports List-Unsubscribe: , List-Archive: List-Post: List-Help: List-Subscribe: , Errors-To: test-report-bounces@dpdk.org Test-Label: iol-unit-amd64-testing Test-Status: SUCCESS http://dpdk.org/patch/153459 _Testing PASS_ Submitter: Bruce Richardson Date: Thursday, May 15 2025 13:46:47 DPDK git baseline: Repo:dpdk Branch: master CommitID:4029c5e3f2c6e950e8579be2401dab12e4209d53 153459 --> testing pass Upstream job id: Generic-Unit-Test-DPDK#338112 Test environment and result as below: +-------------------+----------------+ | Environment | dpdk_unit_test | +===================+================+ | CentOS Stream 9 | PASS | +-------------------+----------------+ | Debian 12 | PASS | +-------------------+----------------+ | CentOS Stream 10 | PASS | +-------------------+----------------+ | Fedora 40 (Clang) | PASS | +-------------------+----------------+ | Fedora 40 | PASS | +-------------------+----------------+ | Fedora 41 (Clang) | PASS | +-------------------+----------------+ | Ubuntu 24.04 | PASS | +-------------------+----------------+ | RHEL9 | PASS | +-------------------+----------------+ | Ubuntu 20.04 | PASS | +-------------------+----------------+ | Fedora 41 | PASS | +-------------------+----------------+ | RHEL8 | PASS | +-------------------+----------------+ | Ubuntu 22.04 | PASS | +-------------------+----------------+ CentOS Stream 9 Kernel: Depends on container host Compiler: gcc 11.5.0 20240719 (Red Hat 11.5.0-2) Debian 12 Kernel: Depends on container host Compiler: gcc (Debian 12.2.0-14) 12.2.0 CentOS Stream 10 Kernel: Depends on container host Compiler: gcc 14.2.1 20241104 (Red Hat 14.2.1-6) Fedora 40 (Clang) Kernel: Depends on container host Compiler: clang 18.1.8 (Fedora 18.1.8-1.fc40) Fedora 40 Kernel: Depends on container host Compiler: gcc 14.2.1 20240912 (Red Hat 14.2.1-3) Fedora 41 (Clang) Kernel: Depends on container host Compiler: clang 19.1.5 (Fedora 19.1.5-1.fc41) Ubuntu 24.04 Kernel: Depends on container host Compiler: gcc (Ubuntu 13.3.0-6ubuntu2~24.04) 13.3.0 RHEL9 Kernel: Depends on container host Compiler: gcc 11.5.0 20240719 (Red Hat 11.5.0-2) Ubuntu 20.04 Kernel: Depends on container host Compiler: gcc (Ubuntu 9.4.0-1ubuntu1~20.04.2) 9.4.0 Fedora 41 Kernel: Depends on container host Compiler: gcc 14.2.1 20240912 (Red Hat 14.2.1-3) RHEL8 Kernel: Depends on container host Compiler: gcc 8.5.0 20210514 (Red Hat 8.5.0-22) Ubuntu 22.04 Kernel: Depends on container host Compiler: gcc (Ubuntu 11.4.0-1ubuntu1~22.04) 11.4.0 To view detailed results, visit: https://lab.dpdk.org/results/dashboard/patchsets/33182/ UNH-IOL DPDK Community Lab To manage your email subscriptions, visit: https://lab.dpdk.org/results/dashboard/preferences/subscriptions/