From mboxrd@z Thu Jan 1 00:00:00 1970 Return-Path: Received: from mails.dpdk.org (mails.dpdk.org [217.70.189.124]) by inbox.dpdk.org (Postfix) with ESMTP id BC20A4675A for ; Thu, 15 May 2025 22:45:56 +0200 (CEST) Received: from mails.dpdk.org (localhost [127.0.0.1]) by mails.dpdk.org (Postfix) with ESMTP id 94737410D0; Thu, 15 May 2025 22:45:56 +0200 (CEST) Received: from mail-io1-f100.google.com (mail-io1-f100.google.com [209.85.166.100]) by mails.dpdk.org (Postfix) with ESMTP id 57D8D41060 for ; Thu, 15 May 2025 22:45:55 +0200 (CEST) Received: by mail-io1-f100.google.com with SMTP id ca18e2360f4ac-86142446f3fso36844739f.2 for ; Thu, 15 May 2025 13:45:55 -0700 (PDT) DKIM-Signature: v=1; a=rsa-sha256; c=relaxed/relaxed; d=iol.unh.edu; s=unh-iol; t=1747341954; x=1747946754; darn=dpdk.org; h=references:in-reply-to:cc:to:from:subject:message-id:date:from:to :cc:subject:date:message-id:reply-to; bh=BdhAgG/WTIaYJACp9OVhOQRWxTnA4oJ7PI3LkIM465Q=; b=WseWS7qcGQCwIQY8s9miovZbtLbuWXSHpqEkUcUpLNlOwE29lI7mHNn3Me5Zv7Qeyi HLubVYjAnFROax6OUbmorGGpi1+WiClMEL5mi4yP9FefqKWL8sz7vc9h7IJnY38ghwLM NCbgOQoWg1S/HFp/2esveuMPH0GZUV7gwoheg= X-Google-DKIM-Signature: v=1; a=rsa-sha256; c=relaxed/relaxed; d=1e100.net; s=20230601; t=1747341954; x=1747946754; h=references:in-reply-to:cc:to:from:subject:message-id:date :x-gm-message-state:from:to:cc:subject:date:message-id:reply-to; bh=BdhAgG/WTIaYJACp9OVhOQRWxTnA4oJ7PI3LkIM465Q=; b=PkoLbovT+0sIcorGeD/XJNf9GqNHm4/9qSdAIDxlzcX4kJV0movLS49x+iDM8eVpYz QElqwlbuHamjLsSrLitvIdBL4eTZue4RTkhQDw4RgNjTTOlsTQAU0shQFmTzMq7z6Lb7 890YVrw1aqqf0Uo/7vZ5hRa0eq1IPaHnSzcH8s4oZ6iqKMipg+bmJNTaD7JyNZQeLAz8 e4yWqG4hcsFmCRshiSFfszWrkCRbAU9x+tvWUmP6bLWsfdde94f14RUsn8CrGVK/1IbU PYkhI79cQD+9ZAIxXyeo9/4ae8QmXNoPxF+LtWeklyUBI+IUnsXLttgFd8BQoDj+bACe 9dCQ== X-Gm-Message-State: AOJu0YyGJimaHTfFvE9ZQFYgypkGSZe1Ac+1E5I6ZgDUBUnx2Au9WJOC o3mZKlDl5nnlyj4d8iUm7ZqrC8DINklZ9D9PGS1Cw3tY2Th5zOxphtYOohYC4qzzU5vkEFGPtfQ CTdFrp2n3NlIY4AT7iRyNjAkPyTqRAkc/IoVbdSZ4LddG X-Gm-Gg: ASbGncvC4X+Cosrf8jVFKpopTfhDZr9nhFiB7AsLFGGOc5W9oi5qtf3ElXsLg70nKYl Wlw3lJBpvJ+2/JJObYbhyzelAN4WWYXjOXw05gx2Cim2o2i8UnWDozpYaPoIHKCX7GnDpc234/Y 5QIpL3+VoCuhMuHtDY3L4Sq4TzqOzRVNEkzz5+2lg2D79cymY3N8O+SJtWDx8AR2hpMuTM+5ZEV IaGQkurnUyxL3hNYJ4hi7cpUjjFD5mIDN6rcJLL2W9n/QuobLpfoEIMx65U8CZ4qAfZ3ASnQy9u JBJ4RNNHX27jEd+EJpqb51Dzh93e2oPOQHjKOLeCSJqi35rEG5pr2f8M6bs= X-Google-Smtp-Source: AGHT+IH7SgIM2o2RStrTDoaITomO1KAY5ZElrgZIzhyCtbhgixSTtWxhTeoeUG+FlzRt3aYtgEGfcrSPIQwM X-Received: by 2002:a92:ca4f:0:b0:3d8:18d4:7bce with SMTP id e9e14a558f8ab-3db842976a0mr19393635ab.2.1747341954257; Thu, 15 May 2025 13:45:54 -0700 (PDT) Received: from postal.iol.unh.edu (postal.iol.unh.edu. [132.177.123.84]) by smtp-relay.gmail.com with ESMTPS id e9e14a558f8ab-3db844b287fsm230455ab.66.2025.05.15.13.45.54 (version=TLS1_2 cipher=ECDHE-ECDSA-AES128-GCM-SHA256 bits=128/128); Thu, 15 May 2025 13:45:54 -0700 (PDT) X-Relaying-Domain: iol.unh.edu Date: Thu, 15 May 2025 13:45:54 -0700 (PDT) Message-ID: <68265282.920a0220.342a45.14c3SMTPIN_ADDED_MISSING@mx.google.com> Received: from [172.21.0.6] (unknown [172.18.0.240]) by postal.iol.unh.edu (Postfix) with ESMTP id C36E06052471; Thu, 15 May 2025 16:45:53 -0400 (EDT) Subject: |SUCCESS| pw153461-153462 [PATCH] [2/2] test/power_intel_uncore: ski From: dpdklab@iol.unh.edu To: Test Report Cc: dpdk-test-reports@iol.unh.edu In-Reply-To: <20250515165854.1087247-2-bruce.richardson@intel.com> References: <20250515165854.1087247-2-bruce.richardson@intel.com> Content-Type: text/plain X-BeenThere: test-report@dpdk.org X-Mailman-Version: 2.1.29 Precedence: list List-Id: automatic DPDK test reports List-Unsubscribe: , List-Archive: List-Post: List-Help: List-Subscribe: , Errors-To: test-report-bounces@dpdk.org Test-Label: iol-compile-amd64-testing Test-Status: SUCCESS http://dpdk.org/patch/153462 _Testing PASS_ Submitter: Bruce Richardson Date: Thursday, May 15 2025 16:58:54 DPDK git baseline: Repo:dpdk Branch: master CommitID:dcf9f9363aa9b4163d241caf8b26a84ca0c0006b 153461-153462 --> testing pass Upstream job id: Windows-Compile-DPDK-VS#5730 Test environment and result as below: +---------------------+--------------------+-------------------+ | Environment | dpdk_meson_compile | dpdk_msvc_compile | +=====================+====================+===================+ | Ubuntu 20.04 | PASS | SKIPPED | +---------------------+--------------------+-------------------+ | FreeBSD 13.5 | PASS | SKIPPED | +---------------------+--------------------+-------------------+ | FreeBSD 14.2 | PASS | SKIPPED | +---------------------+--------------------+-------------------+ | Windows Server 2022 | SKIPPED | PASS | +---------------------+--------------------+-------------------+ Ubuntu 20.04 Kernel: 4.19.325-0419325-generic Compiler: gcc (Ubuntu 9.4.0-1ubuntu1~20.04.2) 9.4.0 FreeBSD 13.5 Kernel: 13.5-RELEASE Compiler: clang 19.1.7 FreeBSD 14.2 Kernel: 14.2-RELEASE Compiler: clang 18.1.6 Windows Server 2022 Kernel: 10.0.20348.2031 Compiler: clang 15.0.7, gcc 14.1.0 (MinGW), and MSVC VS 19.39.33521 To view detailed results, visit: https://lab.dpdk.org/results/dashboard/patchsets/33184/ UNH-IOL DPDK Community Lab To manage your email subscriptions, visit: https://lab.dpdk.org/results/dashboard/preferences/subscriptions/