From mboxrd@z Thu Jan 1 00:00:00 1970 Return-Path: Received: from mails.dpdk.org (mails.dpdk.org [217.70.189.124]) by inbox.dpdk.org (Postfix) with ESMTP id BEDA54675A for ; Thu, 15 May 2025 22:58:45 +0200 (CEST) Received: from mails.dpdk.org (localhost [127.0.0.1]) by mails.dpdk.org (Postfix) with ESMTP id B9485410D0; Thu, 15 May 2025 22:58:45 +0200 (CEST) Received: from mail-pl1-f226.google.com (mail-pl1-f226.google.com [209.85.214.226]) by mails.dpdk.org (Postfix) with ESMTP id 4400D41060 for ; Thu, 15 May 2025 22:58:45 +0200 (CEST) Received: by mail-pl1-f226.google.com with SMTP id d9443c01a7336-22fbbf9c01bso12113285ad.3 for ; Thu, 15 May 2025 13:58:45 -0700 (PDT) DKIM-Signature: v=1; a=rsa-sha256; c=relaxed/relaxed; d=iol.unh.edu; s=unh-iol; t=1747342724; x=1747947524; darn=dpdk.org; h=references:in-reply-to:cc:to:from:subject:message-id:date:from:to :cc:subject:date:message-id:reply-to; bh=jSFSMjsAhRLMhTsxkPRQataBegsMZ0im9yXyubML8aA=; b=M3h9KaCIbWR5eq8E/XXZ53DBTCYvvOSFYPgYk51ODI7vw/kvqMfF5fqo8PX1f1gc3p OkMzdM36Kf+tYgq2/3UyE7JXe7b1yZ49zuGWRrlRfS/Az0XdbUDNSAs1gVe99xi7N0C2 97sKX3w+EgX0C6Qo+YA1TErs20958kpw2wrAc= X-Google-DKIM-Signature: v=1; a=rsa-sha256; c=relaxed/relaxed; d=1e100.net; s=20230601; t=1747342724; x=1747947524; h=references:in-reply-to:cc:to:from:subject:message-id:date :x-gm-message-state:from:to:cc:subject:date:message-id:reply-to; bh=jSFSMjsAhRLMhTsxkPRQataBegsMZ0im9yXyubML8aA=; b=qVyqbwLr92yGoKAjipP9KDVDjInHH+r3bMDgBWWlndSNfrXKDfAIe8rCOqVD3DV0Br PK2z5jnQZ55sPvuKUCo2DraoNPeV6rfaddJ6hGpyWIHt33O7YkxuqmfIsRK/sgP/P71a SiXz1vcxXje5X7BvrbDZz4M11Ck3X6nlpHiMkqDrJf2VjARO8AUjEsA9w6sYevDYXddB bJD2MBmPmyqgFoABz9JYAzOSzBwWn8VdvhsSwgQX9ntNYdyCxqb5A7IpeAIJ1tY51AMw mBCUPqCbXWa/udm+2mtztjoNc9CXHiZUke8IugH2q82n9d+HrT/3+yHdwQWi6KU3pPgr tZfQ== X-Gm-Message-State: AOJu0YylcSCW3GAkHKvDYDIF+2ew3xsM/sVUm+K4l9s9lqtk1jV7KK10 9OPtZ4rz5JZP73mmunjBUh1V1T9zsQHmToP1avmKfgR0AabyFbycef1AW9lqtJPuc+HUc8yaj4U 1psIJX/oSHwVQWSgUiebbPWaw7azULGdjR3En3N5fxit1op9VzNONPTgcCrBs X-Gm-Gg: ASbGncsJSK/M75NrulQHbbcF/l8AI0gcwe/GFVYqc8klY6Nu+fJB8s5mylViR30O8z6 4pXrfvZi+wXEpB55n7olXZCYW6XOpsCejqBatRT7eTpbfR5cLDDn+8dJy9rLm0B18RkEAPHlceR xScu3JXQPniTo0sqDXuTivdiisz2MP3ppZsRA3JGVP4/uDqETJqAPtVQpiWis7geUCKU35zViWO 3HQYTH6icN7ZX43rNniE6VVrJn1IsspZ7sCzEh7imEC0FLlHtz2QXMDjRSxOlcm2Av8O0eSPt/4 7ZMofesyLwkkL94w5y/ZVcpwk6rY90Ey80sl X-Google-Smtp-Source: AGHT+IHTbFXZJN4OJm+udmtQ17JgCpqWhG5RBljNm31Ifr1FSVAyKvj1ouOVipMASma5cOmYnRfQWNkl6IWZ X-Received: by 2002:a17:903:1a68:b0:216:393b:23d4 with SMTP id d9443c01a7336-231d43d9bd7mr10734695ad.11.1747342724420; Thu, 15 May 2025 13:58:44 -0700 (PDT) Received: from postal.iol.unh.edu (postal.iol.unh.edu. [2606:4100:3880:1234::84]) by smtp-relay.gmail.com with ESMTPS id d9443c01a7336-231d4ebbbf9sm224095ad.119.2025.05.15.13.58.44 (version=TLS1_2 cipher=ECDHE-ECDSA-AES128-GCM-SHA256 bits=128/128); Thu, 15 May 2025 13:58:44 -0700 (PDT) X-Relaying-Domain: iol.unh.edu Date: Thu, 15 May 2025 13:58:44 -0700 (PDT) Message-ID: <68265584.170a0220.ba8e5.14caSMTPIN_ADDED_MISSING@mx.google.com> Received: from [172.21.0.6] (unknown [172.18.0.240]) by postal.iol.unh.edu (Postfix) with ESMTP id D3C5A6052471; Thu, 15 May 2025 16:58:43 -0400 (EDT) Subject: |SUCCESS| pw153460 [PATCH] [RFC] dts: add rte flow test suite From: dpdklab@iol.unh.edu To: Test Report Cc: dpdk-test-reports@iol.unh.edu In-Reply-To: <20250515163809.184720-2-dmarx@iol.unh.edu> References: <20250515163809.184720-2-dmarx@iol.unh.edu> Content-Type: text/plain X-BeenThere: test-report@dpdk.org X-Mailman-Version: 2.1.29 Precedence: list List-Id: automatic DPDK test reports List-Unsubscribe: , List-Archive: List-Post: List-Help: List-Subscribe: , Errors-To: test-report-bounces@dpdk.org Test-Label: iol-compile-amd64-testing Test-Status: SUCCESS http://dpdk.org/patch/153460 _Testing PASS_ Submitter: Dean Marx Date: Thursday, May 15 2025 16:38:09 DPDK git baseline: Repo:dpdk Branch: master CommitID:1aef42bc97a31906486c9d66b792208948af06f3 153460 --> testing pass Upstream job id: Windows-Compile-DPDK-VS#5731 Test environment and result as below: +---------------------+--------------------+-------------------+ | Environment | dpdk_meson_compile | dpdk_msvc_compile | +=====================+====================+===================+ | Ubuntu 20.04 | PASS | SKIPPED | +---------------------+--------------------+-------------------+ | FreeBSD 13.5 | PASS | SKIPPED | +---------------------+--------------------+-------------------+ | FreeBSD 14.2 | PASS | SKIPPED | +---------------------+--------------------+-------------------+ | Windows Server 2022 | SKIPPED | PASS | +---------------------+--------------------+-------------------+ Ubuntu 20.04 Kernel: 4.19.325-0419325-generic Compiler: gcc (Ubuntu 9.4.0-1ubuntu1~20.04.2) 9.4.0 FreeBSD 13.5 Kernel: 13.5-RELEASE Compiler: clang 19.1.7 FreeBSD 14.2 Kernel: 14.2-RELEASE Compiler: clang 18.1.6 Windows Server 2022 Kernel: 10.0.20348.2031 Compiler: clang 15.0.7, gcc 14.1.0 (MinGW), and MSVC VS 19.39.33521 To view detailed results, visit: https://lab.dpdk.org/results/dashboard/patchsets/33183/ UNH-IOL DPDK Community Lab To manage your email subscriptions, visit: https://lab.dpdk.org/results/dashboard/preferences/subscriptions/