From mboxrd@z Thu Jan 1 00:00:00 1970 Return-Path: Received: from mails.dpdk.org (mails.dpdk.org [217.70.189.124]) by inbox.dpdk.org (Postfix) with ESMTP id A464F4675A for ; Thu, 15 May 2025 23:05:38 +0200 (CEST) Received: from mails.dpdk.org (localhost [127.0.0.1]) by mails.dpdk.org (Postfix) with ESMTP id 9EEFA410D0; Thu, 15 May 2025 23:05:38 +0200 (CEST) Received: from mail-vs1-f99.google.com (mail-vs1-f99.google.com [209.85.217.99]) by mails.dpdk.org (Postfix) with ESMTP id 9D9BC41060 for ; Thu, 15 May 2025 23:05:37 +0200 (CEST) Received: by mail-vs1-f99.google.com with SMTP id ada2fe7eead31-4c4e1f16833so435381137.0 for ; Thu, 15 May 2025 14:05:37 -0700 (PDT) DKIM-Signature: v=1; a=rsa-sha256; c=relaxed/relaxed; d=iol.unh.edu; s=unh-iol; t=1747343137; x=1747947937; darn=dpdk.org; h=references:in-reply-to:cc:to:from:subject:message-id:date:from:to :cc:subject:date:message-id:reply-to; bh=0a/+J3KrQabCUKfM7IeZ6RopNyYO9YJRL/2kYkwV0KE=; b=aG0U8htfwCdVwe8tQWl5egYDt6ZFYsux235RMs9KztW/cPBDVx7MwP7oSXG8YfzqWd V47SpOHO33tm53OO4lEusBO9WexVKbaP/ZV2+WohpI7rZwk7R+7uPFMFkF4RmRcZzaeA ElKAR2g5brqNZmZBeCcyXxk03vtCYxMHOj1D8= X-Google-DKIM-Signature: v=1; a=rsa-sha256; c=relaxed/relaxed; d=1e100.net; s=20230601; t=1747343137; x=1747947937; h=references:in-reply-to:cc:to:from:subject:message-id:date :x-gm-message-state:from:to:cc:subject:date:message-id:reply-to; bh=0a/+J3KrQabCUKfM7IeZ6RopNyYO9YJRL/2kYkwV0KE=; b=Cu18qWcBmmgq+7eT0UDiL2BOmYjF5KPDdrV9Hy6Xo5Nr38zjUIobIB0uLSGU3HUtLb e5kMMre0UqX+wPvFfOt20YnCnWE9asGXhHjUK2p8H3Xt+c4HUZWE4WVr7CJK5zOUNqAR Huig13c3jFK0sfmlYPmnzR940iq5aIinZ7U1iUbWb71HkHoKPbE5mCJQy2HrivqWkojb NiwKvup88oWUfmEtlEow1mjvShjVr3FrcQFax9gOA21A2kKGzM+4OJ7qcOp0PGJjL/Fy aKXyeYJyEiQzwT3Ez0asdKO11ud0YYb0rxL1T/H+aETLj1reMxmKvaZQaQrU/tI8NUNX lmgg== X-Gm-Message-State: AOJu0Yzkl0/4Z7h2jnprmoR5wdOuFZcVbISyMAqvkshGymLM7r396hn5 hJpikwRB8wNFYV9nVrbT31j52nJK4rz4FTmLQf7yZxl9+D8jCSj1LuqvfddvAzfDMN2KsTMxapH xgZgYR1LFdP4MMMw/p3kYn5f/c4mR5Fgm6GCgisjRnwWVCuVe9gI4SL+NEgwz X-Gm-Gg: ASbGncue8Q4djM7jy90dBYBxnyjHMAwGo0ouAt+PNwGqUyDOtVMWMJpAYuVXQnb2MbC sargPjKUYJaU7aCxxqrK/myXKMcC+xttXnMe5AB4lSWKEmgDH0dj57qMrJxBD3xd9WXXYRbykgg sDtHe81wtKjXSID1YTf/RPa+KI4jlO1Xmea6bbKzYTpWEV/PSUvRZfGx/07EQN5CWcC8BSMinK4 wDvY9BGslUAf3ZbIWqkK7JJxsY7AaA3lB42HdC1WYoCqm+VjzFs/JiZwsnCK+KiiUmw+j7e6+dQ vUH7zZiJUuuZIWSDZEnYx5Carwy5T0FA5mVD X-Google-Smtp-Source: AGHT+IFO2XWd6fNbtI/zYMSoVMHTK9FSpwlPbCjHPZrjAvdjaAj0TzOX+sUMFZcTYz//Ack2yIaoxVu1OLsM X-Received: by 2002:a05:6102:5795:b0:4df:9c56:955c with SMTP id ada2fe7eead31-4dfa6bba275mr2210043137.14.1747343136990; Thu, 15 May 2025 14:05:36 -0700 (PDT) Received: from postal.iol.unh.edu (postal.iol.unh.edu. [2606:4100:3880:1234::84]) by smtp-relay.gmail.com with ESMTPS id ada2fe7eead31-4dfa67a6cddsm36243137.3.2025.05.15.14.05.36 (version=TLS1_2 cipher=ECDHE-ECDSA-AES128-GCM-SHA256 bits=128/128); Thu, 15 May 2025 14:05:36 -0700 (PDT) X-Relaying-Domain: iol.unh.edu Date: Thu, 15 May 2025 14:05:36 -0700 (PDT) Message-ID: <68265720.050a0220.50618.1d6bSMTPIN_ADDED_MISSING@mx.google.com> Received: from [172.21.0.5] (unknown [172.18.0.240]) by postal.iol.unh.edu (Postfix) with ESMTP id 8A0D76052471; Thu, 15 May 2025 17:05:36 -0400 (EDT) Subject: |SUCCESS| pw153429-153431 [PATCH] [v4,3/3] doc: provide examples of From: dpdklab@iol.unh.edu To: Test Report Cc: dpdk-test-reports@iol.unh.edu In-Reply-To: <20250513161710.410000-4-bruce.richardson@intel.com> References: <20250513161710.410000-4-bruce.richardson@intel.com> Content-Type: text/plain X-BeenThere: test-report@dpdk.org X-Mailman-Version: 2.1.29 Precedence: list List-Id: automatic DPDK test reports List-Unsubscribe: , List-Archive: List-Post: List-Help: List-Subscribe: , Errors-To: test-report-bounces@dpdk.org Test-Label: iol-unit-amd64-testing Test-Status: SUCCESS http://dpdk.org/patch/153431 _Testing PASS RETEST #1_ Submitter: Bruce Richardson Date: Tuesday, May 13 2025 16:17:10 DPDK git baseline: Repo:dpdk Branch: master CommitID:2bf836de46d36a81f9321f947fbfce52b3180782 153429-153431 --> testing pass Upstream job id: Generic-VM-Unit-Test-DPDK#28542 Test environment and result as below: +---------------------+----------------+ | Environment | dpdk_unit_test | +=====================+================+ | CentOS Stream 9 | PASS | +---------------------+----------------+ | CentOS Stream 10 | PASS | +---------------------+----------------+ | Debian 12 | PASS | +---------------------+----------------+ | Fedora 41 | PASS | +---------------------+----------------+ | Fedora 41 (Clang) | PASS | +---------------------+----------------+ | Fedora 40 | PASS | +---------------------+----------------+ | Fedora 40 (Clang) | PASS | +---------------------+----------------+ | RHEL8 | PASS | +---------------------+----------------+ | Ubuntu 20.04 | PASS | +---------------------+----------------+ | RHEL9 | PASS | +---------------------+----------------+ | Ubuntu 24.04 | PASS | +---------------------+----------------+ | Ubuntu 22.04 | PASS | +---------------------+----------------+ | Windows Server 2022 | PASS | +---------------------+----------------+ CentOS Stream 9 Kernel: Depends on container host Compiler: gcc 11.5.0 20240719 (Red Hat 11.5.0-2) CentOS Stream 10 Kernel: Depends on container host Compiler: gcc 14.2.1 20241104 (Red Hat 14.2.1-6) Debian 12 Kernel: Depends on container host Compiler: gcc (Debian 12.2.0-14) 12.2.0 Fedora 41 Kernel: Depends on container host Compiler: gcc 14.2.1 20240912 (Red Hat 14.2.1-3) Fedora 41 (Clang) Kernel: Depends on container host Compiler: clang 19.1.5 (Fedora 19.1.5-1.fc41) Fedora 40 Kernel: Depends on container host Compiler: gcc 14.2.1 20240912 (Red Hat 14.2.1-3) Fedora 40 (Clang) Kernel: Depends on container host Compiler: clang 18.1.8 (Fedora 18.1.8-1.fc40) RHEL8 Kernel: Depends on container host Compiler: gcc 8.5.0 20210514 (Red Hat 8.5.0-22) Ubuntu 20.04 Kernel: Depends on container host Compiler: gcc (Ubuntu 9.4.0-1ubuntu1~20.04.2) 9.4.0 RHEL9 Kernel: Depends on container host Compiler: gcc 11.5.0 20240719 (Red Hat 11.5.0-2) Ubuntu 24.04 Kernel: Depends on container host Compiler: gcc (Ubuntu 13.3.0-6ubuntu2~24.04) 13.3.0 Ubuntu 22.04 Kernel: Depends on container host Compiler: gcc (Ubuntu 11.4.0-1ubuntu1~22.04) 11.4.0 Windows Server 2022 Kernel: 10.0.20348.2031 Compiler: clang 15.0.7, gcc 14.1.0 (MinGW), and MSVC VS 19.39.33521 To view detailed results, visit: https://lab.dpdk.org/results/dashboard/patchsets/33164/ UNH-IOL DPDK Community Lab To manage your email subscriptions, visit: https://lab.dpdk.org/results/dashboard/preferences/subscriptions/