From mboxrd@z Thu Jan 1 00:00:00 1970 Return-Path: Received: from mails.dpdk.org (mails.dpdk.org [217.70.189.124]) by inbox.dpdk.org (Postfix) with ESMTP id CE0D34675A for ; Thu, 15 May 2025 23:06:47 +0200 (CEST) Received: from mails.dpdk.org (localhost [127.0.0.1]) by mails.dpdk.org (Postfix) with ESMTP id C5D5A410D0; Thu, 15 May 2025 23:06:47 +0200 (CEST) Received: from mail-ot1-f99.google.com (mail-ot1-f99.google.com [209.85.210.99]) by mails.dpdk.org (Postfix) with ESMTP id 0ECDA41060 for ; Thu, 15 May 2025 23:06:47 +0200 (CEST) Received: by mail-ot1-f99.google.com with SMTP id 46e09a7af769-72bceb93f2fso1718657a34.0 for ; Thu, 15 May 2025 14:06:46 -0700 (PDT) DKIM-Signature: v=1; a=rsa-sha256; c=relaxed/relaxed; d=iol.unh.edu; s=unh-iol; t=1747343206; x=1747948006; darn=dpdk.org; h=references:in-reply-to:cc:to:from:subject:message-id:date:from:to :cc:subject:date:message-id:reply-to; bh=0b/artlB6Id7n0ckeEZci/TiyWAcMnXl/0yZR59Cwr8=; b=gzoM3uVZ6qesfF9id+Nyv2YyW+2UHZwNu06jECHgQiQs9KHsfjEKt+8dDBE03hN+OL YCxFoobRDPN9qgsVP4RZ0leG9yLhqQDfkgFjQSbu76vxkrLPOXkwppVeHaD5IeTJJHN3 x1+D4IhNjFKHSSpKkriIW7mbCi5asCsI8cdmk= X-Google-DKIM-Signature: v=1; a=rsa-sha256; c=relaxed/relaxed; d=1e100.net; s=20230601; t=1747343206; x=1747948006; h=references:in-reply-to:cc:to:from:subject:message-id:date :x-gm-message-state:from:to:cc:subject:date:message-id:reply-to; bh=0b/artlB6Id7n0ckeEZci/TiyWAcMnXl/0yZR59Cwr8=; b=kshoyCc0hrLFpPG18w1kyxayXjK/mRtpKUjyghJh1cFP0pfx3ZRjkq3sth5DQ5I0Sn SQyAiprnCPZF6VmEzhNBacS9TeMa5PrpSBVHXyLbWqpps8fdJjZJN96CzVmAuOno2nrw GskYo82VabDvqbsK06RXxEsUsRu+racIvVrR2pdtaMl6YbuodTOiK4E5DR2shUhgVFs7 vxm9uFgmscsYSKCwdA3MsOYSUx633O2qu6v8bxxbIinm2TdsvWggXzi+eyNLTy+ee0q5 vCr7gJzQ0ea0pF1o/fZvCD6M2tS2O1hARlcdjSZf55aTAIkbFhadrbKzow3fbyvpEKmu JlHA== X-Gm-Message-State: AOJu0YxYTxHDNS/hfjjVaFf9Z0KbwWqXBZ81g3lxqIavCTMRME9edYwQ hPugdfwZOhJ0rdoWus694sYYt1SV1vpdByTfAijw0vevmmNQxJ4kJR+M/OFDm8Gl5Mossv+A24q hIpT4TWieKiETktQOExlD8LD7V7048oxiTFMALAiozl6JQty/8Zs2P3A8Ov2p X-Gm-Gg: ASbGncsuVmCmcsYtxRzGnfLUcgc0HXYW/z9b2StgLiwE3XmEgXiMP+mPmkcbtGnPrQw 5P4qRf0CbkRwm7u8rQt2eELIzxDVgWkcM/9o+0btwHP9iSXinPaELJVV7eCyjWBLOGrkGxW/RZX pQFaDeVuV3/0CGUFf+syrInxc8A6y5CPJuoLIaDM/UlL0Bv3wx7ExqP4cX+SYKmnrolfU3xmIap fDRwn1max4t8xT9y7A9VOnQOgYP3MSFuJmBY8UkNsH7+Am5Ai4wRBQU4lwoANVAmw7vqQfDzt1U nyXK5luq/R4y/dqNE0IR0EcWYRpZzyx7xIuP X-Google-Smtp-Source: AGHT+IEO9NmVM3vD8IUhrvC6JweFIXSYWL045hgsqczAbI3BfSvmXc7mvri9ZFhpB2feZl6d2d2LdQXKL5M1 X-Received: by 2002:a05:6871:3a91:b0:2d8:5015:1a8d with SMTP id 586e51a60fabf-2e39bd18be6mr2997496fac.11.1747343206229; Thu, 15 May 2025 14:06:46 -0700 (PDT) Received: from postal.iol.unh.edu (postal.iol.unh.edu. [2606:4100:3880:1234::84]) by smtp-relay.gmail.com with ESMTPS id 586e51a60fabf-2e3c06b0b20sm32193fac.10.2025.05.15.14.06.46 (version=TLS1_2 cipher=ECDHE-ECDSA-AES128-GCM-SHA256 bits=128/128); Thu, 15 May 2025 14:06:46 -0700 (PDT) X-Relaying-Domain: iol.unh.edu Date: Thu, 15 May 2025 14:06:46 -0700 (PDT) Message-ID: <68265766.050a0220.102c6.1c20SMTPIN_ADDED_MISSING@mx.google.com> Received: from [172.21.0.5] (unknown [172.18.0.240]) by postal.iol.unh.edu (Postfix) with ESMTP id A3FE46052471; Thu, 15 May 2025 17:06:45 -0400 (EDT) Subject: |WARNING| pw153444 [PATCH] crypto/virtio: check for invalid IOVA add From: dpdklab@iol.unh.edu To: Test Report Cc: dpdk-test-reports@iol.unh.edu In-Reply-To: <20250515080313.1612-1-gmuthukrishn@marvell.com> References: <20250515080313.1612-1-gmuthukrishn@marvell.com> Content-Type: text/plain X-BeenThere: test-report@dpdk.org X-Mailman-Version: 2.1.29 Precedence: list List-Id: automatic DPDK test reports List-Unsubscribe: , List-Archive: List-Post: List-Help: List-Subscribe: , Errors-To: test-report-bounces@dpdk.org Test-Label: iol-compile-amd64-testing Test-Status: WARNING http://dpdk.org/patch/153444 _Testing issues_ Submitter: Gowrishankar Muthukrishnan Date: Thursday, May 15 2025 08:03:10 DPDK git baseline: Repo:dpdk Branch: master CommitID:dcf9f9363aa9b4163d241caf8b26a84ca0c0006b 153444 --> testing issues Upstream job id: Generic-DPDK-Compile-Meson#388250 Test environment and result as below: +-----------------------------------+--------------------+-------------------+------------------+-------------------+-------------------------+----------------------+ | Environment | dpdk_meson_compile | dpdk_compile_spdk | dpdk_compile_ovs | dpdk_msvc_compile | dpdk_llvm_clang_compile | dpdk_mingw64_compile | +===================================+====================+===================+==================+===================+=========================+======================+ | CentOS Stream 9 | PASS | PASS | SKIPPED | SKIPPED | SKIPPED | SKIPPED | +-----------------------------------+--------------------+-------------------+------------------+-------------------+-------------------------+----------------------+ | CentOS Stream 10 | PASS | SKIPPED | SKIPPED | SKIPPED | SKIPPED | SKIPPED | +-----------------------------------+--------------------+-------------------+------------------+-------------------+-------------------------+----------------------+ | Debian 12 | PASS | PASS | SKIPPED | SKIPPED | SKIPPED | SKIPPED | +-----------------------------------+--------------------+-------------------+------------------+-------------------+-------------------------+----------------------+ | Fedora 40 (Clang) | PASS | WARN | SKIPPED | SKIPPED | SKIPPED | SKIPPED | +-----------------------------------+--------------------+-------------------+------------------+-------------------+-------------------------+----------------------+ | Fedora 40 | PASS | PASS | SKIPPED | SKIPPED | SKIPPED | SKIPPED | +-----------------------------------+--------------------+-------------------+------------------+-------------------+-------------------------+----------------------+ | Fedora 41 (Clang) | PASS | WARN | PASS | SKIPPED | SKIPPED | SKIPPED | +-----------------------------------+--------------------+-------------------+------------------+-------------------+-------------------------+----------------------+ | RHEL8 | PASS | SKIPPED | SKIPPED | SKIPPED | SKIPPED | SKIPPED | +-----------------------------------+--------------------+-------------------+------------------+-------------------+-------------------------+----------------------+ | Fedora 41 | PASS | PASS | PASS | SKIPPED | SKIPPED | SKIPPED | +-----------------------------------+--------------------+-------------------+------------------+-------------------+-------------------------+----------------------+ | RHEL9 | PASS | SKIPPED | SKIPPED | SKIPPED | SKIPPED | SKIPPED | +-----------------------------------+--------------------+-------------------+------------------+-------------------+-------------------------+----------------------+ | Ubuntu 22.04 | PASS | PASS | SKIPPED | SKIPPED | SKIPPED | SKIPPED | +-----------------------------------+--------------------+-------------------+------------------+-------------------+-------------------------+----------------------+ | Ubuntu 20.04 | PASS | SKIPPED | SKIPPED | SKIPPED | SKIPPED | SKIPPED | +-----------------------------------+--------------------+-------------------+------------------+-------------------+-------------------------+----------------------+ | openSUSE Leap 15 | PASS | SKIPPED | SKIPPED | SKIPPED | SKIPPED | SKIPPED | +-----------------------------------+--------------------+-------------------+------------------+-------------------+-------------------------+----------------------+ | Ubuntu 24.04 | PASS | PASS | PASS | SKIPPED | SKIPPED | SKIPPED | +-----------------------------------+--------------------+-------------------+------------------+-------------------+-------------------------+----------------------+ | Ubuntu 24.04 32 Bit Cross Compile | PASS | SKIPPED | SKIPPED | SKIPPED | SKIPPED | SKIPPED | +-----------------------------------+--------------------+-------------------+------------------+-------------------+-------------------------+----------------------+ | FreeBSD 13.5 | PASS | SKIPPED | SKIPPED | SKIPPED | SKIPPED | SKIPPED | +-----------------------------------+--------------------+-------------------+------------------+-------------------+-------------------------+----------------------+ | FreeBSD 14.2 | PASS | SKIPPED | SKIPPED | SKIPPED | SKIPPED | SKIPPED | +-----------------------------------+--------------------+-------------------+------------------+-------------------+-------------------------+----------------------+ | Alpine | PASS | SKIPPED | SKIPPED | SKIPPED | SKIPPED | SKIPPED | +-----------------------------------+--------------------+-------------------+------------------+-------------------+-------------------------+----------------------+ | Windows Server 2022 | SKIPPED | SKIPPED | SKIPPED | PASS | PASS | PASS | +-----------------------------------+--------------------+-------------------+------------------+-------------------+-------------------------+----------------------+ ==== 20 line log output for Fedora 41 (Clang) (dpdk_compile_spdk): ==== --- Failed to get log output --- ==== End log output ==== CentOS Stream 9 Kernel: Depends on container host Compiler: gcc 11.5.0 20240719 (Red Hat 11.5.0-2) CentOS Stream 10 Kernel: Depends on container host Compiler: gcc 14.2.1 20241104 (Red Hat 14.2.1-6) Debian 12 Kernel: Depends on container host Compiler: gcc (Debian 12.2.0-14) 12.2.0 Fedora 40 (Clang) Kernel: Depends on container host Compiler: clang 18.1.8 (Fedora 18.1.8-1.fc40) Fedora 40 Kernel: Depends on container host Compiler: gcc 14.2.1 20240912 (Red Hat 14.2.1-3) Fedora 41 (Clang) Kernel: Depends on container host Compiler: clang 19.1.5 (Fedora 19.1.5-1.fc41) RHEL8 Kernel: Depends on container host Compiler: gcc 8.5.0 20210514 (Red Hat 8.5.0-22) Fedora 41 Kernel: Depends on container host Compiler: gcc 14.2.1 20240912 (Red Hat 14.2.1-3) RHEL9 Kernel: Depends on container host Compiler: gcc 11.5.0 20240719 (Red Hat 11.5.0-2) Ubuntu 22.04 Kernel: Depends on container host Compiler: gcc (Ubuntu 11.4.0-1ubuntu1~22.04) 11.4.0 Ubuntu 20.04 Kernel: Depends on container host Compiler: gcc (Ubuntu 9.4.0-1ubuntu1~20.04.2) 9.4.0 openSUSE Leap 15 Kernel: Depends on container host Compiler: gcc (SUSE Linux) 7.5.0 Ubuntu 24.04 Kernel: Depends on container host Compiler: gcc (Ubuntu 13.3.0-6ubuntu2~24.04) 13.3.0 Ubuntu 24.04 32 Bit Cross Compile Kernel: Depends on container host Compiler: gcc (Ubuntu 13.3.0-6ubuntu2~24.04) 13.3.0 FreeBSD 13.5 Kernel: 13.5-RELEASE Compiler: clang 19.1.7 FreeBSD 14.2 Kernel: 14.2-RELEASE Compiler: clang 18.1.6 Alpine Kernel: Depends on container host Compiler: gcc (Alpine 14.2.0) 14.2.0 Windows Server 2022 Kernel: 10.0.20348.2031 Compiler: clang 15.0.7, gcc 14.1.0 (MinGW), and MSVC VS 19.39.33521 To view detailed results, visit: https://lab.dpdk.org/results/dashboard/patchsets/33175/ UNH-IOL DPDK Community Lab To manage your email subscriptions, visit: https://lab.dpdk.org/results/dashboard/preferences/subscriptions/