From mboxrd@z Thu Jan 1 00:00:00 1970 Return-Path: Received: from mails.dpdk.org (mails.dpdk.org [217.70.189.124]) by inbox.dpdk.org (Postfix) with ESMTP id 38C674675A for ; Thu, 15 May 2025 23:10:36 +0200 (CEST) Received: from mails.dpdk.org (localhost [127.0.0.1]) by mails.dpdk.org (Postfix) with ESMTP id 3268A410D0; Thu, 15 May 2025 23:10:36 +0200 (CEST) Received: from mail-yw1-f228.google.com (mail-yw1-f228.google.com [209.85.128.228]) by mails.dpdk.org (Postfix) with ESMTP id 0FA5241060 for ; Thu, 15 May 2025 23:10:35 +0200 (CEST) Received: by mail-yw1-f228.google.com with SMTP id 00721157ae682-6ff4faf858cso9750127b3.2 for ; Thu, 15 May 2025 14:10:35 -0700 (PDT) DKIM-Signature: v=1; a=rsa-sha256; c=relaxed/relaxed; d=iol.unh.edu; s=unh-iol; t=1747343434; x=1747948234; darn=dpdk.org; h=references:in-reply-to:cc:to:from:subject:message-id:date:from:to :cc:subject:date:message-id:reply-to; bh=j3FjsjsPjAB422VGZ5h9wfe3+xwAywTZSHfB8Naz6Zw=; b=bguG6Z99IeI4U+0zldOqTLSGZNINpZqJeqqRBhttaqGY04ARcpXzmt0//DyvMLjLbS xzJOVcalWfg2FKJZ9ZWIA+JZBpBkSWQ4Z6dZiDwGfYSDHbn4w146+5xo5ucr30nWLLaK XT6LtiLF2UYFYrzASNPZJkmC8ti8J2lsfw8JA= X-Google-DKIM-Signature: v=1; a=rsa-sha256; c=relaxed/relaxed; d=1e100.net; s=20230601; t=1747343434; x=1747948234; h=references:in-reply-to:cc:to:from:subject:message-id:date :x-gm-message-state:from:to:cc:subject:date:message-id:reply-to; bh=j3FjsjsPjAB422VGZ5h9wfe3+xwAywTZSHfB8Naz6Zw=; b=W8k9Z5Xqw70T5MedZC7vNeJE7d2/C2vrwkJNmmKa0gLSWc75ijuf84Teq8BG0vW3ja unPgA6t3Sp2ZXtW8j0mZAIaIJGO6W65V2upYc7s7/gnkePZmwFTXHN/v5YldcxDMhimk 8R6bH4SvbV1pKyl9HP2FjGiVKckBYB94bhTnFFUCVcBP3MEzViSqH0+5v8Tnddz8p3mi xG84xwX4C/bVHH0BaLjPdYITDDsTw1RxTD1eSwgtJKSw3eV9Rh8GduERb/t5kTmmYZbV PeC5qODiXRsHE6YLWQ3Vg2KMmjc0gOKAGAeODSuWGmCfw8m23GLAqDOU+APf+TzKRf1w 545Q== X-Gm-Message-State: AOJu0YwjeAc7xdr4kDW7ughIcEKYyb24AMnz0YBc5CdlhXXZxYh+tRGu 26y30c441uCgHj4uFKDcCdj7HV/OysBhiTmBga7jWaNAeyT2QMhD0YPy6k09jcsmntkvKwrFSW5 EGdNc5GzIeEk/JpsvxTILfkZyWkL25uUZ/S/jXHaxxPdZh4RtnF5Wg3sIeBXI X-Gm-Gg: ASbGncv60xq7RHFPLpZJHnE7I3z6nbAQ2aDrrm5WQ99NCGBhvTqQXCQ/OBtCWp2bXuK LkY2rlKwV++L1qtH+LTYncITMTNocXFMMeNoks6inKZwlt58f1fqeLSmPVOFLdkmwLUUi+aVo1U baCvY4i7O76v5ge5EZ5qq7RzFi6SlxutsbBMAyN3fWxw7hFKoqF9vydz+7cN9zCTBzUxoyW7sJC r4tF8+GqqEC8aEVXvukrBhhaIean4jIuCD0csvd+CaoWICjKGHytUg7MWGjivLueeFj2KOrBhho MVaEGyuKmagTCWWvGSJGrI8ojSjeFlCgeqAv X-Google-Smtp-Source: AGHT+IEQryb8XGwwZIEJU4zlSV3sLEh56cDPndlms7JikpGRrh/68INftdt8xSwKgCL1Ck2B3/z1ZHwI8ejy X-Received: by 2002:a05:690c:64ca:b0:707:e5b0:7cc9 with SMTP id 00721157ae682-70ca7bbcb3dmr20654977b3.34.1747343434161; Thu, 15 May 2025 14:10:34 -0700 (PDT) Received: from postal.iol.unh.edu (postal.iol.unh.edu. [2606:4100:3880:1234::84]) by smtp-relay.gmail.com with ESMTPS id 00721157ae682-70ca83261f5sm169087b3.21.2025.05.15.14.10.34 (version=TLS1_2 cipher=ECDHE-ECDSA-AES128-GCM-SHA256 bits=128/128); Thu, 15 May 2025 14:10:34 -0700 (PDT) X-Relaying-Domain: iol.unh.edu Date: Thu, 15 May 2025 14:10:34 -0700 (PDT) Message-ID: <6826584a.050a0220.ba467.0df1SMTPIN_ADDED_MISSING@mx.google.com> Received: from [172.21.0.5] (unknown [172.18.0.240]) by postal.iol.unh.edu (Postfix) with ESMTP id C3E556052471; Thu, 15 May 2025 17:10:33 -0400 (EDT) Subject: |WARNING| pw153459 [PATCH] [v3] build: automatically report minimum From: dpdklab@iol.unh.edu To: Test Report Cc: dpdk-test-reports@iol.unh.edu In-Reply-To: <20250515134647.932537-1-bruce.richardson@intel.com> References: <20250515134647.932537-1-bruce.richardson@intel.com> Content-Type: text/plain X-BeenThere: test-report@dpdk.org X-Mailman-Version: 2.1.29 Precedence: list List-Id: automatic DPDK test reports List-Unsubscribe: , List-Archive: List-Post: List-Help: List-Subscribe: , Errors-To: test-report-bounces@dpdk.org Test-Label: iol-compile-amd64-testing Test-Status: WARNING http://dpdk.org/patch/153459 _Testing issues_ Submitter: Bruce Richardson Date: Thursday, May 15 2025 13:46:47 DPDK git baseline: Repo:dpdk Branch: master CommitID:4029c5e3f2c6e950e8579be2401dab12e4209d53 153459 --> testing issues Upstream job id: Generic-DPDK-Compile-Meson#388254 Test environment and result as below: +-----------------------------------+--------------------+-------------------+------------------+-------------------+-------------------------+----------------------+ | Environment | dpdk_meson_compile | dpdk_compile_spdk | dpdk_compile_ovs | dpdk_msvc_compile | dpdk_llvm_clang_compile | dpdk_mingw64_compile | +===================================+====================+===================+==================+===================+=========================+======================+ | CentOS Stream 9 | PASS | PASS | SKIPPED | SKIPPED | SKIPPED | SKIPPED | +-----------------------------------+--------------------+-------------------+------------------+-------------------+-------------------------+----------------------+ | CentOS Stream 10 | PASS | SKIPPED | SKIPPED | SKIPPED | SKIPPED | SKIPPED | +-----------------------------------+--------------------+-------------------+------------------+-------------------+-------------------------+----------------------+ | Debian 12 | PASS | PASS | SKIPPED | SKIPPED | SKIPPED | SKIPPED | +-----------------------------------+--------------------+-------------------+------------------+-------------------+-------------------------+----------------------+ | Fedora 40 | PASS | PASS | SKIPPED | SKIPPED | SKIPPED | SKIPPED | +-----------------------------------+--------------------+-------------------+------------------+-------------------+-------------------------+----------------------+ | Fedora 41 | PEND | PEND | PEND | SKIPPED | SKIPPED | SKIPPED | +-----------------------------------+--------------------+-------------------+------------------+-------------------+-------------------------+----------------------+ | Fedora 41 (Clang) | PASS | WARN | PASS | SKIPPED | SKIPPED | SKIPPED | +-----------------------------------+--------------------+-------------------+------------------+-------------------+-------------------------+----------------------+ | RHEL9 | PASS | SKIPPED | SKIPPED | SKIPPED | SKIPPED | SKIPPED | +-----------------------------------+--------------------+-------------------+------------------+-------------------+-------------------------+----------------------+ | RHEL8 | PASS | SKIPPED | SKIPPED | SKIPPED | SKIPPED | SKIPPED | +-----------------------------------+--------------------+-------------------+------------------+-------------------+-------------------------+----------------------+ | openSUSE Leap 15 | PASS | SKIPPED | SKIPPED | SKIPPED | SKIPPED | SKIPPED | +-----------------------------------+--------------------+-------------------+------------------+-------------------+-------------------------+----------------------+ | Ubuntu 20.04 | PASS | SKIPPED | SKIPPED | SKIPPED | SKIPPED | SKIPPED | +-----------------------------------+--------------------+-------------------+------------------+-------------------+-------------------------+----------------------+ | Ubuntu 22.04 | PEND | PEND | SKIPPED | SKIPPED | SKIPPED | SKIPPED | +-----------------------------------+--------------------+-------------------+------------------+-------------------+-------------------------+----------------------+ | Ubuntu 24.04 | PASS | PASS | PASS | SKIPPED | SKIPPED | SKIPPED | +-----------------------------------+--------------------+-------------------+------------------+-------------------+-------------------------+----------------------+ | Alpine | PEND | SKIPPED | SKIPPED | SKIPPED | SKIPPED | SKIPPED | +-----------------------------------+--------------------+-------------------+------------------+-------------------+-------------------------+----------------------+ | Ubuntu 24.04 32 Bit Cross Compile | PEND | SKIPPED | SKIPPED | SKIPPED | SKIPPED | SKIPPED | +-----------------------------------+--------------------+-------------------+------------------+-------------------+-------------------------+----------------------+ | FreeBSD 13.5 | PASS | SKIPPED | SKIPPED | SKIPPED | SKIPPED | SKIPPED | +-----------------------------------+--------------------+-------------------+------------------+-------------------+-------------------------+----------------------+ | FreeBSD 14.2 | PASS | SKIPPED | SKIPPED | SKIPPED | SKIPPED | SKIPPED | +-----------------------------------+--------------------+-------------------+------------------+-------------------+-------------------------+----------------------+ | Fedora 40 (Clang) | PEND | PEND | SKIPPED | SKIPPED | SKIPPED | SKIPPED | +-----------------------------------+--------------------+-------------------+------------------+-------------------+-------------------------+----------------------+ | Windows Server 2022 | SKIPPED | SKIPPED | SKIPPED | PASS | PASS | PASS | +-----------------------------------+--------------------+-------------------+------------------+-------------------+-------------------------+----------------------+ ==== 20 line log output for Fedora 41 (Clang) (dpdk_compile_spdk): ==== --- Failed to get log output --- ==== End log output ==== CentOS Stream 9 Kernel: Depends on container host Compiler: gcc 11.5.0 20240719 (Red Hat 11.5.0-2) CentOS Stream 10 Kernel: Depends on container host Compiler: gcc 14.2.1 20241104 (Red Hat 14.2.1-6) Debian 12 Kernel: Depends on container host Compiler: gcc (Debian 12.2.0-14) 12.2.0 Fedora 40 Kernel: Depends on container host Compiler: gcc 14.2.1 20240912 (Red Hat 14.2.1-3) Fedora 41 Kernel: Depends on container host Compiler: gcc 14.2.1 20240912 (Red Hat 14.2.1-3) Fedora 41 (Clang) Kernel: Depends on container host Compiler: clang 19.1.5 (Fedora 19.1.5-1.fc41) RHEL9 Kernel: Depends on container host Compiler: gcc 11.5.0 20240719 (Red Hat 11.5.0-2) RHEL8 Kernel: Depends on container host Compiler: gcc 8.5.0 20210514 (Red Hat 8.5.0-22) openSUSE Leap 15 Kernel: Depends on container host Compiler: gcc (SUSE Linux) 7.5.0 Ubuntu 20.04 Kernel: Depends on container host Compiler: gcc (Ubuntu 9.4.0-1ubuntu1~20.04.2) 9.4.0 Ubuntu 22.04 Kernel: Depends on container host Compiler: gcc (Ubuntu 11.4.0-1ubuntu1~22.04) 11.4.0 Ubuntu 24.04 Kernel: Depends on container host Compiler: gcc (Ubuntu 13.3.0-6ubuntu2~24.04) 13.3.0 Alpine Kernel: Depends on container host Compiler: gcc (Alpine 14.2.0) 14.2.0 Ubuntu 24.04 32 Bit Cross Compile Kernel: Depends on container host Compiler: gcc (Ubuntu 13.3.0-6ubuntu2~24.04) 13.3.0 FreeBSD 13.5 Kernel: 13.5-RELEASE Compiler: clang 19.1.7 FreeBSD 14.2 Kernel: 14.2-RELEASE Compiler: clang 18.1.6 Fedora 40 (Clang) Kernel: Depends on container host Compiler: clang 18.1.8 (Fedora 18.1.8-1.fc40) Windows Server 2022 Kernel: 10.0.20348.2031 Compiler: clang 15.0.7, gcc 14.1.0 (MinGW), and MSVC VS 19.39.33521 To view detailed results, visit: https://lab.dpdk.org/results/dashboard/patchsets/33182/ UNH-IOL DPDK Community Lab To manage your email subscriptions, visit: https://lab.dpdk.org/results/dashboard/preferences/subscriptions/