From mboxrd@z Thu Jan 1 00:00:00 1970 Return-Path: Received: from mails.dpdk.org (mails.dpdk.org [217.70.189.124]) by inbox.dpdk.org (Postfix) with ESMTP id 6469A4675A for ; Thu, 15 May 2025 23:20:15 +0200 (CEST) Received: from mails.dpdk.org (localhost [127.0.0.1]) by mails.dpdk.org (Postfix) with ESMTP id 384A6410D0; Thu, 15 May 2025 23:20:15 +0200 (CEST) Received: from mail-pl1-f227.google.com (mail-pl1-f227.google.com [209.85.214.227]) by mails.dpdk.org (Postfix) with ESMTP id 434A541060 for ; Thu, 15 May 2025 23:20:14 +0200 (CEST) Received: by mail-pl1-f227.google.com with SMTP id d9443c01a7336-23198fcdeb0so14215315ad.2 for ; Thu, 15 May 2025 14:20:14 -0700 (PDT) DKIM-Signature: v=1; a=rsa-sha256; c=relaxed/relaxed; d=iol.unh.edu; s=unh-iol; t=1747344013; x=1747948813; darn=dpdk.org; h=references:in-reply-to:cc:to:from:subject:message-id:date:from:to :cc:subject:date:message-id:reply-to; bh=8USBCJEsSuNs67a0hVzEI5h5O4mqwbBE5THgC+xh3WQ=; b=YnD1RX7ebPW0ReHuFQJzUABiNKia+Y/D9tvmmraL9FyIvtNtEp/O3eUWq2BI8V2IQt +y0uwh54934V++sDM1TOcEqlhT0OM647zVzTVc7jWzEbhESLDzJ6Y/8BsPPRSfik89tY qIA0BxfLUDKmrR1cl7LwnNAhtfEbn6DfZBMco= X-Google-DKIM-Signature: v=1; a=rsa-sha256; c=relaxed/relaxed; d=1e100.net; s=20230601; t=1747344013; x=1747948813; h=references:in-reply-to:cc:to:from:subject:message-id:date :x-gm-message-state:from:to:cc:subject:date:message-id:reply-to; bh=8USBCJEsSuNs67a0hVzEI5h5O4mqwbBE5THgC+xh3WQ=; b=ak/LrgyIym+yN/QfQWVoujNo6OpKcYgY+kCtlXq1qpz4ysNS3bQhCWBjS0jz9Tj+Ip ftFROIOAqg0aHnkkrPGOSUzBKT60YKAB3TGPr5k/qGGdplYqK2RbX5iDoNuBn4e3Kr3O TIe2gFxKR+AMWB8rngKzRaEVwglEFTVFxDLZTIIOK69CCk+HjM/LqEIiGebU6miajebU hsUyfokuiISq1+xCwenNDzpu+zJ9wXYN5fzcXfqHKZhUFkfrn6y+8407CCYxGyAo+Lxh VwwDkpKcmfhgV0tlHM1kpCRE56cayw1CraLp7JUrLOPf0Tih6vgxsilk9oFZSWDyg+fq iRhQ== X-Gm-Message-State: AOJu0Yx8uuj27IJlDR7TWk3ZV+t7TOmVi/Rt+tVGGglch5bRasdwGZxS e/zLe1TLPbBWU57flH3HPBCIQ5gpUA54znXwo+TOszTmUOrQrGENl0jA4i7BJ7C9D8Mf48slCR0 Uh9N729dRzENfmfzjzGhp7rkmF4/DWlHJWc6OsX7WV59zcPmf2Lf4FvRxhZou X-Gm-Gg: ASbGncvFB02sduuTXuwGBJyYJpCSorkwEIbS/MpeeGOdGQNP9BCdlnSXbadeowoN1lf 9IJXJd8V5J4dwX3QVO0j5CvA1vQHdqOtWxMNHLwcWY1Xr+GqTmrYRfMHfhtZCvPHEquFkDhNspj DcFC6537b/uzZsNae9abOZDcOTpydR0K84jJOJ1swWPjLogvxwTz9kSFSWxtU8gB9vYT2gt8qRG IZLGqd4/qxxwqQYdGQN2Z5hleqB2vjnfmp7aEc24j0IL0yK9irzRW5ATjsL/leD3rxMi0eXs3f5 pM9+pq3BNU0wOc6IunSLnRP6nun9GnmJ2gQm X-Google-Smtp-Source: AGHT+IGNgwzqG1/3Pr82kvx0SXwYVN43N6zquQwTg/BOkcjEquTGlegZwEEfm814Nfb3/Ol/gMCiyGlYZ+Z6 X-Received: by 2002:a17:903:41cc:b0:223:325c:89de with SMTP id d9443c01a7336-231d43d9c96mr12441325ad.1.1747344013258; Thu, 15 May 2025 14:20:13 -0700 (PDT) Received: from postal.iol.unh.edu (postal.iol.unh.edu. [2606:4100:3880:1234::84]) by smtp-relay.gmail.com with ESMTPS id d9443c01a7336-231d4ed1652sm234505ad.127.2025.05.15.14.20.13 (version=TLS1_2 cipher=ECDHE-ECDSA-AES128-GCM-SHA256 bits=128/128); Thu, 15 May 2025 14:20:13 -0700 (PDT) X-Relaying-Domain: iol.unh.edu Date: Thu, 15 May 2025 14:20:13 -0700 (PDT) Message-ID: <68265a8d.170a0220.d2633.14c7SMTPIN_ADDED_MISSING@mx.google.com> Received: from [172.21.0.7] (unknown [172.18.0.240]) by postal.iol.unh.edu (Postfix) with ESMTP id A33A36052471; Thu, 15 May 2025 17:20:12 -0400 (EDT) Subject: |SUCCESS| pw153458 [PATCH] [v2] net/ice: fix flow creation failure From: dpdklab@iol.unh.edu To: Test Report Cc: dpdk-test-reports@iol.unh.edu In-Reply-To: <20250515112348.7746-1-dhanya.r.pillai@intel.com> References: <20250515112348.7746-1-dhanya.r.pillai@intel.com> Content-Type: text/plain X-BeenThere: test-report@dpdk.org X-Mailman-Version: 2.1.29 Precedence: list List-Id: automatic DPDK test reports List-Unsubscribe: , List-Archive: List-Post: List-Help: List-Subscribe: , Errors-To: test-report-bounces@dpdk.org Test-Label: iol-abi-testing Test-Status: SUCCESS http://dpdk.org/patch/153458 _Testing PASS_ Submitter: Dhanya Pillai Date: Thursday, May 15 2025 11:23:44 DPDK git baseline: Repo:dpdk Branch: master CommitID:51e889518fc861f1af5acbbc133a75203225655c 153458 --> testing pass Upstream job id: Generic-DPDK-Compile-ABI#126514 Test environment and result as below: +-------------------+----------+ | Environment | abi_test | +===================+==========+ | CentOS Stream 9 | PASS | +-------------------+----------+ | Debian 12 | PASS | +-------------------+----------+ | CentOS Stream 10 | PASS | +-------------------+----------+ | Fedora 40 (Clang) | PASS | +-------------------+----------+ | openSUSE Leap 15 | PASS | +-------------------+----------+ | Fedora 41 (Clang) | PASS | +-------------------+----------+ | Fedora 40 | PASS | +-------------------+----------+ | Fedora 41 | PASS | +-------------------+----------+ | RHEL8 | PASS | +-------------------+----------+ | Ubuntu 24.04 | PASS | +-------------------+----------+ | RHEL9 | PASS | +-------------------+----------+ | Ubuntu 22.04 | PASS | +-------------------+----------+ CentOS Stream 9 Kernel: Depends on container host Compiler: gcc 11.5.0 20240719 (Red Hat 11.5.0-2) Debian 12 Kernel: Depends on container host Compiler: gcc (Debian 12.2.0-14) 12.2.0 CentOS Stream 10 Kernel: Depends on container host Compiler: gcc 14.2.1 20241104 (Red Hat 14.2.1-6) Fedora 40 (Clang) Kernel: Depends on container host Compiler: clang 18.1.8 (Fedora 18.1.8-1.fc40) openSUSE Leap 15 Kernel: Depends on container host Compiler: gcc (SUSE Linux) 7.5.0 Fedora 41 (Clang) Kernel: Depends on container host Compiler: clang 19.1.5 (Fedora 19.1.5-1.fc41) Fedora 40 Kernel: Depends on container host Compiler: gcc 14.2.1 20240912 (Red Hat 14.2.1-3) Fedora 41 Kernel: Depends on container host Compiler: gcc 14.2.1 20240912 (Red Hat 14.2.1-3) RHEL8 Kernel: Depends on container host Compiler: gcc 8.5.0 20210514 (Red Hat 8.5.0-22) Ubuntu 24.04 Kernel: Depends on container host Compiler: gcc (Ubuntu 13.3.0-6ubuntu2~24.04) 13.3.0 RHEL9 Kernel: Depends on container host Compiler: gcc 11.5.0 20240719 (Red Hat 11.5.0-2) Ubuntu 22.04 Kernel: Depends on container host Compiler: gcc (Ubuntu 11.4.0-1ubuntu1~22.04) 11.4.0 To view detailed results, visit: https://lab.dpdk.org/results/dashboard/patchsets/33181/ UNH-IOL DPDK Community Lab To manage your email subscriptions, visit: https://lab.dpdk.org/results/dashboard/preferences/subscriptions/