From mboxrd@z Thu Jan 1 00:00:00 1970 Return-Path: Received: from mails.dpdk.org (mails.dpdk.org [217.70.189.124]) by inbox.dpdk.org (Postfix) with ESMTP id 6AE8A46756 for ; Thu, 15 May 2025 23:29:24 +0200 (CEST) Received: from mails.dpdk.org (localhost [127.0.0.1]) by mails.dpdk.org (Postfix) with ESMTP id 5656F410F9; Thu, 15 May 2025 23:29:24 +0200 (CEST) Received: from mail-io1-f98.google.com (mail-io1-f98.google.com [209.85.166.98]) by mails.dpdk.org (Postfix) with ESMTP id 8FC48410D0 for ; Thu, 15 May 2025 23:29:22 +0200 (CEST) Received: by mail-io1-f98.google.com with SMTP id ca18e2360f4ac-86135ad7b4cso64822939f.1 for ; Thu, 15 May 2025 14:29:22 -0700 (PDT) DKIM-Signature: v=1; a=rsa-sha256; c=relaxed/relaxed; d=iol.unh.edu; s=unh-iol; t=1747344562; x=1747949362; darn=dpdk.org; h=references:in-reply-to:cc:to:from:subject:message-id:date:from:to :cc:subject:date:message-id:reply-to; bh=bfT0P05BvrAQZgUh277FTKTsZ5cyM8E8fJQuzbL2bb4=; b=RonQVE8R5aMyOkvnGkMVMozMDdPDjkj413wKkLaOYf8ZP7qUuT4ivr3UCSgAQt1//7 9mjajUm77ARnd+ONEx//uk0D9/vqHMS+I/5zLXsWh00rACfbP3TpZhq3ZkCfshQa1reA gcHZhbpiCEiPQlQTOLtkflfzUuAfg0awHjZ8E= X-Google-DKIM-Signature: v=1; a=rsa-sha256; c=relaxed/relaxed; d=1e100.net; s=20230601; t=1747344562; x=1747949362; h=references:in-reply-to:cc:to:from:subject:message-id:date :x-gm-message-state:from:to:cc:subject:date:message-id:reply-to; bh=bfT0P05BvrAQZgUh277FTKTsZ5cyM8E8fJQuzbL2bb4=; b=L6EqAPvuPH3tXZ7R0GZ5MDIY6ukWu0BSe2SPKFR7sTRC5M3V8q6P7gCaowwAL1wklV zBwJv7p630J0NFCGMGswLYFnAVbwzDyn2G+p1hYWuXc+OkeyYJssTHmfJHdtSO5QmnXQ U9qeeuNCyF/thASniwqq5+TRYO9wyTyzDwQgEKQzrJKd3W1U35cVmOJTOVvEsNugk5eX +P7Bv1S/huBZGo59IWP5QRXCj5Jr+lZcZ3PVCt7wo51eDa+gwjSsbcqL2cY3WS6O6N4A gtblDqFRXd4xUlewtFQavkkTCreI2I7iVofOVT5pAZr0evRj0vXjRC8+EGy1pfPLnqRA 8R9g== X-Gm-Message-State: AOJu0YzRHPTFFYbpRMg7LbSN6tGK165/WLk1EDZnCzqjHQlPW5gmCD/C t8LKKLxgPrwDbmdAxwzM4G4OmLROdaq+wZepRE4MAG97zUm03uPW65JYwpCrVC7l7U86Ek1d1T8 qZBjAfJjvj3h9OV+KuNvf0lC20MKDcaWMtkxLnj17ZZz7sNOMCKiGnZdP91h8 X-Gm-Gg: ASbGncsRAFCd5hqFg844fsaI3v4zqAXJ74JK7G7urKQj+IVi344eIkbThf07AxVDXYC C4qegGL1BT5+eyN0Vh11IZBMawxlsXWT+I/7wDdduWGZALkS+Z/hZOl26FnVoDdkPm/UKl4RQms eD7ADGHlNL7jvNty/Vi8mebjIfWrnCUJzPkNXZizXxqnqE905bTdN1X4cPtxz+NvSjseZs1KfFq Kl4aY6mLPadwiDXy73jo8qGKlRJLZUUvuORNhLjpG4ZR9yvISstXRW8NomeSg/J+p0EBACHhPaP 3zxalIM/UMq1CigoEHt/LK6afWnXsNDbIk7k X-Google-Smtp-Source: AGHT+IGRpXa8XiCF5SjRPqLfexpt383+vEejfHWKLF5o1LE25c/kwByGX/BfZw4Of493AKZDqiyVX//NiNNh X-Received: by 2002:a05:6602:3a08:b0:861:7d39:d4d3 with SMTP id ca18e2360f4ac-86a2316d84cmr248305039f.3.1747344561815; Thu, 15 May 2025 14:29:21 -0700 (PDT) Received: from postal.iol.unh.edu (postal.iol.unh.edu. [2606:4100:3880:1234::84]) by smtp-relay.gmail.com with ESMTPS id ca18e2360f4ac-86a23795a79sm2078639f.26.2025.05.15.14.29.21 (version=TLS1_2 cipher=ECDHE-ECDSA-AES128-GCM-SHA256 bits=128/128); Thu, 15 May 2025 14:29:21 -0700 (PDT) X-Relaying-Domain: iol.unh.edu Date: Thu, 15 May 2025 14:29:21 -0700 (PDT) Message-ID: <68265cb1.050a0220.2c42e8.1460SMTPIN_ADDED_MISSING@mx.google.com> Received: from [172.21.0.5] (unknown [172.18.0.240]) by postal.iol.unh.edu (Postfix) with ESMTP id 43B676052471; Thu, 15 May 2025 17:29:21 -0400 (EDT) Subject: |SUCCESS| pw153458 [PATCH] [v2] net/ice: fix flow creation failure From: dpdklab@iol.unh.edu To: Test Report Cc: dpdk-test-reports@iol.unh.edu In-Reply-To: <20250515112348.7746-1-dhanya.r.pillai@intel.com> References: <20250515112348.7746-1-dhanya.r.pillai@intel.com> Content-Type: text/plain X-BeenThere: test-report@dpdk.org X-Mailman-Version: 2.1.29 Precedence: list List-Id: automatic DPDK test reports List-Unsubscribe: , List-Archive: List-Post: List-Help: List-Subscribe: , Errors-To: test-report-bounces@dpdk.org Test-Label: iol-unit-amd64-testing Test-Status: SUCCESS http://dpdk.org/patch/153458 _Testing PASS_ Submitter: Dhanya Pillai Date: Thursday, May 15 2025 11:23:44 DPDK git baseline: Repo:dpdk Branch: master CommitID:51e889518fc861f1af5acbbc133a75203225655c 153458 --> testing pass Upstream job id: Generic-Unit-Test-DPDK#338137 Test environment and result as below: +-------------------+----------------+ | Environment | dpdk_unit_test | +===================+================+ | CentOS Stream 9 | PASS | +-------------------+----------------+ | Fedora 40 | PASS | +-------------------+----------------+ | CentOS Stream 10 | PASS | +-------------------+----------------+ | Debian 12 | PASS | +-------------------+----------------+ | Fedora 40 (Clang) | PASS | +-------------------+----------------+ | Fedora 41 | PASS | +-------------------+----------------+ | Fedora 41 (Clang) | PASS | +-------------------+----------------+ | RHEL8 | PASS | +-------------------+----------------+ | Ubuntu 20.04 | PASS | +-------------------+----------------+ | RHEL9 | PASS | +-------------------+----------------+ | Ubuntu 24.04 | PASS | +-------------------+----------------+ | Ubuntu 22.04 | PASS | +-------------------+----------------+ CentOS Stream 9 Kernel: Depends on container host Compiler: gcc 11.5.0 20240719 (Red Hat 11.5.0-2) Fedora 40 Kernel: Depends on container host Compiler: gcc 14.2.1 20240912 (Red Hat 14.2.1-3) CentOS Stream 10 Kernel: Depends on container host Compiler: gcc 14.2.1 20241104 (Red Hat 14.2.1-6) Debian 12 Kernel: Depends on container host Compiler: gcc (Debian 12.2.0-14) 12.2.0 Fedora 40 (Clang) Kernel: Depends on container host Compiler: clang 18.1.8 (Fedora 18.1.8-1.fc40) Fedora 41 Kernel: Depends on container host Compiler: gcc 14.2.1 20240912 (Red Hat 14.2.1-3) Fedora 41 (Clang) Kernel: Depends on container host Compiler: clang 19.1.5 (Fedora 19.1.5-1.fc41) RHEL8 Kernel: Depends on container host Compiler: gcc 8.5.0 20210514 (Red Hat 8.5.0-22) Ubuntu 20.04 Kernel: Depends on container host Compiler: gcc (Ubuntu 9.4.0-1ubuntu1~20.04.2) 9.4.0 RHEL9 Kernel: Depends on container host Compiler: gcc 11.5.0 20240719 (Red Hat 11.5.0-2) Ubuntu 24.04 Kernel: Depends on container host Compiler: gcc (Ubuntu 13.3.0-6ubuntu2~24.04) 13.3.0 Ubuntu 22.04 Kernel: Depends on container host Compiler: gcc (Ubuntu 11.4.0-1ubuntu1~22.04) 11.4.0 To view detailed results, visit: https://lab.dpdk.org/results/dashboard/patchsets/33181/ UNH-IOL DPDK Community Lab To manage your email subscriptions, visit: https://lab.dpdk.org/results/dashboard/preferences/subscriptions/