From mboxrd@z Thu Jan 1 00:00:00 1970 Return-Path: Received: from mails.dpdk.org (mails.dpdk.org [217.70.189.124]) by inbox.dpdk.org (Postfix) with ESMTP id AD81E4675A for ; Thu, 15 May 2025 23:31:13 +0200 (CEST) Received: from mails.dpdk.org (localhost [127.0.0.1]) by mails.dpdk.org (Postfix) with ESMTP id 8D2C2410F9; Thu, 15 May 2025 23:31:13 +0200 (CEST) Received: from mail-yb1-f225.google.com (mail-yb1-f225.google.com [209.85.219.225]) by mails.dpdk.org (Postfix) with ESMTP id B4B28410D0 for ; Thu, 15 May 2025 23:31:11 +0200 (CEST) Received: by mail-yb1-f225.google.com with SMTP id 3f1490d57ef6-e740a09eae0so1305562276.1 for ; Thu, 15 May 2025 14:31:11 -0700 (PDT) DKIM-Signature: v=1; a=rsa-sha256; c=relaxed/relaxed; d=iol.unh.edu; s=unh-iol; t=1747344671; x=1747949471; darn=dpdk.org; h=cc:to:from:subject:message-id:date:from:to:cc:subject:date :message-id:reply-to; bh=cCp7GmRhgrDwjWDtLxVs3TJ6JcyxA/PkDuCq4qLRpcM=; b=ZXsW3PcghIthtkpnpT76VZSAn8aenMOgdwubGYVu8dKiQvHWMLAJSF+9q3wEYjEJ7y GWIDZr2/c4pBK+/igUd/R55EzIA7nNx9uNcbNOW7pAKiblAwzzgM/Oyp77ePTAbjWCDz cUKipvOdBVRAod/I8GYBfsbMNf/NWyC32ZF3c= X-Google-DKIM-Signature: v=1; a=rsa-sha256; c=relaxed/relaxed; d=1e100.net; s=20230601; t=1747344671; x=1747949471; h=cc:to:from:subject:message-id:date:x-gm-message-state:from:to:cc :subject:date:message-id:reply-to; bh=cCp7GmRhgrDwjWDtLxVs3TJ6JcyxA/PkDuCq4qLRpcM=; b=Ivp4XCHoi0zdilGOvpLMHBpssHHNOeJQ/WO7UvJqgd2v4YsXHm0Hzcps8zcbKIAnGT bXQM8x6BuAyCjpp5G497+tAc+y/+CiPHsf/6FmmzTrjseEz3AHNtWA1Kj0XIqEj1i1Ob UveufIhLxEc9sGOwF9/nJFrXPmPMK9hijLhhGcJnAcU6uIjIgeRHvkybc08ijQsMPAnZ 9PmawDOwm+NtDtaB/1Aor/lbAibPwZx4zrfRGrUsp7G0csEkhq69/L7WWQdOMEpDGwFI acMIAydouCfOz+2K+LV42GHhtVl0p6as+INxVOl4RTVVI4ctwEgIhzpZ2bTPH/A6zif5 E7vg== X-Gm-Message-State: AOJu0YzNBMNwmGaKMou+2Gb8zis39JNwKFMGsPa2gT5MYiD6DDHgaATt qi2mf4+yP/+elSAmxUVjpo7XR4iUFxKXuWRoheT9eMhn5WAaUj+oiAfNBLesKxbaJW1gc7Oa7gy lB3h+tcMQ+GfYcPa+u6LJ7YzB/UZNVz5G151ux6LhDzwdJTBkdOXDMlKYd0Au X-Gm-Gg: ASbGncs7yGKZferw3wcSOZNAxDhexTXMGEMsdliVHH8B7F707Qd8Sy+6d65u5Gsl066 7127A/kzRuOiu9Vq0/dHSpwhnaZynFVZslryEI8oge9DMCD061ImAm7VTSjgiOFOcFdYuxy9erL wU4zx5Q3h2n2Tu2Hspv4qvqRFqmX/2GkoQ2Y+CCUqvIFbd0oImXNeG+Cia/1FbGvxyCcPW2cpAo 2oy/2elQLM8G6cX7z/U4262fKWqBUJhZ3ryIa9frYqN0CqLDNe4dv+IKrdPXsBl3SwieatJaF4e nk/s7iy8h2xmujSAF4hqy9vd3Z0X1CNkz5ex X-Google-Smtp-Source: AGHT+IFChVB/jIVddVJqc9KIJpATPb2UEZ9xyvCl3iJnvBFb+sVKDZ2AyDNC6tTcNoY+RplJ243xPRNXQvkt X-Received: by 2002:a05:6902:1543:b0:e7a:a7fd:87f7 with SMTP id 3f1490d57ef6-e7b6a21219cmr1806309276.29.1747344670813; Thu, 15 May 2025 14:31:10 -0700 (PDT) Received: from postal.iol.unh.edu (postal.iol.unh.edu. [2606:4100:3880:1234::84]) by smtp-relay.gmail.com with ESMTPS id 3f1490d57ef6-e7b6ae41987sm27371276.25.2025.05.15.14.31.10 (version=TLS1_2 cipher=ECDHE-ECDSA-AES128-GCM-SHA256 bits=128/128); Thu, 15 May 2025 14:31:10 -0700 (PDT) X-Relaying-Domain: iol.unh.edu Date: Thu, 15 May 2025 14:31:10 -0700 (PDT) Message-ID: <68265d1e.250a0220.126280.1702SMTPIN_ADDED_MISSING@mx.google.com> Received: from [172.21.0.5] (unknown [172.18.0.240]) by postal.iol.unh.edu (Postfix) with ESMTP id 7B0D26052471; Thu, 15 May 2025 17:31:10 -0400 (EDT) Subject: |SUCCESS| [GIT MASTER] dcf9f9363aa9b4163d241caf8b26a84ca0c0006b From: dpdklab@iol.unh.edu To: Test Report Cc: dpdk-test-reports@iol.unh.edu, Akhil Goyal Content-Type: text/plain X-BeenThere: test-report@dpdk.org X-Mailman-Version: 2.1.29 Precedence: list List-Id: automatic DPDK test reports List-Unsubscribe: , List-Archive: List-Post: List-Help: List-Subscribe: , Errors-To: test-report-bounces@dpdk.org _Testing PASS_ Branch: dpdk-next-crypto dcf9f9363aa9b4163d241caf8b26a84ca0c0006b --> testing pass Upstream job id: Windows-Compile-DPDK-VS#5732 Test environment and result as below: +---------------------+--------------------+-------------------+ | Environment | dpdk_meson_compile | dpdk_msvc_compile | +=====================+====================+===================+ | Ubuntu 20.04 | PASS | SKIPPED | +---------------------+--------------------+-------------------+ | FreeBSD 14.2 | PASS | SKIPPED | +---------------------+--------------------+-------------------+ | FreeBSD 13.5 | PASS | SKIPPED | +---------------------+--------------------+-------------------+ | Windows Server 2022 | SKIPPED | PASS | +---------------------+--------------------+-------------------+ Ubuntu 20.04 Kernel: 4.19.325-0419325-generic Compiler: gcc (Ubuntu 9.4.0-1ubuntu1~20.04.2) 9.4.0 FreeBSD 14.2 Kernel: 14.2-RELEASE Compiler: clang 18.1.6 FreeBSD 13.5 Kernel: 13.5-RELEASE Compiler: clang 19.1.7 Windows Server 2022 Kernel: 10.0.20348.2031 Compiler: clang 15.0.7, gcc 14.1.0 (MinGW), and MSVC VS 19.39.33521 To view detailed results, visit: https://lab.dpdk.org/results/dashboard/tarballs/33546/ UNH-IOL DPDK Community Lab To manage your email subscriptions, visit: https://lab.dpdk.org/results/dashboard/preferences/subscriptions/