From mboxrd@z Thu Jan 1 00:00:00 1970 Return-Path: Received: from mails.dpdk.org (mails.dpdk.org [217.70.189.124]) by inbox.dpdk.org (Postfix) with ESMTP id 1114D4675A for ; Thu, 15 May 2025 23:44:15 +0200 (CEST) Received: from mails.dpdk.org (localhost [127.0.0.1]) by mails.dpdk.org (Postfix) with ESMTP id E025440ED0; Thu, 15 May 2025 23:44:14 +0200 (CEST) Received: from mail-pl1-f225.google.com (mail-pl1-f225.google.com [209.85.214.225]) by mails.dpdk.org (Postfix) with ESMTP id 6CE1140655 for ; Thu, 15 May 2025 23:44:14 +0200 (CEST) Received: by mail-pl1-f225.google.com with SMTP id d9443c01a7336-22c336fcdaaso13157205ad.3 for ; Thu, 15 May 2025 14:44:14 -0700 (PDT) DKIM-Signature: v=1; a=rsa-sha256; c=relaxed/relaxed; d=iol.unh.edu; s=unh-iol; t=1747345453; x=1747950253; darn=dpdk.org; h=references:in-reply-to:cc:to:from:subject:message-id:date:from:to :cc:subject:date:message-id:reply-to; bh=RTAfuEfSFSKcIfWHiQP3UiylpWvMj0Fm5TUjPj125dI=; b=E4rmm8Pqup/amSUJTJWrhEoqMJfE0LCivR5nG4L8hLvavEEryEgqKQbN9X9RgkapXE C6oXouIJlEYu8OAeZQaBByTdNEgwa+/XiY4fNtdE+aeNUUTAhkbkoDoY+qQ++9/+6K3n NaIe4tmKQN4tkySUfbMLZVR2NAM7F9PGNg9iU= X-Google-DKIM-Signature: v=1; a=rsa-sha256; c=relaxed/relaxed; d=1e100.net; s=20230601; t=1747345453; x=1747950253; h=references:in-reply-to:cc:to:from:subject:message-id:date :x-gm-message-state:from:to:cc:subject:date:message-id:reply-to; bh=RTAfuEfSFSKcIfWHiQP3UiylpWvMj0Fm5TUjPj125dI=; b=rR4p020CeRCyhj1AAepLWd+IhisnfcWusF4eEm08wzsb1i/3Jo5MjFxM6f8cdQLiwG DiIivCRe4yoNc8hHLL7fSkFmGCTMJq3FFn5cCuHfcEI0WFeMtmQ/iN0DF0BJ3nGalS8n ikTzDkI727viQaO9EIH0VDcHIg99K9Qo+eRZPIv6cFroXihannx21ROYHCTeyDvzRFAe 6Wbv1S1DI1zvQUyUY8yPsmsUxd5ZVKXRMyX/BzhnDQD3eJY+QyhTAhpxBQGvFd5b8ZK0 eTjlV2k8ImDGOYXfPl+uJecjqUTgFq9Vjc5YrCv5gGDE3mZq1YXq2yQvO5csuDbSJL6M mt6A== X-Gm-Message-State: AOJu0Yz32HRaSz43Rg6mpyBXsq2s6rNupL1zKCSlxw6U9y8f4khdGhAg /TWAMRQU6PDzANw+8fMetCnvj4TRzyQPRpfqJC+aIgPoaVDH2JWoJAfcsbDv7JzoEQnZHwgTMkt tTEJdlsStZoXzaLzW3pBYHzQ+o9r7vBSL95lkuss/ZyXr7QDuxj1cwk9bAJ0i X-Gm-Gg: ASbGncsWm3cQkE6jSb8SJZHpFXK2ughPs6WXD2LU1lFFm0AmJBHrQI6ljFDyOfbgCa3 uJSV8zIrqdMvl7Vie4iFY27KMAVHWmrkOff367OJA8Dtlm5SNMSVckD1Hq8mVHRtqPtkSb0v07y /wj3aNboWW5e0WV3CWcHiLMuFiKllbA60c64xpyXV3jQGjNI+tLfjM4UoPfuEE3xaYZs1dKfumY 3nP9hBCWNlvuXb/mFpKmN+eHoFBpduFy6i/05RodVigb3i/Aq1DdCFrt8gaJhdPMJ/XX8YIllBH jEQ5k1EiELE1lRRG2itagbnb2e+YZquwDKxi X-Google-Smtp-Source: AGHT+IGhjDdsYoVfNBFPHufz8+k92c0b115W9z0OuTQTXorYISdHXcNtoOB6jzj+TMn+Ol5yi1kbg/sxKPsU X-Received: by 2002:a17:902:e950:b0:224:162:a3e0 with SMTP id d9443c01a7336-231d45cbd41mr11371585ad.49.1747345453513; Thu, 15 May 2025 14:44:13 -0700 (PDT) Received: from postal.iol.unh.edu (postal.iol.unh.edu. [2606:4100:3880:1234::84]) by smtp-relay.gmail.com with ESMTPS id d9443c01a7336-231d4e9e914sm243165ad.92.2025.05.15.14.44.13 (version=TLS1_2 cipher=ECDHE-ECDSA-AES128-GCM-SHA256 bits=128/128); Thu, 15 May 2025 14:44:13 -0700 (PDT) X-Relaying-Domain: iol.unh.edu Date: Thu, 15 May 2025 14:44:13 -0700 (PDT) Message-ID: <6826602d.170a0220.231fac.15c6SMTPIN_ADDED_MISSING@mx.google.com> Received: from [172.21.0.5] (unknown [172.18.0.240]) by postal.iol.unh.edu (Postfix) with ESMTP id CFCC26052471; Thu, 15 May 2025 17:44:12 -0400 (EDT) Subject: |SUCCESS| pw153458 [PATCH] [v2] net/ice: fix flow creation failure From: dpdklab@iol.unh.edu To: Test Report Cc: dpdk-test-reports@iol.unh.edu In-Reply-To: <20250515112348.7746-1-dhanya.r.pillai@intel.com> References: <20250515112348.7746-1-dhanya.r.pillai@intel.com> Content-Type: text/plain X-BeenThere: test-report@dpdk.org X-Mailman-Version: 2.1.29 Precedence: list List-Id: automatic DPDK test reports List-Unsubscribe: , List-Archive: List-Post: List-Help: List-Subscribe: , Errors-To: test-report-bounces@dpdk.org Test-Label: iol-unit-arm64-testing Test-Status: SUCCESS http://dpdk.org/patch/153458 _Testing PASS_ Submitter: Dhanya Pillai Date: Thursday, May 15 2025 11:23:44 DPDK git baseline: Repo:dpdk Branch: master CommitID:51e889518fc861f1af5acbbc133a75203225655c 153458 --> testing pass Upstream job id: Generic-Unit-Test-DPDK#338135 Test environment and result as below: +-----------------------------+----------------+--------------+---------------------------+------------------------------+ | Environment | dpdk_unit_test | lpm_autotest | cryptodev_sw_zuc_autotest | cryptodev_sw_snow3g_autotest | +=============================+================+==============+===========================+==============================+ | CentOS Stream 9 (ARM) | PASS | SKIPPED | SKIPPED | SKIPPED | +-----------------------------+----------------+--------------+---------------------------+------------------------------+ | CentOS Stream 10 (ARM) | PASS | SKIPPED | SKIPPED | SKIPPED | +-----------------------------+----------------+--------------+---------------------------+------------------------------+ | Debian 12 (arm) | PASS | SKIPPED | PASS | PASS | +-----------------------------+----------------+--------------+---------------------------+------------------------------+ | Fedora 40 (ARM) | PASS | SKIPPED | SKIPPED | SKIPPED | +-----------------------------+----------------+--------------+---------------------------+------------------------------+ | Fedora 41 (ARM) | PASS | SKIPPED | SKIPPED | SKIPPED | +-----------------------------+----------------+--------------+---------------------------+------------------------------+ | Fedora 41 (ARM Clang) | PASS | SKIPPED | SKIPPED | SKIPPED | +-----------------------------+----------------+--------------+---------------------------+------------------------------+ | RHEL9 (ARM) | PASS | SKIPPED | SKIPPED | SKIPPED | +-----------------------------+----------------+--------------+---------------------------+------------------------------+ | Fedora 40 (ARM Clang) | PASS | SKIPPED | SKIPPED | SKIPPED | +-----------------------------+----------------+--------------+---------------------------+------------------------------+ | Ubuntu 20.04 (ARM) | PASS | SKIPPED | SKIPPED | SKIPPED | +-----------------------------+----------------+--------------+---------------------------+------------------------------+ | Ubuntu 22.04 (ARM) | PASS | SKIPPED | SKIPPED | SKIPPED | +-----------------------------+----------------+--------------+---------------------------+------------------------------+ | Ubuntu 24.04 (ARM) | PASS | SKIPPED | SKIPPED | SKIPPED | +-----------------------------+----------------+--------------+---------------------------+------------------------------+ | 32-bit Ubuntu 22.04.4 (ARM) | PASS | SKIPPED | SKIPPED | SKIPPED | +-----------------------------+----------------+--------------+---------------------------+------------------------------+ | Ubuntu 20.04 ARM SVE | SKIPPED | PASS | SKIPPED | SKIPPED | +-----------------------------+----------------+--------------+---------------------------+------------------------------+ CentOS Stream 9 (ARM) Kernel: Depends on container host Compiler: gcc 11.5.0 20240719 (Red Hat 11.5.0-2) CentOS Stream 10 (ARM) Kernel: Depends on container host Compiler: gcc 14.2.1 20241104 (Red Hat 14.2.1-6) Debian 12 (arm) Kernel: Depends on container host Compiler: gcc (Debian 12.2.0-14) 12.2.0 Fedora 40 (ARM) Kernel: Depends on container host Compiler: gcc 14.2.1 20240912 (Red Hat 14.2.1-3) Fedora 41 (ARM) Kernel: Depends on container host Compiler: gcc 14.2.1 20240912 (Red Hat 14.2.1-3) Fedora 41 (ARM Clang) Kernel: Depends on container host Compiler: clang 19.1.5 (Fedora 19.1.5-1.fc41) RHEL9 (ARM) Kernel: Depends on container host Compiler: gcc 11.5.0 20240719 (Red Hat 11.5.0-2) Fedora 40 (ARM Clang) Kernel: Depends on container host Compiler: clang 18.1.8 (Fedora 18.1.8-1.fc40) Ubuntu 20.04 (ARM) Kernel: Depends on container host Compiler: gcc (Ubuntu 9.4.0-1ubuntu1~20.04.2) 9.4.0 Ubuntu 22.04 (ARM) Kernel: Depends on container host Compiler: gcc (Ubuntu 11.4.0-1ubuntu1~22.04) 11.4.0 Ubuntu 24.04 (ARM) Kernel: Depends on container host Compiler: gcc (Ubuntu 13.3.0-6ubuntu2~24.04) 13.3.0 32-bit Ubuntu 22.04.4 (ARM) Kernel: 5.15.83+ aarch64 Compiler: gcc (Ubuntu 11.4.0-1ubuntu1~22.04) 11.4.0 Ubuntu 20.04 ARM SVE Kernel: Depends on container host Compiler: gcc (Ubuntu 10.5.0-1ubuntu1~20.04) 10.5.0 To view detailed results, visit: https://lab.dpdk.org/results/dashboard/patchsets/33181/ UNH-IOL DPDK Community Lab To manage your email subscriptions, visit: https://lab.dpdk.org/results/dashboard/preferences/subscriptions/