From mboxrd@z Thu Jan 1 00:00:00 1970 Return-Path: Received: from mails.dpdk.org (mails.dpdk.org [217.70.189.124]) by inbox.dpdk.org (Postfix) with ESMTP id 0545B4675A for ; Thu, 15 May 2025 23:44:27 +0200 (CEST) Received: from mails.dpdk.org (localhost [127.0.0.1]) by mails.dpdk.org (Postfix) with ESMTP id F2E7340ED0; Thu, 15 May 2025 23:44:26 +0200 (CEST) Received: from mail-pl1-f226.google.com (mail-pl1-f226.google.com [209.85.214.226]) by mails.dpdk.org (Postfix) with ESMTP id C341C40655 for ; Thu, 15 May 2025 23:44:25 +0200 (CEST) Received: by mail-pl1-f226.google.com with SMTP id d9443c01a7336-231c86bffc1so10172965ad.0 for ; Thu, 15 May 2025 14:44:25 -0700 (PDT) DKIM-Signature: v=1; a=rsa-sha256; c=relaxed/relaxed; d=iol.unh.edu; s=unh-iol; t=1747345465; x=1747950265; darn=dpdk.org; h=references:in-reply-to:cc:to:from:subject:message-id:date:from:to :cc:subject:date:message-id:reply-to; bh=OOpjMcP/gWs3qq065hhjssN9hQI/zq8sbRM5boVKB9Q=; b=WlRo9zPvVPaNrcEDidCnA+AD11vynIepGCRzsiMUJpP0i27CJGpyP/BEbF95xpROTF FWcRoJ/wcM4xRR5pCVf+g7D+6cGdtT2TRkM5So3XOuCb3hodK6EVf4wAxiw3AdYMAmtF 6IwT6vzUr0fvYac7JPACnwky3LbHnLPmxZjm0= X-Google-DKIM-Signature: v=1; a=rsa-sha256; c=relaxed/relaxed; d=1e100.net; s=20230601; t=1747345465; x=1747950265; h=references:in-reply-to:cc:to:from:subject:message-id:date :x-gm-message-state:from:to:cc:subject:date:message-id:reply-to; bh=OOpjMcP/gWs3qq065hhjssN9hQI/zq8sbRM5boVKB9Q=; b=punGuh+T7heaeHgn3tu0R336fvtgUj5N2IhFI2T8C44Nh5q/3TgbzWMq2xGrYsDVer 9he8cRJ0IXlxfwr/CO+JyVOKA92TSqPm1PpMgNuXM2SWfdd1vtGhSk7Dqr/z3e3y0Th3 tXwrefatdyX6j9yyRfbJDDnQi7rBrMZtF5wqSY1o9f33YQ3zgXQIBLcltCoSZHqqE2Tv xJ5NhJhfq5ctRg/jqddGSwuomct8WVYFUNdXu+sE9Ou0eyOJwNT/lM2VyhBaa0WHnTNh O59frPYnABTsdK21z8K5jcw1w3igiF4OXwr+fUt4fpy/0XzTPWU1T6gUbAvsOTe5XXdR iH7g== X-Gm-Message-State: AOJu0Yz+eMKqlup2Gl8XCMRy6/RwV9CwsNXxzXf7bhPsug1bsokKXOjT RxZTYrt7aHG5KuafIHERORZL6IsbwtGFkbH45q1pF3RYUXAk+ZKYKD+H8gb3fhY2HlGViSU7Dz7 1p38ZfrMTFrc7kq2qWVeIOl+5w1aNn2qjbLx361UEzCMU X-Gm-Gg: ASbGnctOaELCYCzJT0+c66M6dY4GwRuYlBWgiM0reae9j0CvEXVePxV63kNS7TTmAXN hUQgEpK14wD8cReZMyJJZYclyDLeEjRknACT3aX/r4kE/SP/sXFmBt6kQZmrJvWI7Xdelj8QUTP dJFCkU+nBkpLBqN8KbnYvufmvxSVHSKbYnWeu0P0Ao4kyP3mBv7F8OI5E/T7JhJdylhtPEUn8ge 2oHChBzRCGSzakjnN++FSnzRUOdwweXUtJxH1XAtvL0DgMXccv2VXt92yJe3lkBZZlfA8awMsjB WjtJs6xLZxnsOMwa1fHtZO5oqmJwhOIYQaKZsJKrPIwbdvJqPN2arC9Qtbw= X-Google-Smtp-Source: AGHT+IG0tsB1NlZqb17apKK548sTEwgXYnTSxrGlDqmjSeSrbHKXAButbnM1eb4K0IBzNuhoLN2zSsBT9FnI X-Received: by 2002:a17:903:2284:b0:22e:50fa:50d6 with SMTP id d9443c01a7336-231de3ae579mr1302575ad.37.1747345465015; Thu, 15 May 2025 14:44:25 -0700 (PDT) Received: from postal.iol.unh.edu (postal.iol.unh.edu. [132.177.123.84]) by smtp-relay.gmail.com with ESMTPS id d9443c01a7336-231d4acaa18sm289095ad.42.2025.05.15.14.44.24 (version=TLS1_2 cipher=ECDHE-ECDSA-AES128-GCM-SHA256 bits=128/128); Thu, 15 May 2025 14:44:25 -0700 (PDT) X-Relaying-Domain: iol.unh.edu Date: Thu, 15 May 2025 14:44:25 -0700 (PDT) Message-ID: <68266039.170a0220.6d6d6.19d5SMTPIN_ADDED_MISSING@mx.google.com> Received: from [172.21.0.7] (unknown [172.18.0.240]) by postal.iol.unh.edu (Postfix) with ESMTP id 2EEAE6052471; Thu, 15 May 2025 17:44:24 -0400 (EDT) Subject: |SUCCESS| pw153459 [PATCH] [v3] build: automatically report minimum From: dpdklab@iol.unh.edu To: Test Report Cc: dpdk-test-reports@iol.unh.edu In-Reply-To: <20250515134647.932537-1-bruce.richardson@intel.com> References: <20250515134647.932537-1-bruce.richardson@intel.com> Content-Type: text/plain X-BeenThere: test-report@dpdk.org X-Mailman-Version: 2.1.29 Precedence: list List-Id: automatic DPDK test reports List-Unsubscribe: , List-Archive: List-Post: List-Help: List-Subscribe: , Errors-To: test-report-bounces@dpdk.org Test-Label: iol-unit-amd64-testing Test-Status: SUCCESS http://dpdk.org/patch/153459 _Testing PASS_ Submitter: Bruce Richardson Date: Thursday, May 15 2025 13:46:47 DPDK git baseline: Repo:dpdk Branch: master CommitID:4029c5e3f2c6e950e8579be2401dab12e4209d53 153459 --> testing pass Upstream job id: Generic-VM-Unit-Test-DPDK#28543 Test environment and result as below: +---------------------+----------------+ | Environment | dpdk_unit_test | +=====================+================+ | CentOS Stream 9 | PASS | +---------------------+----------------+ | Debian 12 | PASS | +---------------------+----------------+ | CentOS Stream 10 | PASS | +---------------------+----------------+ | Fedora 40 (Clang) | PASS | +---------------------+----------------+ | Fedora 40 | PASS | +---------------------+----------------+ | Fedora 41 (Clang) | PASS | +---------------------+----------------+ | Ubuntu 24.04 | PASS | +---------------------+----------------+ | RHEL9 | PASS | +---------------------+----------------+ | Ubuntu 20.04 | PASS | +---------------------+----------------+ | Fedora 41 | PASS | +---------------------+----------------+ | RHEL8 | PASS | +---------------------+----------------+ | Ubuntu 22.04 | PASS | +---------------------+----------------+ | Windows Server 2022 | PASS | +---------------------+----------------+ CentOS Stream 9 Kernel: Depends on container host Compiler: gcc 11.5.0 20240719 (Red Hat 11.5.0-2) Debian 12 Kernel: Depends on container host Compiler: gcc (Debian 12.2.0-14) 12.2.0 CentOS Stream 10 Kernel: Depends on container host Compiler: gcc 14.2.1 20241104 (Red Hat 14.2.1-6) Fedora 40 (Clang) Kernel: Depends on container host Compiler: clang 18.1.8 (Fedora 18.1.8-1.fc40) Fedora 40 Kernel: Depends on container host Compiler: gcc 14.2.1 20240912 (Red Hat 14.2.1-3) Fedora 41 (Clang) Kernel: Depends on container host Compiler: clang 19.1.5 (Fedora 19.1.5-1.fc41) Ubuntu 24.04 Kernel: Depends on container host Compiler: gcc (Ubuntu 13.3.0-6ubuntu2~24.04) 13.3.0 RHEL9 Kernel: Depends on container host Compiler: gcc 11.5.0 20240719 (Red Hat 11.5.0-2) Ubuntu 20.04 Kernel: Depends on container host Compiler: gcc (Ubuntu 9.4.0-1ubuntu1~20.04.2) 9.4.0 Fedora 41 Kernel: Depends on container host Compiler: gcc 14.2.1 20240912 (Red Hat 14.2.1-3) RHEL8 Kernel: Depends on container host Compiler: gcc 8.5.0 20210514 (Red Hat 8.5.0-22) Ubuntu 22.04 Kernel: Depends on container host Compiler: gcc (Ubuntu 11.4.0-1ubuntu1~22.04) 11.4.0 Windows Server 2022 Kernel: 10.0.20348.2031 Compiler: clang 15.0.7, gcc 14.1.0 (MinGW), and MSVC VS 19.39.33521 To view detailed results, visit: https://lab.dpdk.org/results/dashboard/patchsets/33182/ UNH-IOL DPDK Community Lab To manage your email subscriptions, visit: https://lab.dpdk.org/results/dashboard/preferences/subscriptions/