From mboxrd@z Thu Jan 1 00:00:00 1970 Return-Path: Received: from mails.dpdk.org (mails.dpdk.org [217.70.189.124]) by inbox.dpdk.org (Postfix) with ESMTP id 6C77C4675A for ; Thu, 15 May 2025 23:56:28 +0200 (CEST) Received: from mails.dpdk.org (localhost [127.0.0.1]) by mails.dpdk.org (Postfix) with ESMTP id 473D940ED0; Thu, 15 May 2025 23:56:28 +0200 (CEST) Received: from mail-pf1-f227.google.com (mail-pf1-f227.google.com [209.85.210.227]) by mails.dpdk.org (Postfix) with ESMTP id D334C40655 for ; Thu, 15 May 2025 23:56:26 +0200 (CEST) Received: by mail-pf1-f227.google.com with SMTP id d2e1a72fcca58-7426c44e014so1679575b3a.3 for ; Thu, 15 May 2025 14:56:26 -0700 (PDT) DKIM-Signature: v=1; a=rsa-sha256; c=relaxed/relaxed; d=iol.unh.edu; s=unh-iol; t=1747346186; x=1747950986; darn=dpdk.org; h=references:in-reply-to:cc:to:from:subject:message-id:date:from:to :cc:subject:date:message-id:reply-to; bh=NCo2945Znrme3a6T03QcVpbnqjvJvqC5l+xOjaChRyE=; b=PA1TS6CNSm4DoMyJcI8gutXDJK/CrQs3yYwwPnPGFJA2y9HrcnVdDKb2OWyCRoSxc4 tiJyjinIsxBvJhniQxMaG7Xg4BFlauNZ0QW9ywZRpMOSkJsYjL7+EzSk/g9RKrXWCC2G s8kFGm8ue7eJfThmPlcS8M7C0MDgfKhD+F5Dk= X-Google-DKIM-Signature: v=1; a=rsa-sha256; c=relaxed/relaxed; d=1e100.net; s=20230601; t=1747346186; x=1747950986; h=references:in-reply-to:cc:to:from:subject:message-id:date :x-gm-message-state:from:to:cc:subject:date:message-id:reply-to; bh=NCo2945Znrme3a6T03QcVpbnqjvJvqC5l+xOjaChRyE=; b=AQjC5uN3xYA2DSJzZlCbItO2/l/xBoprX0N3wR1otVf5yvJkfm7+jXuitIK+1Smmip eW7PYy/OCAbxEqenqUmunNNqhILLlTxVWTrQbcCrXI/lyvnITcf+eh8BzOpVPQxcBn4K E3EJnWeLy+K1nWG7eUQ34D20OZsi0obiB1bASjs3Rc+LApLANELFHF1poQQ0igruF608 WP3KIspK05nU4JCVreEU9qWTznPAj8zVidSUR9WA7ZUiZE/xyXWZa3S/qDfMWpPBA5II ktKOGO7Wk1fx1OdnKF/77Vggjjq0DuM6MJRyBjap+XDW/llESaNLmkheCGUXkQKtwrvU Tsew== X-Gm-Message-State: AOJu0YxsLRIRdQ4SqETUcjmP2zqiLKCtNfN+HcO9LebLf7FEEbdMpbA8 kCKj6PDWt9Vrco9Sbco6dR7T8Nx31Y/xR5Xg3wofvLdFvb8iidAqsdCfeKf9H2JyHJIQxIW1u0D jbvHKh/CvpRGK/HaSjqBxdTQdsT6gkFsTHoJ0SZYd0k/SnKMwh4G1LE1Jgo0x X-Gm-Gg: ASbGncswv+C7wCNjbMsZ3xLHJJ0q2VzeABWHa5dWPXk++C4JCR5cLKv0h3DpPCC3LAD cWw2120ZvEesQ9DHVIZCf8M7bI0I03jGkgUuy+/LaV2GtywkpzTDxf39DKfYvl7niHj/AuhDuDP W77X8xuOpn6VDPqxE9dGbYZWJ0gmIb7njy2fg8bQIhgu8LUQ+tVU/ob5ZsLkxl4wRRwZqRzdiP6 4IeWt9UVDYHyy699XC8rWucDDioUlOmptWVGZtHrdxCJTUUktgCFsnpNC0IucCSpOpC9lLYlMv4 qNfJzgPFDlupy/tNWJ13OVS9Ywj679oLveEC X-Google-Smtp-Source: AGHT+IE4rpmcIwhKsrRW3lNUt3nOifodwzBFlTkqZ29yJEH1ah7inR2cqsSgRTKC0TqEMJfwBOd641kMgYnY X-Received: by 2002:aa7:888e:0:b0:742:39fa:13df with SMTP id d2e1a72fcca58-742a98a2520mr1113172b3a.19.1747346185705; Thu, 15 May 2025 14:56:25 -0700 (PDT) Received: from postal.iol.unh.edu (postal.iol.unh.edu. [2606:4100:3880:1234::84]) by smtp-relay.gmail.com with ESMTPS id d2e1a72fcca58-742a9886185sm29512b3a.22.2025.05.15.14.56.25 (version=TLS1_2 cipher=ECDHE-ECDSA-AES128-GCM-SHA256 bits=128/128); Thu, 15 May 2025 14:56:25 -0700 (PDT) X-Relaying-Domain: iol.unh.edu Date: Thu, 15 May 2025 14:56:25 -0700 (PDT) Message-ID: <68266309.050a0220.3a707a.181dSMTPIN_ADDED_MISSING@mx.google.com> Received: from [172.21.0.5] (unknown [172.18.0.240]) by postal.iol.unh.edu (Postfix) with ESMTP id CF4006052471; Thu, 15 May 2025 17:56:24 -0400 (EDT) Subject: |SUCCESS| pw153459 [PATCH] [v3] build: automatically report minimum From: dpdklab@iol.unh.edu To: Test Report Cc: dpdk-test-reports@iol.unh.edu In-Reply-To: <20250515134647.932537-1-bruce.richardson@intel.com> References: <20250515134647.932537-1-bruce.richardson@intel.com> Content-Type: text/plain X-BeenThere: test-report@dpdk.org X-Mailman-Version: 2.1.29 Precedence: list List-Id: automatic DPDK test reports List-Unsubscribe: , List-Archive: List-Post: List-Help: List-Subscribe: , Errors-To: test-report-bounces@dpdk.org Test-Label: iol-unit-amd64-testing Test-Status: SUCCESS http://dpdk.org/patch/153459 _Testing PASS_ Submitter: Bruce Richardson Date: Thursday, May 15 2025 13:46:47 DPDK git baseline: Repo:dpdk Branch: master CommitID:4029c5e3f2c6e950e8579be2401dab12e4209d53 153459 --> testing pass Upstream job id: Generic-VM-Unit-Test-DPDK#28544 Test environment and result as below: +---------------------+----------------+ | Environment | dpdk_unit_test | +=====================+================+ | CentOS Stream 9 | PASS | +---------------------+----------------+ | Debian 12 | PASS | +---------------------+----------------+ | CentOS Stream 10 | PASS | +---------------------+----------------+ | Fedora 40 (Clang) | PASS | +---------------------+----------------+ | Fedora 40 | PASS | +---------------------+----------------+ | Fedora 41 (Clang) | PASS | +---------------------+----------------+ | Ubuntu 24.04 | PASS | +---------------------+----------------+ | RHEL9 | PASS | +---------------------+----------------+ | Ubuntu 20.04 | PASS | +---------------------+----------------+ | Fedora 41 | PASS | +---------------------+----------------+ | RHEL8 | PASS | +---------------------+----------------+ | Ubuntu 22.04 | PASS | +---------------------+----------------+ | Windows Server 2022 | PASS | +---------------------+----------------+ CentOS Stream 9 Kernel: Depends on container host Compiler: gcc 11.5.0 20240719 (Red Hat 11.5.0-2) Debian 12 Kernel: Depends on container host Compiler: gcc (Debian 12.2.0-14) 12.2.0 CentOS Stream 10 Kernel: Depends on container host Compiler: gcc 14.2.1 20241104 (Red Hat 14.2.1-6) Fedora 40 (Clang) Kernel: Depends on container host Compiler: clang 18.1.8 (Fedora 18.1.8-1.fc40) Fedora 40 Kernel: Depends on container host Compiler: gcc 14.2.1 20240912 (Red Hat 14.2.1-3) Fedora 41 (Clang) Kernel: Depends on container host Compiler: clang 19.1.5 (Fedora 19.1.5-1.fc41) Ubuntu 24.04 Kernel: Depends on container host Compiler: gcc (Ubuntu 13.3.0-6ubuntu2~24.04) 13.3.0 RHEL9 Kernel: Depends on container host Compiler: gcc 11.5.0 20240719 (Red Hat 11.5.0-2) Ubuntu 20.04 Kernel: Depends on container host Compiler: gcc (Ubuntu 9.4.0-1ubuntu1~20.04.2) 9.4.0 Fedora 41 Kernel: Depends on container host Compiler: gcc 14.2.1 20240912 (Red Hat 14.2.1-3) RHEL8 Kernel: Depends on container host Compiler: gcc 8.5.0 20210514 (Red Hat 8.5.0-22) Ubuntu 22.04 Kernel: Depends on container host Compiler: gcc (Ubuntu 11.4.0-1ubuntu1~22.04) 11.4.0 Windows Server 2022 Kernel: 10.0.20348.2031 Compiler: clang 15.0.7, gcc 14.1.0 (MinGW), and MSVC VS 19.39.33521 To view detailed results, visit: https://lab.dpdk.org/results/dashboard/patchsets/33182/ UNH-IOL DPDK Community Lab To manage your email subscriptions, visit: https://lab.dpdk.org/results/dashboard/preferences/subscriptions/