From mboxrd@z Thu Jan 1 00:00:00 1970 Return-Path: Received: from mails.dpdk.org (mails.dpdk.org [217.70.189.124]) by inbox.dpdk.org (Postfix) with ESMTP id 68D8D4675A for ; Fri, 16 May 2025 00:09:56 +0200 (CEST) Received: from mails.dpdk.org (localhost [127.0.0.1]) by mails.dpdk.org (Postfix) with ESMTP id 308ED40144; Fri, 16 May 2025 00:09:56 +0200 (CEST) Received: from mail-yw1-f227.google.com (mail-yw1-f227.google.com [209.85.128.227]) by mails.dpdk.org (Postfix) with ESMTP id 7F51A400EF for ; Fri, 16 May 2025 00:09:54 +0200 (CEST) Received: by mail-yw1-f227.google.com with SMTP id 00721157ae682-70b50e0566fso15141927b3.0 for ; Thu, 15 May 2025 15:09:54 -0700 (PDT) DKIM-Signature: v=1; a=rsa-sha256; c=relaxed/relaxed; d=iol.unh.edu; s=unh-iol; t=1747346993; x=1747951793; darn=dpdk.org; h=references:in-reply-to:cc:to:from:subject:message-id:date:from:to :cc:subject:date:message-id:reply-to; bh=d3EA2tc0JGf7/9reA8mAsU1PgUX5cHzSJeViLUxo91E=; b=Clazv/jPb0soc29M8CPJmmWv6JjEWU6Z8OEXpAKHlXrlaqBhMiZ4G79NB2aaqUvNvw KEl0euMcT/bMFY7YdxpyCt/QQxu9gi54ids1H2GJau6FN6h3RvA+G3OmXudQ2EHSsot8 BfE3oBTlsBwQcjdfGbkaNi+ROWJJcGo7RvLx0= X-Google-DKIM-Signature: v=1; a=rsa-sha256; c=relaxed/relaxed; d=1e100.net; s=20230601; t=1747346993; x=1747951793; h=references:in-reply-to:cc:to:from:subject:message-id:date :x-gm-message-state:from:to:cc:subject:date:message-id:reply-to; bh=d3EA2tc0JGf7/9reA8mAsU1PgUX5cHzSJeViLUxo91E=; b=ThlafbwpQRLnlgRy7/x21WT+D7ukshAgJAG20fxiRB3SVsL9QDrS+7+Jf4Db2sgrYo QxDbnq1OObvVaxJHMZI3ItH8cmS88R1C36wTqFCiKjMpQgKLlYAmF+J+sAuG5402Ak4T 7PYqSBbOhcxxr+3ZPSaLOZKvLYTw6vxpnitD7b9tWWz5jF298CQ/RklNVeTffTtq8lhL E73gZePwXmhWfbNZiYCTM4Mx1oORwNGn0luA5ygl4p2d8VJjXdPI6D83lUaQKZTwN4yX vbAxSUL0uwa/8jg3wU2Z+0tofaj04ww6VVS+Vhexp1H86geus5efyZVxsPlYbNjBmxBW 61mg== X-Gm-Message-State: AOJu0YxPmFhiZO60J11y6ZmRKqI9y3cpeE75+DC51kDBHsxxt9bSoFW0 dxA0ndGDaEi5WAk1v21vIDCjy0bsoxm76s60EhDaEvD+lr/AYsrV+J3RerCLeihIn1ftxZa0AQ6 eE21DRY8z9lTFALihaGEmIm9kg1ESCQh1gNX6s0p/mUYTYddFZ2QgeTtTHAAk X-Gm-Gg: ASbGncvNVUND1ChKujw9zFpecyXVCt8PTVXMQ/75j0MAq899fA472fbK9sahAyRi9m2 9Oc5Owfe4HupKuiHwHosgLnyO6H8QY8Pdont1JjiF2haVb9/9sF96wLSjNi2wom2Hv6xLG4i8Iy vyWJrS70dyuMcxNyW5oskC8/wgLv8pBvU7DzWD0D89NWFjvCBG0i08OV80WTUckn7JOF3rTQFxO wXRPrKuAxpSqxmiSFs1ixcjZCiF8GNZ23+ggBq2msizP9LI+4o3d5sUbrlvAmzLiVvY1Z89PCKa RdtsRzToOrw5Am6DUg92iuA7WMlHB03D/OV9 X-Google-Smtp-Source: AGHT+IGPEerwtAduDzcSZkuqYBYUCJXekSiXdXHWpaw8cT1WTxsbOxOH5KTB5bzaue+gYYPU75igy3KQ+PLE X-Received: by 2002:a05:6902:2310:b0:e79:10de:47be with SMTP id 3f1490d57ef6-e7b6d398ae4mr648866276.1.1747346993483; Thu, 15 May 2025 15:09:53 -0700 (PDT) Received: from postal.iol.unh.edu (postal.iol.unh.edu. [2606:4100:3880:1234::84]) by smtp-relay.gmail.com with ESMTPS id 3f1490d57ef6-e7b6ad0d435sm29652276.16.2025.05.15.15.09.53 (version=TLS1_2 cipher=ECDHE-ECDSA-AES128-GCM-SHA256 bits=128/128); Thu, 15 May 2025 15:09:53 -0700 (PDT) X-Relaying-Domain: iol.unh.edu Date: Thu, 15 May 2025 15:09:53 -0700 (PDT) Message-ID: <68266631.250a0220.39c02.19c9SMTPIN_ADDED_MISSING@mx.google.com> Received: from [172.21.0.6] (unknown [172.18.0.240]) by postal.iol.unh.edu (Postfix) with ESMTP id 171126052471; Thu, 15 May 2025 18:09:53 -0400 (EDT) Subject: |WARNING| pw153459 [PATCH] [v3] build: automatically report minimum From: dpdklab@iol.unh.edu To: Test Report Cc: dpdk-test-reports@iol.unh.edu In-Reply-To: <20250515134647.932537-1-bruce.richardson@intel.com> References: <20250515134647.932537-1-bruce.richardson@intel.com> Content-Type: text/plain X-BeenThere: test-report@dpdk.org X-Mailman-Version: 2.1.29 Precedence: list List-Id: automatic DPDK test reports List-Unsubscribe: , List-Archive: List-Post: List-Help: List-Subscribe: , Errors-To: test-report-bounces@dpdk.org Test-Label: iol-compile-amd64-testing Test-Status: WARNING http://dpdk.org/patch/153459 _Testing issues_ Submitter: Bruce Richardson Date: Thursday, May 15 2025 13:46:47 DPDK git baseline: Repo:dpdk Branch: master CommitID:4029c5e3f2c6e950e8579be2401dab12e4209d53 153459 --> testing issues Upstream job id: Generic-DPDK-Compile-Meson#388258 Test environment and result as below: +-----------------------------------+--------------------+-------------------+------------------+-------------------+-------------------------+----------------------+ | Environment | dpdk_meson_compile | dpdk_compile_spdk | dpdk_compile_ovs | dpdk_msvc_compile | dpdk_llvm_clang_compile | dpdk_mingw64_compile | +===================================+====================+===================+==================+===================+=========================+======================+ | CentOS Stream 9 | PASS | PASS | SKIPPED | SKIPPED | SKIPPED | SKIPPED | +-----------------------------------+--------------------+-------------------+------------------+-------------------+-------------------------+----------------------+ | CentOS Stream 10 | PASS | SKIPPED | SKIPPED | SKIPPED | SKIPPED | SKIPPED | +-----------------------------------+--------------------+-------------------+------------------+-------------------+-------------------------+----------------------+ | Debian 12 | PASS | PASS | SKIPPED | SKIPPED | SKIPPED | SKIPPED | +-----------------------------------+--------------------+-------------------+------------------+-------------------+-------------------------+----------------------+ | Fedora 40 | PASS | PASS | SKIPPED | SKIPPED | SKIPPED | SKIPPED | +-----------------------------------+--------------------+-------------------+------------------+-------------------+-------------------------+----------------------+ | Fedora 41 | PASS | PASS | PASS | SKIPPED | SKIPPED | SKIPPED | +-----------------------------------+--------------------+-------------------+------------------+-------------------+-------------------------+----------------------+ | Fedora 41 (Clang) | PASS | WARN | PASS | SKIPPED | SKIPPED | SKIPPED | +-----------------------------------+--------------------+-------------------+------------------+-------------------+-------------------------+----------------------+ | RHEL9 | PASS | SKIPPED | SKIPPED | SKIPPED | SKIPPED | SKIPPED | +-----------------------------------+--------------------+-------------------+------------------+-------------------+-------------------------+----------------------+ | RHEL8 | PASS | SKIPPED | SKIPPED | SKIPPED | SKIPPED | SKIPPED | +-----------------------------------+--------------------+-------------------+------------------+-------------------+-------------------------+----------------------+ | openSUSE Leap 15 | PASS | SKIPPED | SKIPPED | SKIPPED | SKIPPED | SKIPPED | +-----------------------------------+--------------------+-------------------+------------------+-------------------+-------------------------+----------------------+ | Ubuntu 20.04 | PASS | SKIPPED | SKIPPED | SKIPPED | SKIPPED | SKIPPED | +-----------------------------------+--------------------+-------------------+------------------+-------------------+-------------------------+----------------------+ | Ubuntu 22.04 | PASS | PASS | SKIPPED | SKIPPED | SKIPPED | SKIPPED | +-----------------------------------+--------------------+-------------------+------------------+-------------------+-------------------------+----------------------+ | Ubuntu 24.04 | PASS | PASS | PASS | SKIPPED | SKIPPED | SKIPPED | +-----------------------------------+--------------------+-------------------+------------------+-------------------+-------------------------+----------------------+ | Alpine | PASS | SKIPPED | SKIPPED | SKIPPED | SKIPPED | SKIPPED | +-----------------------------------+--------------------+-------------------+------------------+-------------------+-------------------------+----------------------+ | Ubuntu 24.04 32 Bit Cross Compile | PASS | SKIPPED | SKIPPED | SKIPPED | SKIPPED | SKIPPED | +-----------------------------------+--------------------+-------------------+------------------+-------------------+-------------------------+----------------------+ | FreeBSD 13.5 | PASS | SKIPPED | SKIPPED | SKIPPED | SKIPPED | SKIPPED | +-----------------------------------+--------------------+-------------------+------------------+-------------------+-------------------------+----------------------+ | FreeBSD 14.2 | PASS | SKIPPED | SKIPPED | SKIPPED | SKIPPED | SKIPPED | +-----------------------------------+--------------------+-------------------+------------------+-------------------+-------------------------+----------------------+ | Fedora 40 (Clang) | PASS | WARN | SKIPPED | SKIPPED | SKIPPED | SKIPPED | +-----------------------------------+--------------------+-------------------+------------------+-------------------+-------------------------+----------------------+ | Windows Server 2022 | SKIPPED | SKIPPED | SKIPPED | PASS | PASS | PASS | +-----------------------------------+--------------------+-------------------+------------------+-------------------+-------------------------+----------------------+ ==== 20 line log output for Fedora 40 (Clang) (dpdk_compile_spdk): ==== --- Failed to get log output --- ==== End log output ==== CentOS Stream 9 Kernel: Depends on container host Compiler: gcc 11.5.0 20240719 (Red Hat 11.5.0-2) CentOS Stream 10 Kernel: Depends on container host Compiler: gcc 14.2.1 20241104 (Red Hat 14.2.1-6) Debian 12 Kernel: Depends on container host Compiler: gcc (Debian 12.2.0-14) 12.2.0 Fedora 40 Kernel: Depends on container host Compiler: gcc 14.2.1 20240912 (Red Hat 14.2.1-3) Fedora 41 Kernel: Depends on container host Compiler: gcc 14.2.1 20240912 (Red Hat 14.2.1-3) Fedora 41 (Clang) Kernel: Depends on container host Compiler: clang 19.1.5 (Fedora 19.1.5-1.fc41) RHEL9 Kernel: Depends on container host Compiler: gcc 11.5.0 20240719 (Red Hat 11.5.0-2) RHEL8 Kernel: Depends on container host Compiler: gcc 8.5.0 20210514 (Red Hat 8.5.0-22) openSUSE Leap 15 Kernel: Depends on container host Compiler: gcc (SUSE Linux) 7.5.0 Ubuntu 20.04 Kernel: Depends on container host Compiler: gcc (Ubuntu 9.4.0-1ubuntu1~20.04.2) 9.4.0 Ubuntu 22.04 Kernel: Depends on container host Compiler: gcc (Ubuntu 11.4.0-1ubuntu1~22.04) 11.4.0 Ubuntu 24.04 Kernel: Depends on container host Compiler: gcc (Ubuntu 13.3.0-6ubuntu2~24.04) 13.3.0 Alpine Kernel: Depends on container host Compiler: gcc (Alpine 14.2.0) 14.2.0 Ubuntu 24.04 32 Bit Cross Compile Kernel: Depends on container host Compiler: gcc (Ubuntu 13.3.0-6ubuntu2~24.04) 13.3.0 FreeBSD 13.5 Kernel: 13.5-RELEASE Compiler: clang 19.1.7 FreeBSD 14.2 Kernel: 14.2-RELEASE Compiler: clang 18.1.6 Fedora 40 (Clang) Kernel: Depends on container host Compiler: clang 18.1.8 (Fedora 18.1.8-1.fc40) Windows Server 2022 Kernel: 10.0.20348.2031 Compiler: clang 15.0.7, gcc 14.1.0 (MinGW), and MSVC VS 19.39.33521 To view detailed results, visit: https://lab.dpdk.org/results/dashboard/patchsets/33182/ UNH-IOL DPDK Community Lab To manage your email subscriptions, visit: https://lab.dpdk.org/results/dashboard/preferences/subscriptions/