From mboxrd@z Thu Jan 1 00:00:00 1970 Return-Path: Received: from mails.dpdk.org (mails.dpdk.org [217.70.189.124]) by inbox.dpdk.org (Postfix) with ESMTP id 97CDA4675A for ; Fri, 16 May 2025 00:11:50 +0200 (CEST) Received: from mails.dpdk.org (localhost [127.0.0.1]) by mails.dpdk.org (Postfix) with ESMTP id 867804111C; Fri, 16 May 2025 00:11:50 +0200 (CEST) Received: from mail-yw1-f226.google.com (mail-yw1-f226.google.com [209.85.128.226]) by mails.dpdk.org (Postfix) with ESMTP id A8541400EF for ; Fri, 16 May 2025 00:11:49 +0200 (CEST) Received: by mail-yw1-f226.google.com with SMTP id 00721157ae682-70811611315so13238277b3.1 for ; Thu, 15 May 2025 15:11:49 -0700 (PDT) DKIM-Signature: v=1; a=rsa-sha256; c=relaxed/relaxed; d=iol.unh.edu; s=unh-iol; t=1747347109; x=1747951909; darn=dpdk.org; h=references:in-reply-to:cc:to:from:subject:message-id:date:from:to :cc:subject:date:message-id:reply-to; bh=SV6Qwc2wHOBn37IQVlNy0kBXr90ec9gPoe7lirh2zMs=; b=L5JLaVojaMGD5xa8gj6KX35UFHdSEwDjgVGh0cexeIuSGp/U+L12ZV3xbpVwybALIu NwW9c8nEmy3/o1MBor9Q0zsfC48ffzWGcF3rhiwEadC1dqqpk2tpEvPTHxFYVoJagJzH DlzMCQdJLo+dI1x4RpvNnFWrLmb65sb2ENu3s= X-Google-DKIM-Signature: v=1; a=rsa-sha256; c=relaxed/relaxed; d=1e100.net; s=20230601; t=1747347109; x=1747951909; h=references:in-reply-to:cc:to:from:subject:message-id:date :x-gm-message-state:from:to:cc:subject:date:message-id:reply-to; bh=SV6Qwc2wHOBn37IQVlNy0kBXr90ec9gPoe7lirh2zMs=; b=fesLhi4zGHnr1Qg6TGQHo0NglmSCvgmza6UqTHKfytWThbTLNtfw6vvhe/J9cM7XfO 1LT7ShSJRxpGCCmAL1fHgekHiI9+Mw4G/DffXbTkSLQBl/cHc9HVnLA0NziX5MQgYavj y7QVgfMluZNJnC9tiP228yjbAbiLUWzxLS9nAxLf3LpRZXvD6nWRDhFmHOMx1Xlx94x6 qy9fXo1LMH1bbp+GvirCkycTRHsvq4Azthroen9o6QYva9KSKTybZ52nA4+ZVkLCtvID aTYw5JKzBWs/Z01c0OasUKjY5JWScdxU87x2zmVblGdOOsnDE9dxZ5Vv5Z7S3WfhjOed mtgw== X-Gm-Message-State: AOJu0YxhXLRM3JdeuTG4M9zZ7RzHg+xuxhcjLfQulr+PTkRJ+Kd2FGlL Tf7gOIspeB7BNRATutVpuElLnJnV/8cFdsT62hNdPDlFwiD0pdr8z1A6Oc3yiiuszCY0sr8QMnF AO+MiSlxmCoD0I4uE4BGiMvZI7IVrYN6VAAJLlXGloVud X-Gm-Gg: ASbGnctxRURybttconpwu1g6V4d77nMHvI6dHypkUFV9r2BCFSQu5gnNnpxLS/T0HBS i5qk3V+55qLALcV6XUV4chq+o16bLHeqsaZFzxgHLjhn0WJM/V0c55gk0Z70e1FynzX2PfJoRDA tBQM1ShqZ4JhUyHRY61mee4hy1/UOw1iOJLojXcbsukURAJvpAcBFlMAUStgdl3j37i6BLcfeyU s+XE/EuAapeOyvp+wr7Kh15Z9wr/yMwjDLZmEMNmK55ouKczleAI/nKQCJektsTtKfzWD5yckFk ZwJeJrBASPS7xb9s4nTVSQktkqFXgla/BCrFgaXNXbzc/AjqIgfozXqaviY= X-Google-Smtp-Source: AGHT+IGB5fV+6sXht8PdJNw/MnDpq3mJdN1GHiRInQc+OOrzPzHpgCJ2E41dBjJX7k/URA0tgX7G2GXPjZJd X-Received: by 2002:a05:690c:67ca:b0:6f9:97af:b594 with SMTP id 00721157ae682-70caaf74715mr7221397b3.10.1747347108926; Thu, 15 May 2025 15:11:48 -0700 (PDT) Received: from postal.iol.unh.edu (postal.iol.unh.edu. [132.177.123.84]) by smtp-relay.gmail.com with ESMTPS id 00721157ae682-70ca836b405sm168957b3.34.2025.05.15.15.11.48 (version=TLS1_2 cipher=ECDHE-ECDSA-AES128-GCM-SHA256 bits=128/128); Thu, 15 May 2025 15:11:48 -0700 (PDT) X-Relaying-Domain: iol.unh.edu Date: Thu, 15 May 2025 15:11:48 -0700 (PDT) Message-ID: <682666a4.050a0220.3daa0.0d8fSMTPIN_ADDED_MISSING@mx.google.com> Received: from [172.21.0.8] (unknown [172.18.0.240]) by postal.iol.unh.edu (Postfix) with ESMTP id 910746052471; Thu, 15 May 2025 18:11:48 -0400 (EDT) Subject: |SUCCESS| pw153458 [PATCH] [v2] net/ice: fix flow creation failure From: dpdklab@iol.unh.edu To: Test Report Cc: dpdk-test-reports@iol.unh.edu In-Reply-To: <20250515112348.7746-1-dhanya.r.pillai@intel.com> References: <20250515112348.7746-1-dhanya.r.pillai@intel.com> Content-Type: text/plain X-BeenThere: test-report@dpdk.org X-Mailman-Version: 2.1.29 Precedence: list List-Id: automatic DPDK test reports List-Unsubscribe: , List-Archive: List-Post: List-Help: List-Subscribe: , Errors-To: test-report-bounces@dpdk.org Test-Label: iol-unit-amd64-testing Test-Status: SUCCESS http://dpdk.org/patch/153458 _Testing PASS_ Submitter: Dhanya Pillai Date: Thursday, May 15 2025 11:23:44 DPDK git baseline: Repo:dpdk Branch: master CommitID:51e889518fc861f1af5acbbc133a75203225655c 153458 --> testing pass Upstream job id: Generic-Unit-Test-DPDK#338142 Test environment and result as below: +-------------------+----------------+ | Environment | dpdk_unit_test | +===================+================+ | Fedora 40 | PASS | +-------------------+----------------+ | CentOS Stream 10 | PASS | +-------------------+----------------+ | Debian 12 | PASS | +-------------------+----------------+ | Fedora 40 (Clang) | PASS | +-------------------+----------------+ | Fedora 41 | PASS | +-------------------+----------------+ | Fedora 41 (Clang) | PASS | +-------------------+----------------+ | CentOS Stream 9 | PASS | +-------------------+----------------+ | RHEL9 | PASS | +-------------------+----------------+ | RHEL8 | PASS | +-------------------+----------------+ | Ubuntu 20.04 | PASS | +-------------------+----------------+ | Ubuntu 24.04 | PASS | +-------------------+----------------+ | Ubuntu 22.04 | PASS | +-------------------+----------------+ Fedora 40 Kernel: Depends on container host Compiler: gcc 14.2.1 20240912 (Red Hat 14.2.1-3) CentOS Stream 10 Kernel: Depends on container host Compiler: gcc 14.2.1 20241104 (Red Hat 14.2.1-6) Debian 12 Kernel: Depends on container host Compiler: gcc (Debian 12.2.0-14) 12.2.0 Fedora 40 (Clang) Kernel: Depends on container host Compiler: clang 18.1.8 (Fedora 18.1.8-1.fc40) Fedora 41 Kernel: Depends on container host Compiler: gcc 14.2.1 20240912 (Red Hat 14.2.1-3) Fedora 41 (Clang) Kernel: Depends on container host Compiler: clang 19.1.5 (Fedora 19.1.5-1.fc41) CentOS Stream 9 Kernel: Depends on container host Compiler: gcc 11.5.0 20240719 (Red Hat 11.5.0-2) RHEL9 Kernel: Depends on container host Compiler: gcc 11.5.0 20240719 (Red Hat 11.5.0-2) RHEL8 Kernel: Depends on container host Compiler: gcc 8.5.0 20210514 (Red Hat 8.5.0-22) Ubuntu 20.04 Kernel: Depends on container host Compiler: gcc (Ubuntu 9.4.0-1ubuntu1~20.04.2) 9.4.0 Ubuntu 24.04 Kernel: Depends on container host Compiler: gcc (Ubuntu 13.3.0-6ubuntu2~24.04) 13.3.0 Ubuntu 22.04 Kernel: Depends on container host Compiler: gcc (Ubuntu 11.4.0-1ubuntu1~22.04) 11.4.0 To view detailed results, visit: https://lab.dpdk.org/results/dashboard/patchsets/33181/ UNH-IOL DPDK Community Lab To manage your email subscriptions, visit: https://lab.dpdk.org/results/dashboard/preferences/subscriptions/