From mboxrd@z Thu Jan 1 00:00:00 1970 Return-Path: Received: from mails.dpdk.org (mails.dpdk.org [217.70.189.124]) by inbox.dpdk.org (Postfix) with ESMTP id 91E434675A for ; Fri, 16 May 2025 00:20:47 +0200 (CEST) Received: from mails.dpdk.org (localhost [127.0.0.1]) by mails.dpdk.org (Postfix) with ESMTP id 6B86840144; Fri, 16 May 2025 00:20:47 +0200 (CEST) Received: from mail-il1-f225.google.com (mail-il1-f225.google.com [209.85.166.225]) by mails.dpdk.org (Postfix) with ESMTP id B26C0400EF for ; Fri, 16 May 2025 00:20:46 +0200 (CEST) Received: by mail-il1-f225.google.com with SMTP id e9e14a558f8ab-3da73df6c4eso11158215ab.0 for ; Thu, 15 May 2025 15:20:46 -0700 (PDT) DKIM-Signature: v=1; a=rsa-sha256; c=relaxed/relaxed; d=iol.unh.edu; s=unh-iol; t=1747347646; x=1747952446; darn=dpdk.org; h=references:in-reply-to:cc:to:from:subject:message-id:date:from:to :cc:subject:date:message-id:reply-to; bh=OmglCiwE/tZPmNNaqh0dJ/B7qlHbro3DIyD1pff19LI=; b=PTvRHCGIq00rnrf4f3t3Ilrd1wCgShSga2NhjARmX8TvdVOgV/JFo5BuWvf5vSalKH APGSshkfTRDqk2Xx5Lz0KxBoUWxUeSWu+fMNQkhywFBwcfofqpZ11MqPMcAZarA36M0y KapMhvF4Fy4Gxp1wF3N0SjyKrjA8NlvVbuads= X-Google-DKIM-Signature: v=1; a=rsa-sha256; c=relaxed/relaxed; d=1e100.net; s=20230601; t=1747347646; x=1747952446; h=references:in-reply-to:cc:to:from:subject:message-id:date :x-gm-message-state:from:to:cc:subject:date:message-id:reply-to; bh=OmglCiwE/tZPmNNaqh0dJ/B7qlHbro3DIyD1pff19LI=; b=TXyoS807c4jUx0GGpK6frPxW1jGachtolNccvxOCQeW+rrbdiKiYf3+S18dpGBq0Nr AlYz1Y9C3JBJwQWFRmW+mMn6k+msEqbAYWsDDPQhv528aqbkaCmjYVH7wSt5ZzcRLn8n ASo9EW7HylvehfXga9hMV9zaupZQAO9NBPDY2T5e8jABGywDRtSlUb/8eLD+qwL7lcZX RWLoULoEiVLtE8YOiTrpUoMxnaZOwjj1hXWHOcPuH1ymaXQJcHgvyG2F1pwzhYLYDrf0 SJZSHxD2z8aqmtVB8zum6xpjB6z29FwdacFuSPFrhBkmaK78rI4QFiIGtPsNiC4JRLU2 S9+Q== X-Gm-Message-State: AOJu0Yw3re147QZ2l+f6nAmHm5droP6zRNCtXwyATUUlf87oUVPfy6F5 uhY4a6hvIINbBaCdSp0DVQqEK0Gy2dPtcKvmP4bzNvEUzNRqaOvJR2ZERRMAxS6SgnrfhLHC+BN k7T0wmrjXMbMJjCZ3aI78pQZShzgPw0gQCOaG/bSe7eFgmAh4uuRa9nLvVVCH X-Gm-Gg: ASbGncuoAaGfN5pQwf9ksobplWJgQvqSitOdktjtLE1EwruS047/eIRFZu90SJnQxxO j9V1jBGJKanpGV4fOLWFZTjRnSfiAO7uyeHkvaxhAyZgTI5TLgEUqkJ33fi52p2gyWFP9N6u91t jr4szSfaw4CrfFIa90Phk+LTA3tz4PQqgXyrvrTy9itiK7F4OHefHLChMvQC7spPkipaRDrGiVC Cxgzqb1EfvhQFAhrjEqsugzgUESwk1FrAN6YXSH15/nZLe38FVZQjt2CxePD7MvmgzFJXq1LiWF 2QQ2MACEAlHTFxNOzDC+5ODwhAXAPWQ+P46C X-Google-Smtp-Source: AGHT+IG1chWDmVsi3TbBspsMWU4c5jSwGvrmFKb9iBuYXuDEskDmMo9j/JZEOLi0lMxYjKjfUcOIsGLXhjza X-Received: by 2002:a05:6e02:18c7:b0:3d3:d28e:eae9 with SMTP id e9e14a558f8ab-3db842ba6c1mr22436575ab.7.1747347645956; Thu, 15 May 2025 15:20:45 -0700 (PDT) Received: from postal.iol.unh.edu (postal.iol.unh.edu. [2606:4100:3880:1234::84]) by smtp-relay.gmail.com with ESMTPS id e9e14a558f8ab-3db8442ca7esm285245ab.34.2025.05.15.15.20.45 (version=TLS1_2 cipher=ECDHE-ECDSA-AES128-GCM-SHA256 bits=128/128); Thu, 15 May 2025 15:20:45 -0700 (PDT) X-Relaying-Domain: iol.unh.edu Date: Thu, 15 May 2025 15:20:45 -0700 (PDT) Message-ID: <682668bd.920a0220.116a63.1822SMTPIN_ADDED_MISSING@mx.google.com> Received: from [172.21.0.6] (unknown [172.18.0.240]) by postal.iol.unh.edu (Postfix) with ESMTP id 66BAD6052471; Thu, 15 May 2025 18:20:45 -0400 (EDT) Subject: |SUCCESS| pw153458 [PATCH] [v2] net/ice: fix flow creation failure From: dpdklab@iol.unh.edu To: Test Report Cc: dpdk-test-reports@iol.unh.edu In-Reply-To: <20250515112348.7746-1-dhanya.r.pillai@intel.com> References: <20250515112348.7746-1-dhanya.r.pillai@intel.com> Content-Type: text/plain X-BeenThere: test-report@dpdk.org X-Mailman-Version: 2.1.29 Precedence: list List-Id: automatic DPDK test reports List-Unsubscribe: , List-Archive: List-Post: List-Help: List-Subscribe: , Errors-To: test-report-bounces@dpdk.org Test-Label: iol-unit-amd64-testing Test-Status: SUCCESS http://dpdk.org/patch/153458 _Testing PASS_ Submitter: Dhanya Pillai Date: Thursday, May 15 2025 11:23:44 DPDK git baseline: Repo:dpdk Branch: master CommitID:51e889518fc861f1af5acbbc133a75203225655c 153458 --> testing pass Upstream job id: Generic-VM-Unit-Test-DPDK#28545 Test environment and result as below: +---------------------+----------------+ | Environment | dpdk_unit_test | +=====================+================+ | CentOS Stream 9 | PASS | +---------------------+----------------+ | Fedora 40 | PASS | +---------------------+----------------+ | CentOS Stream 10 | PASS | +---------------------+----------------+ | Debian 12 | PASS | +---------------------+----------------+ | Fedora 40 (Clang) | PASS | +---------------------+----------------+ | Fedora 41 | PASS | +---------------------+----------------+ | Fedora 41 (Clang) | PASS | +---------------------+----------------+ | RHEL8 | PASS | +---------------------+----------------+ | Ubuntu 20.04 | PASS | +---------------------+----------------+ | RHEL9 | PASS | +---------------------+----------------+ | Ubuntu 24.04 | PASS | +---------------------+----------------+ | Ubuntu 22.04 | PASS | +---------------------+----------------+ | Windows Server 2022 | PASS | +---------------------+----------------+ CentOS Stream 9 Kernel: Depends on container host Compiler: gcc 11.5.0 20240719 (Red Hat 11.5.0-2) Fedora 40 Kernel: Depends on container host Compiler: gcc 14.2.1 20240912 (Red Hat 14.2.1-3) CentOS Stream 10 Kernel: Depends on container host Compiler: gcc 14.2.1 20241104 (Red Hat 14.2.1-6) Debian 12 Kernel: Depends on container host Compiler: gcc (Debian 12.2.0-14) 12.2.0 Fedora 40 (Clang) Kernel: Depends on container host Compiler: clang 18.1.8 (Fedora 18.1.8-1.fc40) Fedora 41 Kernel: Depends on container host Compiler: gcc 14.2.1 20240912 (Red Hat 14.2.1-3) Fedora 41 (Clang) Kernel: Depends on container host Compiler: clang 19.1.5 (Fedora 19.1.5-1.fc41) RHEL8 Kernel: Depends on container host Compiler: gcc 8.5.0 20210514 (Red Hat 8.5.0-22) Ubuntu 20.04 Kernel: Depends on container host Compiler: gcc (Ubuntu 9.4.0-1ubuntu1~20.04.2) 9.4.0 RHEL9 Kernel: Depends on container host Compiler: gcc 11.5.0 20240719 (Red Hat 11.5.0-2) Ubuntu 24.04 Kernel: Depends on container host Compiler: gcc (Ubuntu 13.3.0-6ubuntu2~24.04) 13.3.0 Ubuntu 22.04 Kernel: Depends on container host Compiler: gcc (Ubuntu 11.4.0-1ubuntu1~22.04) 11.4.0 Windows Server 2022 Kernel: 10.0.20348.2031 Compiler: clang 15.0.7, gcc 14.1.0 (MinGW), and MSVC VS 19.39.33521 To view detailed results, visit: https://lab.dpdk.org/results/dashboard/patchsets/33181/ UNH-IOL DPDK Community Lab To manage your email subscriptions, visit: https://lab.dpdk.org/results/dashboard/preferences/subscriptions/