From mboxrd@z Thu Jan 1 00:00:00 1970 Return-Path: Received: from mails.dpdk.org (mails.dpdk.org [217.70.189.124]) by inbox.dpdk.org (Postfix) with ESMTP id 33C5D4675A for ; Fri, 16 May 2025 00:26:47 +0200 (CEST) Received: from mails.dpdk.org (localhost [127.0.0.1]) by mails.dpdk.org (Postfix) with ESMTP id 10CAF40144; Fri, 16 May 2025 00:26:47 +0200 (CEST) Received: from mail-pl1-f228.google.com (mail-pl1-f228.google.com [209.85.214.228]) by mails.dpdk.org (Postfix) with ESMTP id 5071F400EF for ; Fri, 16 May 2025 00:26:46 +0200 (CEST) Received: by mail-pl1-f228.google.com with SMTP id d9443c01a7336-22fb33898bbso20767555ad.3 for ; Thu, 15 May 2025 15:26:46 -0700 (PDT) DKIM-Signature: v=1; a=rsa-sha256; c=relaxed/relaxed; d=iol.unh.edu; s=unh-iol; t=1747348005; x=1747952805; darn=dpdk.org; h=references:in-reply-to:cc:to:from:subject:message-id:date:from:to :cc:subject:date:message-id:reply-to; bh=yhpD39c2z7B3UrWcrec0IXVGUov1PsPW8qDoePVd/+M=; b=XoD/0/gpLk7v40cdqK9i8fameFyxg76cpjGQ5uZ7eDYTjP17G/HQRwFe55X1RPJcWl ENwkop97Z0FiHb13GxGBRQFPOwcMhufRGSZcM21tX9NHwDwDbTBr2HpD3iyyLtPapvvY FYVWMYCCkH+R+CBQ80P14CLLKZoPk/AcjMAN8= X-Google-DKIM-Signature: v=1; a=rsa-sha256; c=relaxed/relaxed; d=1e100.net; s=20230601; t=1747348005; x=1747952805; h=references:in-reply-to:cc:to:from:subject:message-id:date :x-gm-message-state:from:to:cc:subject:date:message-id:reply-to; bh=yhpD39c2z7B3UrWcrec0IXVGUov1PsPW8qDoePVd/+M=; b=uCHJ8959qJYD11ercfd7SbIB6IndU7cTCjBBnru0aLnHzlNd207YHZyeEyu0DABz/B 54WhojpfHnGa7LsFCJaKXaHfhH7gIAfyjJfAlzrrifIfaU3Wutd9H0Otk44E+UYF8xya Vun5ksHSoKA+hhG5qtVrYVY2YM2YWalBIo9aseyCGJFw4bWU0ew8avPF+5/LuNWHBh6d E4gen38cU+A5tIR8wVuUzm52gY5pW5DZRB4FzO/JgZjhOioMv2D/WUC5ppyOwcwQg4Fg p+aROxVUzVNhif9jra4SUZ0jZMWozPrALOGKGmF5C0C2pKkg2rV3/XeMukCKztmcfnlC X1Bw== X-Gm-Message-State: AOJu0YwX2R3nhOfT/Ec3vySnOR2IkdGpN1EBJvJnXJFWHiNtMGJTjt4k atUl/7kzEUKq8BKbhEnYc9EoQMvOi3wXlG+14J31XHNJ1f7e3xB9wgFjnftmc5ovuu5mzzxm3Aj fl8k6sFpzBZBG0mCNCKB9gOMjz1MFT8kl83nzoUr0VbeX X-Gm-Gg: ASbGncuD8qVAndg7MbMksgJsbygr7r17pZjd5KPcgH/J1xSMGIaBXh+KTfqE/1qBqbe Nx+jw2OnsHj1p2oLzUOint6iLhM+XtalhnLbgOnHJ+XcxaIKbnfZCeo/5fB8Zl1jZqqKlOZu2oM uREhacPFou5/TG3eV+jZvmgnE3DsYLU9gcEC+sVmCQLzsKtmu27krv5CZtFpD93vc/wG+9Brc8d lrmsuQ3g3Mz1ztyZGXaJarSeeoj7TFf6DqQP+Wwyi5Uv5Cbmac/xTkryCn244nTg2QJwaYp/QNC s7Eq3XaCztHzY0g7iSeQSSdI4XWwzzkSbUbEosegshIGF6FVy+z/ouxHGwI= X-Google-Smtp-Source: AGHT+IGi9BOxZg7Y6Hki5k1e5gaY2OpdC71G6ExZULvFtbSmiu1l700yR1MnfQ1du7Ry5GFMavpZIa3APCFN X-Received: by 2002:a17:90b:558e:b0:2ee:8ea0:6b9c with SMTP id 98e67ed59e1d1-30e830fb83cmr427315a91.12.1747348005206; Thu, 15 May 2025 15:26:45 -0700 (PDT) Received: from postal.iol.unh.edu (postal.iol.unh.edu. [132.177.123.84]) by smtp-relay.gmail.com with ESMTPS id 98e67ed59e1d1-30e7d4aed61sm37472a91.8.2025.05.15.15.26.45 (version=TLS1_2 cipher=ECDHE-ECDSA-AES128-GCM-SHA256 bits=128/128); Thu, 15 May 2025 15:26:45 -0700 (PDT) X-Relaying-Domain: iol.unh.edu Date: Thu, 15 May 2025 15:26:45 -0700 (PDT) Message-ID: <68266a25.170a0220.1694d5.1f84SMTPIN_ADDED_MISSING@mx.google.com> Received: from [172.21.0.6] (unknown [172.18.0.240]) by postal.iol.unh.edu (Postfix) with ESMTP id 4B1516052471; Thu, 15 May 2025 18:26:44 -0400 (EDT) Subject: |SUCCESS| pw153458 [PATCH] [v2] net/ice: fix flow creation failure From: dpdklab@iol.unh.edu To: Test Report Cc: dpdk-test-reports@iol.unh.edu In-Reply-To: <20250515112348.7746-1-dhanya.r.pillai@intel.com> References: <20250515112348.7746-1-dhanya.r.pillai@intel.com> Content-Type: text/plain X-BeenThere: test-report@dpdk.org X-Mailman-Version: 2.1.29 Precedence: list List-Id: automatic DPDK test reports List-Unsubscribe: , List-Archive: List-Post: List-Help: List-Subscribe: , Errors-To: test-report-bounces@dpdk.org Test-Label: iol-unit-arm64-testing Test-Status: SUCCESS http://dpdk.org/patch/153458 _Testing PASS_ Submitter: Dhanya Pillai Date: Thursday, May 15 2025 11:23:44 DPDK git baseline: Repo:dpdk Branch: master CommitID:51e889518fc861f1af5acbbc133a75203225655c 153458 --> testing pass Upstream job id: Generic-Unit-Test-DPDK#338165 Test environment and result as below: +-----------------------------+----------------+--------------+------------------------------+---------------------------+ | Environment | dpdk_unit_test | lpm_autotest | cryptodev_sw_snow3g_autotest | cryptodev_sw_zuc_autotest | +=============================+================+==============+==============================+===========================+ | Fedora 40 (ARM) | PASS | SKIPPED | SKIPPED | SKIPPED | +-----------------------------+----------------+--------------+------------------------------+---------------------------+ | CentOS Stream 9 (ARM) | PASS | SKIPPED | SKIPPED | SKIPPED | +-----------------------------+----------------+--------------+------------------------------+---------------------------+ | Debian 12 (arm) | PASS | SKIPPED | PASS | PASS | +-----------------------------+----------------+--------------+------------------------------+---------------------------+ | Fedora 40 (ARM Clang) | PASS | SKIPPED | SKIPPED | SKIPPED | +-----------------------------+----------------+--------------+------------------------------+---------------------------+ | CentOS Stream 10 (ARM) | PASS | SKIPPED | SKIPPED | SKIPPED | +-----------------------------+----------------+--------------+------------------------------+---------------------------+ | Ubuntu 20.04 (ARM) | PASS | SKIPPED | SKIPPED | SKIPPED | +-----------------------------+----------------+--------------+------------------------------+---------------------------+ | Fedora 41 (ARM Clang) | PASS | SKIPPED | SKIPPED | SKIPPED | +-----------------------------+----------------+--------------+------------------------------+---------------------------+ | RHEL9 (ARM) | PASS | SKIPPED | SKIPPED | SKIPPED | +-----------------------------+----------------+--------------+------------------------------+---------------------------+ | Fedora 41 (ARM) | PASS | SKIPPED | SKIPPED | SKIPPED | +-----------------------------+----------------+--------------+------------------------------+---------------------------+ | Ubuntu 24.04 (ARM) | PASS | SKIPPED | SKIPPED | SKIPPED | +-----------------------------+----------------+--------------+------------------------------+---------------------------+ | Ubuntu 22.04 (ARM) | PASS | SKIPPED | SKIPPED | SKIPPED | +-----------------------------+----------------+--------------+------------------------------+---------------------------+ | 32-bit Ubuntu 22.04.4 (ARM) | PASS | SKIPPED | SKIPPED | SKIPPED | +-----------------------------+----------------+--------------+------------------------------+---------------------------+ | Ubuntu 20.04 ARM SVE | SKIPPED | PASS | SKIPPED | SKIPPED | +-----------------------------+----------------+--------------+------------------------------+---------------------------+ Fedora 40 (ARM) Kernel: Depends on container host Compiler: gcc 14.2.1 20240912 (Red Hat 14.2.1-3) CentOS Stream 9 (ARM) Kernel: Depends on container host Compiler: gcc 11.5.0 20240719 (Red Hat 11.5.0-2) Debian 12 (arm) Kernel: Depends on container host Compiler: gcc (Debian 12.2.0-14) 12.2.0 Fedora 40 (ARM Clang) Kernel: Depends on container host Compiler: clang 18.1.8 (Fedora 18.1.8-1.fc40) CentOS Stream 10 (ARM) Kernel: Depends on container host Compiler: gcc 14.2.1 20241104 (Red Hat 14.2.1-6) Ubuntu 20.04 (ARM) Kernel: Depends on container host Compiler: gcc (Ubuntu 9.4.0-1ubuntu1~20.04.2) 9.4.0 Fedora 41 (ARM Clang) Kernel: Depends on container host Compiler: clang 19.1.5 (Fedora 19.1.5-1.fc41) RHEL9 (ARM) Kernel: Depends on container host Compiler: gcc 11.5.0 20240719 (Red Hat 11.5.0-2) Fedora 41 (ARM) Kernel: Depends on container host Compiler: gcc 14.2.1 20240912 (Red Hat 14.2.1-3) Ubuntu 24.04 (ARM) Kernel: Depends on container host Compiler: gcc (Ubuntu 13.3.0-6ubuntu2~24.04) 13.3.0 Ubuntu 22.04 (ARM) Kernel: Depends on container host Compiler: gcc (Ubuntu 11.4.0-1ubuntu1~22.04) 11.4.0 32-bit Ubuntu 22.04.4 (ARM) Kernel: 5.15.83+ aarch64 Compiler: gcc (Ubuntu 11.4.0-1ubuntu1~22.04) 11.4.0 Ubuntu 20.04 ARM SVE Kernel: Depends on container host Compiler: gcc (Ubuntu 10.5.0-1ubuntu1~20.04) 10.5.0 To view detailed results, visit: https://lab.dpdk.org/results/dashboard/patchsets/33181/ UNH-IOL DPDK Community Lab To manage your email subscriptions, visit: https://lab.dpdk.org/results/dashboard/preferences/subscriptions/