From mboxrd@z Thu Jan 1 00:00:00 1970 Return-Path: Received: from mails.dpdk.org (mails.dpdk.org [217.70.189.124]) by inbox.dpdk.org (Postfix) with ESMTP id 067FC4675A for ; Fri, 16 May 2025 00:35:30 +0200 (CEST) Received: from mails.dpdk.org (localhost [127.0.0.1]) by mails.dpdk.org (Postfix) with ESMTP id D582040144; Fri, 16 May 2025 00:35:29 +0200 (CEST) Received: from mail-qv1-f99.google.com (mail-qv1-f99.google.com [209.85.219.99]) by mails.dpdk.org (Postfix) with ESMTP id 7C354400EF for ; Fri, 16 May 2025 00:35:28 +0200 (CEST) Received: by mail-qv1-f99.google.com with SMTP id 6a1803df08f44-6f6e72e7a19so15121786d6.2 for ; Thu, 15 May 2025 15:35:28 -0700 (PDT) DKIM-Signature: v=1; a=rsa-sha256; c=relaxed/relaxed; d=iol.unh.edu; s=unh-iol; t=1747348528; x=1747953328; darn=dpdk.org; h=references:in-reply-to:cc:to:from:subject:message-id:date:from:to :cc:subject:date:message-id:reply-to; bh=WpqelMjEbTc6bzMOZDWTxK6baiuIaiKd2udd/T5E3wM=; b=hSKDWHIGkFy19TSr1v51DRdfQbZa+FHgZPGdwJEDmdcdOBCqcJxhTu+J+7+j34XUdC qRW1OlprOf/XDgyli32nLy7xHZK7oYeCcYhd1WTZlzhOdIuzY7l3vJ/kSZijKpY3Wy89 kJv8SYQtDCwkPxvToD/7l6+H4Xj6IwxDkBlDc= X-Google-DKIM-Signature: v=1; a=rsa-sha256; c=relaxed/relaxed; d=1e100.net; s=20230601; t=1747348528; x=1747953328; h=references:in-reply-to:cc:to:from:subject:message-id:date :x-gm-message-state:from:to:cc:subject:date:message-id:reply-to; bh=WpqelMjEbTc6bzMOZDWTxK6baiuIaiKd2udd/T5E3wM=; b=OV/yQwJJ0A1MVpqVu82jfQK4X8ahY2X/quXh8pCNvs/urbhUHl7S4Gee6a/MYad78s nGAZYl5QnCxfmHn2MfcVX+PTQdEMEOdLtgV1FO7hdIB1IvC16pIbGyZvgUY05vgNCsnC 3DiODHCuPjnOK10/l2+0r7HLTy4FEfpbpRMmlsNjHMS8Vl5TtwsGWVaz7d9kodKyFslp AcT6AtR8LdWEz98aGanflKcoEFt5RmCSBrFcm72YTIOiQlryAGurjnQrDooAjO5Ra6QX ckTBWppb5tbpWbf1Pvyu1ZW7HRV3RTBw6MeOpC5xnhFWj03jQ3wHuflN4J+sCrc+Idop L9lg== X-Gm-Message-State: AOJu0YxuDUvS3W7hFj6okFWjD9GjfP32EDOVDd5wZva1YCIifkqZtGC8 QpE1f6TlPb+G+h7TBT64HGAWDzNbkqtKzoPoewcxA29NpJKk5H3FGBvcsQPfX9MALnrNPkd5T0f 4gnfl893pAYRydh+DRBpAxIQf6rx/XZaIZEoDWEu4pfJ4EK5/0HoteVcRxHDr X-Gm-Gg: ASbGnct8ty+PHX0HDf+fEgrm+hKm1p1jvW84nfczwtHSrF+H6dRsBHBmQsLH4cOepFM wqNmSgGRu/8Ye1RgS/3f608/T1yCShMc9iBBPXJXU0bH0R8bWz1zQGIvtVfoVmSSosos4YpJ5wT cHZTiVRNzeGkhzUASBy5f9Eds9z6fRS1g3WvlaaFIrtmTSJ33zpmd8yMzQov/sJPUoTKJ/JsdId RIUrsu8KDF+PMWsF5w9LPiqfBOZtUzx6NU9jsIAkC9SYXIe48mpMe3bjMDI8qA0SciFrnHw6GJc 8SsXLyEizy3nJmRRcGWgsqjjDZH6IdpLtUqQ X-Google-Smtp-Source: AGHT+IGVzrCDYKsl2bxGpeCCEibG719clOg1IRDCRUqV+ruYQgHmSR9msRq4814ydidNJL6MXdmwpZ+054J+ X-Received: by 2002:a05:6214:1302:b0:6f8:ac7b:c1ab with SMTP id 6a1803df08f44-6f8b08bfa84mr24737566d6.34.1747348527770; Thu, 15 May 2025 15:35:27 -0700 (PDT) Received: from postal.iol.unh.edu (postal.iol.unh.edu. [2606:4100:3880:1234::84]) by smtp-relay.gmail.com with ESMTPS id 6a1803df08f44-6f8b09b5ef5sm278126d6.67.2025.05.15.15.35.27 (version=TLS1_2 cipher=ECDHE-ECDSA-AES128-GCM-SHA256 bits=128/128); Thu, 15 May 2025 15:35:27 -0700 (PDT) X-Relaying-Domain: iol.unh.edu Date: Thu, 15 May 2025 15:35:27 -0700 (PDT) Message-ID: <68266c2f.0c0a0220.177142.17caSMTPIN_ADDED_MISSING@mx.google.com> Received: from [172.21.0.5] (unknown [172.18.0.240]) by postal.iol.unh.edu (Postfix) with ESMTP id 629FB6052471; Thu, 15 May 2025 18:35:27 -0400 (EDT) Subject: |SUCCESS| pw153458 [PATCH] [v2] net/ice: fix flow creation failure From: dpdklab@iol.unh.edu To: Test Report Cc: dpdk-test-reports@iol.unh.edu In-Reply-To: <20250515112348.7746-1-dhanya.r.pillai@intel.com> References: <20250515112348.7746-1-dhanya.r.pillai@intel.com> Content-Type: text/plain X-BeenThere: test-report@dpdk.org X-Mailman-Version: 2.1.29 Precedence: list List-Id: automatic DPDK test reports List-Unsubscribe: , List-Archive: List-Post: List-Help: List-Subscribe: , Errors-To: test-report-bounces@dpdk.org Test-Label: iol-unit-amd64-testing Test-Status: SUCCESS http://dpdk.org/patch/153458 _Testing PASS_ Submitter: Dhanya Pillai Date: Thursday, May 15 2025 11:23:44 DPDK git baseline: Repo:dpdk Branch: master CommitID:51e889518fc861f1af5acbbc133a75203225655c 153458 --> testing pass Upstream job id: Generic-VM-Unit-Test-DPDK#28546 Test environment and result as below: +---------------------+----------------+ | Environment | dpdk_unit_test | +=====================+================+ | CentOS Stream 9 | PASS | +---------------------+----------------+ | Fedora 40 | PASS | +---------------------+----------------+ | CentOS Stream 10 | PASS | +---------------------+----------------+ | Debian 12 | PASS | +---------------------+----------------+ | Fedora 40 (Clang) | PASS | +---------------------+----------------+ | Fedora 41 | PASS | +---------------------+----------------+ | Fedora 41 (Clang) | PASS | +---------------------+----------------+ | RHEL8 | PASS | +---------------------+----------------+ | Ubuntu 20.04 | PASS | +---------------------+----------------+ | RHEL9 | PASS | +---------------------+----------------+ | Ubuntu 24.04 | PASS | +---------------------+----------------+ | Ubuntu 22.04 | PASS | +---------------------+----------------+ | Windows Server 2022 | PASS | +---------------------+----------------+ CentOS Stream 9 Kernel: Depends on container host Compiler: gcc 11.5.0 20240719 (Red Hat 11.5.0-2) Fedora 40 Kernel: Depends on container host Compiler: gcc 14.2.1 20240912 (Red Hat 14.2.1-3) CentOS Stream 10 Kernel: Depends on container host Compiler: gcc 14.2.1 20241104 (Red Hat 14.2.1-6) Debian 12 Kernel: Depends on container host Compiler: gcc (Debian 12.2.0-14) 12.2.0 Fedora 40 (Clang) Kernel: Depends on container host Compiler: clang 18.1.8 (Fedora 18.1.8-1.fc40) Fedora 41 Kernel: Depends on container host Compiler: gcc 14.2.1 20240912 (Red Hat 14.2.1-3) Fedora 41 (Clang) Kernel: Depends on container host Compiler: clang 19.1.5 (Fedora 19.1.5-1.fc41) RHEL8 Kernel: Depends on container host Compiler: gcc 8.5.0 20210514 (Red Hat 8.5.0-22) Ubuntu 20.04 Kernel: Depends on container host Compiler: gcc (Ubuntu 9.4.0-1ubuntu1~20.04.2) 9.4.0 RHEL9 Kernel: Depends on container host Compiler: gcc 11.5.0 20240719 (Red Hat 11.5.0-2) Ubuntu 24.04 Kernel: Depends on container host Compiler: gcc (Ubuntu 13.3.0-6ubuntu2~24.04) 13.3.0 Ubuntu 22.04 Kernel: Depends on container host Compiler: gcc (Ubuntu 11.4.0-1ubuntu1~22.04) 11.4.0 Windows Server 2022 Kernel: 10.0.20348.2031 Compiler: clang 15.0.7, gcc 14.1.0 (MinGW), and MSVC VS 19.39.33521 To view detailed results, visit: https://lab.dpdk.org/results/dashboard/patchsets/33181/ UNH-IOL DPDK Community Lab To manage your email subscriptions, visit: https://lab.dpdk.org/results/dashboard/preferences/subscriptions/