From mboxrd@z Thu Jan 1 00:00:00 1970 Return-Path: Received: from mails.dpdk.org (mails.dpdk.org [217.70.189.124]) by inbox.dpdk.org (Postfix) with ESMTP id 4812D4675A for ; Fri, 16 May 2025 00:50:01 +0200 (CEST) Received: from mails.dpdk.org (localhost [127.0.0.1]) by mails.dpdk.org (Postfix) with ESMTP id 22CA740144; Fri, 16 May 2025 00:50:01 +0200 (CEST) Received: from mail-pl1-f227.google.com (mail-pl1-f227.google.com [209.85.214.227]) by mails.dpdk.org (Postfix) with ESMTP id AB123400EF for ; Fri, 16 May 2025 00:49:59 +0200 (CEST) Received: by mail-pl1-f227.google.com with SMTP id d9443c01a7336-22e7e5bce38so14328185ad.1 for ; Thu, 15 May 2025 15:49:59 -0700 (PDT) DKIM-Signature: v=1; a=rsa-sha256; c=relaxed/relaxed; d=iol.unh.edu; s=unh-iol; t=1747349398; x=1747954198; darn=dpdk.org; h=references:in-reply-to:cc:to:from:subject:message-id:date:from:to :cc:subject:date:message-id:reply-to; bh=WLdQmB/N05PfDhD+wbprYgX8i5Kiv4ZxPVpwISsYYzQ=; b=BAAP/D3P3ZjMFU/KVVwGmJ7dxooxK0+vQt0KA44d7MVrs5sXdS8GJf0Iu/9LuKSMFy WeSgkboGbcxQwJh/1SP5qsTendS/5kqxc2U2SD59CX86I/stXOU6DdGfHq/mUiRXxo/Z qBTaVoPkGZWsbiRKM6up7vpl7ASLE6oHSx0Ho= X-Google-DKIM-Signature: v=1; a=rsa-sha256; c=relaxed/relaxed; d=1e100.net; s=20230601; t=1747349398; x=1747954198; h=references:in-reply-to:cc:to:from:subject:message-id:date :x-gm-message-state:from:to:cc:subject:date:message-id:reply-to; bh=WLdQmB/N05PfDhD+wbprYgX8i5Kiv4ZxPVpwISsYYzQ=; b=GA2Bey1uONQ2rpR0PD9ntXqp25g78QkzJsgeIHyBILM2gT0zmVL6IQ11P+cvZ7wQnO q/R3WYqO3iY1flTqhqoMN5T2QRt9kJZ8COfrxhkeC5401ECfPtQM9W1SKuo2EJq37Yjy LUmDKEmMkQW704jOe0NkvuYjkzuodx7vPa+ixJaxDDy9CA6RAheoA2wkwWBx3fqz2Xhd lBM3zq9bZevwBJutmVK/emsK7SxCF/F0YRtvIlVMY0lXYw/z48iNYjpsGdGoWyhlMrDc JIdvFEpw3wBUacRLZlj5VBXrft0LewPqLfHFA46fOzSAGysHM7SoiaS2A/v5Ge5b4oJi SsHw== X-Gm-Message-State: AOJu0YyFC08MnCvUnQ9xtHE19mBQF6cyB832g27Qw92FX3qoFMSRRK88 KpL2YKmSsQkNAs0AH5JNvFs71Uy5tS4a0SLHbgt2cR4G9Ky+mj8nxojYuzBEu+Ov1mEx891jsma tmLGfH6APKkZ4dejt5PuSh7Sai+l1Rhfh4zxqxHcMB5/kXLSpuseqQ/foLoOA X-Gm-Gg: ASbGncs/o0v5b81ycwrZG1MQHao4qww4EEZeYCySQtJQpGrlV7tlzMYvGlNa5Zs3p6A qxP6MoflJMuHgmjv/OmDJNFZCB7GxL66DJJzO66aTUDOf7blF/MhTy3JR50TEvYKP6G35UxgXjC qVii+0AQRfTKju7KaANpum8YZNnA9nNcsNs4ZsJR0maQf1m2D7tIaDwjPjDbyumnaXL5Aqt0zfk MPXI08QIxm853wKA1gw5AKDIhNk9Mu4b/uecjnv/iaf6B4RbCnqu7mZzfbTbigcXr9BajUlBGu/ aWKei3y7yphrcCq98cwZGuE5Y+ivI3csT0al X-Google-Smtp-Source: AGHT+IG/dZmEO/0YtVJTUIHMFnMC87cpk+bNevmGCuexlznpiGacNwcz1oqszTQbORX3Zb1as0tPsUi2OiXU X-Received: by 2002:a17:903:3d10:b0:22e:50e1:31fd with SMTP id d9443c01a7336-231d362fe1bmr15100875ad.0.1747349398539; Thu, 15 May 2025 15:49:58 -0700 (PDT) Received: from postal.iol.unh.edu (postal.iol.unh.edu. [2606:4100:3880:1234::84]) by smtp-relay.gmail.com with ESMTPS id d9443c01a7336-231d4aa6edfsm337095ad.3.2025.05.15.15.49.58 (version=TLS1_2 cipher=ECDHE-ECDSA-AES128-GCM-SHA256 bits=128/128); Thu, 15 May 2025 15:49:58 -0700 (PDT) X-Relaying-Domain: iol.unh.edu Date: Thu, 15 May 2025 15:49:58 -0700 (PDT) Message-ID: <68266f96.170a0220.15a7be.1bc3SMTPIN_ADDED_MISSING@mx.google.com> Received: from [172.21.0.5] (unknown [172.18.0.240]) by postal.iol.unh.edu (Postfix) with ESMTP id B17246052471; Thu, 15 May 2025 18:49:57 -0400 (EDT) Subject: |SUCCESS| pw153458 [PATCH] [v2] net/ice: fix flow creation failure From: dpdklab@iol.unh.edu To: Test Report Cc: dpdk-test-reports@iol.unh.edu In-Reply-To: <20250515112348.7746-1-dhanya.r.pillai@intel.com> References: <20250515112348.7746-1-dhanya.r.pillai@intel.com> Content-Type: text/plain X-BeenThere: test-report@dpdk.org X-Mailman-Version: 2.1.29 Precedence: list List-Id: automatic DPDK test reports List-Unsubscribe: , List-Archive: List-Post: List-Help: List-Subscribe: , Errors-To: test-report-bounces@dpdk.org Test-Label: iol-abi-testing Test-Status: SUCCESS http://dpdk.org/patch/153458 _Testing PASS_ Submitter: Dhanya Pillai Date: Thursday, May 15 2025 11:23:44 DPDK git baseline: Repo:dpdk Branch: master CommitID:51e889518fc861f1af5acbbc133a75203225655c 153458 --> testing pass Upstream job id: Generic-DPDK-Compile-ABI#126524 Test environment and result as below: +-------------------+----------+ | Environment | abi_test | +===================+==========+ | CentOS Stream 9 | PASS | +-------------------+----------+ | CentOS Stream 10 | PASS | +-------------------+----------+ | Fedora 40 (Clang) | PASS | +-------------------+----------+ | Debian 12 | PASS | +-------------------+----------+ | Fedora 41 (Clang) | PASS | +-------------------+----------+ | Fedora 40 | PASS | +-------------------+----------+ | Fedora 41 | PASS | +-------------------+----------+ | openSUSE Leap 15 | PASS | +-------------------+----------+ | RHEL8 | PASS | +-------------------+----------+ | RHEL9 | PASS | +-------------------+----------+ | Ubuntu 22.04 | PASS | +-------------------+----------+ | Ubuntu 24.04 | PASS | +-------------------+----------+ CentOS Stream 9 Kernel: Depends on container host Compiler: gcc 11.5.0 20240719 (Red Hat 11.5.0-2) CentOS Stream 10 Kernel: Depends on container host Compiler: gcc 14.2.1 20241104 (Red Hat 14.2.1-6) Fedora 40 (Clang) Kernel: Depends on container host Compiler: clang 18.1.8 (Fedora 18.1.8-1.fc40) Debian 12 Kernel: Depends on container host Compiler: gcc (Debian 12.2.0-14) 12.2.0 Fedora 41 (Clang) Kernel: Depends on container host Compiler: clang 19.1.5 (Fedora 19.1.5-1.fc41) Fedora 40 Kernel: Depends on container host Compiler: gcc 14.2.1 20240912 (Red Hat 14.2.1-3) Fedora 41 Kernel: Depends on container host Compiler: gcc 14.2.1 20240912 (Red Hat 14.2.1-3) openSUSE Leap 15 Kernel: Depends on container host Compiler: gcc (SUSE Linux) 7.5.0 RHEL8 Kernel: Depends on container host Compiler: gcc 8.5.0 20210514 (Red Hat 8.5.0-22) RHEL9 Kernel: Depends on container host Compiler: gcc 11.5.0 20240719 (Red Hat 11.5.0-2) Ubuntu 22.04 Kernel: Depends on container host Compiler: gcc (Ubuntu 11.4.0-1ubuntu1~22.04) 11.4.0 Ubuntu 24.04 Kernel: Depends on container host Compiler: gcc (Ubuntu 13.3.0-6ubuntu2~24.04) 13.3.0 To view detailed results, visit: https://lab.dpdk.org/results/dashboard/patchsets/33181/ UNH-IOL DPDK Community Lab To manage your email subscriptions, visit: https://lab.dpdk.org/results/dashboard/preferences/subscriptions/