From mboxrd@z Thu Jan 1 00:00:00 1970 Return-Path: Received: from mails.dpdk.org (mails.dpdk.org [217.70.189.124]) by inbox.dpdk.org (Postfix) with ESMTP id 311024675A for ; Fri, 16 May 2025 00:59:12 +0200 (CEST) Received: from mails.dpdk.org (localhost [127.0.0.1]) by mails.dpdk.org (Postfix) with ESMTP id 0E2D740144; Fri, 16 May 2025 00:59:12 +0200 (CEST) Received: from mail-pl1-f227.google.com (mail-pl1-f227.google.com [209.85.214.227]) by mails.dpdk.org (Postfix) with ESMTP id 7D644400EF for ; Fri, 16 May 2025 00:59:10 +0200 (CEST) Received: by mail-pl1-f227.google.com with SMTP id d9443c01a7336-22fb6eda241so20645855ad.1 for ; Thu, 15 May 2025 15:59:10 -0700 (PDT) DKIM-Signature: v=1; a=rsa-sha256; c=relaxed/relaxed; d=iol.unh.edu; s=unh-iol; t=1747349949; x=1747954749; darn=dpdk.org; h=references:in-reply-to:cc:to:from:subject:message-id:date:from:to :cc:subject:date:message-id:reply-to; bh=A9MiCQHe6LnPSAkql1lfwxRrRDmO896sg1tzaXcX2lo=; b=c5FF70TxFVycPiG9dzwxkIw733xRRf+TH1s+IXvMLM8mGoYzmEhrd1fwj6TSv25Qqp pNg4Vai86KR3eDWC2G54iJIFA7GRc752Xw1JNA3jhcpcQOqZjl7eb92XF8D1PCFo3ifq bMnha7P53AmbKx50JnDda+Qj/vpZ5coU9qVDA= X-Google-DKIM-Signature: v=1; a=rsa-sha256; c=relaxed/relaxed; d=1e100.net; s=20230601; t=1747349949; x=1747954749; h=references:in-reply-to:cc:to:from:subject:message-id:date :x-gm-message-state:from:to:cc:subject:date:message-id:reply-to; bh=A9MiCQHe6LnPSAkql1lfwxRrRDmO896sg1tzaXcX2lo=; b=QQFLSPUOBsHKBuhIGEfpDUORP4JD6jbId8iQ5GzAmZsQOjSHlaLYGjNyawbfSHChof frEdF1O8nNtmhg8M8Ohmpt9qMDaa4b8R9RBshuDAzdVGEkXb7xDaQFm7m2eap0pyVzvv ZkycMKRwYl5So4sgc/WQDqtjkJ/+Ta93T82bOjE/8ILhXV19u7k9C6LCAC1OhfzSi+Q8 FKrXNFB0+e0owTlkC9BUi2W656pAZkgEQqkcWidQ7ymUmMlO2iDE3mF8w4tFMhc5Y9Q0 4hBqEmIV1+szwvyfSmlpWLIZD5nAeVA1BnliPM2E9lNXAvRcb9nCo+aygieRHFrUzrTh yHZw== X-Gm-Message-State: AOJu0Yzzcei2nw+3Big8OZDPf492Prh4nnIsXrlYr9VebQ49ZJkZt8bh 4KaGzaCYNLW/myKG8CAHWUoX3+Ba9wcluffGgMIvNJ6MF8sSuYrHCk538qEVm4cZTeWGmtIo1H+ yXdGRgZsemLycK3iEDtVyucLRAScGnItXuNXTEDmdyMkGlSdluc1PylIc7UCP X-Gm-Gg: ASbGncvjeDXOA3k7bWWj7tUEy3oRGLjAnFVVhA6+HWJ02zge/2r08mL4Ln8eyO4BR/O anhYdMnEIQa8+VCfXbk2zK5Q3CvtTJlopk4QBRB63BevVH3IsEtbMOC52LPr80f+c3/58HLSt7J brVqYYQh7UYzpouEznv1bhNrmOa4BT0wP8OHhl44cLwUKfuu09rqUIxoDZOCU0llD936uJpy7j6 ux/Y8c9s0zDFWFiY7J7mFDTkMBgkHhyUhdJxVjH+qY9gO141lRcRkZT6UQ0trG77B0qWd+ggbxC OJDnzqq5+48kj6u45YUQ1ss7xYfVyEVCEyZU X-Google-Smtp-Source: AGHT+IFIQ0qBVpK5w2AM/PV8FSgfHaPAkY1TB0/vNHB0Eb1Nr77CYraN4Wk08gcFKSBCf1LFkgJINF/li4JT X-Received: by 2002:a17:902:db05:b0:22e:53a2:554e with SMTP id d9443c01a7336-231d438b7cdmr16192695ad.10.1747349949534; Thu, 15 May 2025 15:59:09 -0700 (PDT) Received: from postal.iol.unh.edu (postal.iol.unh.edu. [2606:4100:3880:1234::84]) by smtp-relay.gmail.com with ESMTPS id d9443c01a7336-231d4ad4ca8sm339705ad.52.2025.05.15.15.59.09 (version=TLS1_2 cipher=ECDHE-ECDSA-AES128-GCM-SHA256 bits=128/128); Thu, 15 May 2025 15:59:09 -0700 (PDT) X-Relaying-Domain: iol.unh.edu Date: Thu, 15 May 2025 15:59:09 -0700 (PDT) Message-ID: <682671bd.170a0220.2cabd6.1c9bSMTPIN_ADDED_MISSING@mx.google.com> Received: from [172.21.0.5] (unknown [172.18.0.240]) by postal.iol.unh.edu (Postfix) with ESMTP id A42ED6052471; Thu, 15 May 2025 18:59:08 -0400 (EDT) Subject: |SUCCESS| pw153458 [PATCH] [v2] net/ice: fix flow creation failure From: dpdklab@iol.unh.edu To: Test Report Cc: dpdk-test-reports@iol.unh.edu In-Reply-To: <20250515112348.7746-1-dhanya.r.pillai@intel.com> References: <20250515112348.7746-1-dhanya.r.pillai@intel.com> Content-Type: text/plain X-BeenThere: test-report@dpdk.org X-Mailman-Version: 2.1.29 Precedence: list List-Id: automatic DPDK test reports List-Unsubscribe: , List-Archive: List-Post: List-Help: List-Subscribe: , Errors-To: test-report-bounces@dpdk.org Test-Label: iol-unit-amd64-testing Test-Status: SUCCESS http://dpdk.org/patch/153458 _Testing PASS_ Submitter: Dhanya Pillai Date: Thursday, May 15 2025 11:23:44 DPDK git baseline: Repo:dpdk Branch: master CommitID:51e889518fc861f1af5acbbc133a75203225655c 153458 --> testing pass Upstream job id: Generic-VM-Unit-Test-DPDK#28547 Test environment and result as below: +---------------------+----------------+ | Environment | dpdk_unit_test | +=====================+================+ | Fedora 40 | PASS | +---------------------+----------------+ | CentOS Stream 10 | PASS | +---------------------+----------------+ | Debian 12 | PASS | +---------------------+----------------+ | Fedora 40 (Clang) | PASS | +---------------------+----------------+ | Fedora 41 | PASS | +---------------------+----------------+ | Fedora 41 (Clang) | PASS | +---------------------+----------------+ | CentOS Stream 9 | PASS | +---------------------+----------------+ | RHEL9 | PASS | +---------------------+----------------+ | RHEL8 | PASS | +---------------------+----------------+ | Ubuntu 20.04 | PASS | +---------------------+----------------+ | Ubuntu 24.04 | PASS | +---------------------+----------------+ | Ubuntu 22.04 | PASS | +---------------------+----------------+ | Windows Server 2022 | PASS | +---------------------+----------------+ Fedora 40 Kernel: Depends on container host Compiler: gcc 14.2.1 20240912 (Red Hat 14.2.1-3) CentOS Stream 10 Kernel: Depends on container host Compiler: gcc 14.2.1 20241104 (Red Hat 14.2.1-6) Debian 12 Kernel: Depends on container host Compiler: gcc (Debian 12.2.0-14) 12.2.0 Fedora 40 (Clang) Kernel: Depends on container host Compiler: clang 18.1.8 (Fedora 18.1.8-1.fc40) Fedora 41 Kernel: Depends on container host Compiler: gcc 14.2.1 20240912 (Red Hat 14.2.1-3) Fedora 41 (Clang) Kernel: Depends on container host Compiler: clang 19.1.5 (Fedora 19.1.5-1.fc41) CentOS Stream 9 Kernel: Depends on container host Compiler: gcc 11.5.0 20240719 (Red Hat 11.5.0-2) RHEL9 Kernel: Depends on container host Compiler: gcc 11.5.0 20240719 (Red Hat 11.5.0-2) RHEL8 Kernel: Depends on container host Compiler: gcc 8.5.0 20210514 (Red Hat 8.5.0-22) Ubuntu 20.04 Kernel: Depends on container host Compiler: gcc (Ubuntu 9.4.0-1ubuntu1~20.04.2) 9.4.0 Ubuntu 24.04 Kernel: Depends on container host Compiler: gcc (Ubuntu 13.3.0-6ubuntu2~24.04) 13.3.0 Ubuntu 22.04 Kernel: Depends on container host Compiler: gcc (Ubuntu 11.4.0-1ubuntu1~22.04) 11.4.0 Windows Server 2022 Kernel: 10.0.20348.2031 Compiler: clang 15.0.7, gcc 14.1.0 (MinGW), and MSVC VS 19.39.33521 To view detailed results, visit: https://lab.dpdk.org/results/dashboard/patchsets/33181/ UNH-IOL DPDK Community Lab To manage your email subscriptions, visit: https://lab.dpdk.org/results/dashboard/preferences/subscriptions/