From mboxrd@z Thu Jan 1 00:00:00 1970 Return-Path: Received: from mails.dpdk.org (mails.dpdk.org [217.70.189.124]) by inbox.dpdk.org (Postfix) with ESMTP id BAEA34675A for ; Fri, 16 May 2025 01:04:26 +0200 (CEST) Received: from mails.dpdk.org (localhost [127.0.0.1]) by mails.dpdk.org (Postfix) with ESMTP id 8C55D40144; Fri, 16 May 2025 01:04:26 +0200 (CEST) Received: from mail-io1-f99.google.com (mail-io1-f99.google.com [209.85.166.99]) by mails.dpdk.org (Postfix) with ESMTP id 76B6E40144 for ; Fri, 16 May 2025 01:04:25 +0200 (CEST) Received: by mail-io1-f99.google.com with SMTP id ca18e2360f4ac-86135ad7b4cso67984439f.1 for ; Thu, 15 May 2025 16:04:25 -0700 (PDT) DKIM-Signature: v=1; a=rsa-sha256; c=relaxed/relaxed; d=iol.unh.edu; s=unh-iol; t=1747350265; x=1747955065; darn=dpdk.org; h=cc:to:from:subject:message-id:date:from:to:cc:subject:date :message-id:reply-to; bh=KczYJpgZ/mT316dyO1haO3ak9r9scIfeEmvnbc4oOLA=; b=A+6b5mFRGzuvg+xzeNURia6xT4C498Py2Pj3Hi+b70f2SI1dfIb7+JP2YKRPQ3g/bV YiEgk6HUQczOLCXRTjiFqJlxTMcJic3lWGkwJFqp797U8uOl/4juXTwK21LvxOWWtG/2 8KAu9tnCsIZ19Vpie0BHCL+lFjymRoTuqxIYQ= X-Google-DKIM-Signature: v=1; a=rsa-sha256; c=relaxed/relaxed; d=1e100.net; s=20230601; t=1747350265; x=1747955065; h=cc:to:from:subject:message-id:date:x-gm-message-state:from:to:cc :subject:date:message-id:reply-to; bh=KczYJpgZ/mT316dyO1haO3ak9r9scIfeEmvnbc4oOLA=; b=GFbkvvxH2OJYhVsNSi0QQicPHWPc5EysqpG4X7hPL//go1+4uUVG5yThcjShM6aFAz oCZNrCOce//aP6448gmX8/DQVZ6HsJN7PdyT7gwk8//iMTyQ7g7XUsAHzy1Uo7Jdn+Kd uOwHibo0lseNg0OJ5CAk3ZZpStKxLBpJ5jxvzN8qTbvkUG3LiadLicgXjAotiCOC7zQg RLYOG2vbBaE4VJgTApM/H6VT1zZiZtFOF40DPTeU8dL5seX+d67RVCiN/IjM0yZ2TaGe biCUjB/gxyANhcx06emVS9TRQ8rCMLWj32jB/F+zMttb0ccyLzu1ukCLhA3+jNtqsa5m DHxA== X-Gm-Message-State: AOJu0YzfMHERL1e6nvuW6Q/FZecKtZEcNm6ytugJ4JeCva0v6PRGGk0b a4K/0DXq7kwillQoe0fbj05S8dVD2Wj1aEckdXHzrTdYcaQkAq7LMonGowahkvgQqYdeAteHkHa gtb7I3maVM8yHK5IGusUXluXvIJ24DmDA2H/au25soq4ZGIosd5AS/ci6GJsW X-Gm-Gg: ASbGncuSpmEDAdT8jFDdJ4/GSxcd8j6P2PEfl+WkHeByK5YLhLqecpvAuPYW4v5ir1R gmnCsElZojkLKdBFPpOGyXEEFHPmU/Yi39hUHwPlrenzOGSigeJrUGSwcj8MoIO2Bv1GSLM4uyG XzGKzCjjS19YQLYrF2vItz78jEbM500M+0nDEokeMTblws0avr5m/cXkcsLtOKEwjnNc7xkq6Ew oUBtP0en3xtt1o6Umoom+4h7CQriUiRQPyN6Fxc6UWHYRAKNk2DtHE1mfG69uqUKw6sWjIZOJG6 74By47dRc6Zfaqf+/VuuuVLHoqr9tRQQb1WW X-Google-Smtp-Source: AGHT+IE7F6miDD7Od0CqDcx78U4dfbQUxp44mmdOSRZ5NLt7cUH8DUN7RD7qKLxPNBTrTT/ppapyXTUh0jzJ X-Received: by 2002:a05:6602:418d:b0:86a:93b:dd63 with SMTP id ca18e2360f4ac-86a2316d81fmr220007239f.1.1747350264649; Thu, 15 May 2025 16:04:24 -0700 (PDT) Received: from postal.iol.unh.edu (postal.iol.unh.edu. [2606:4100:3880:1234::84]) by smtp-relay.gmail.com with ESMTPS id 8926c6da1cb9f-4fbcc3dd5b9sm31619173.41.2025.05.15.16.04.24 (version=TLS1_2 cipher=ECDHE-ECDSA-AES128-GCM-SHA256 bits=128/128); Thu, 15 May 2025 16:04:24 -0700 (PDT) X-Relaying-Domain: iol.unh.edu Date: Thu, 15 May 2025 16:04:24 -0700 (PDT) Message-ID: <682672f8.020a0220.25e643.1badSMTPIN_ADDED_MISSING@mx.google.com> Received: from [172.21.0.5] (unknown [172.18.0.240]) by postal.iol.unh.edu (Postfix) with ESMTP id 1C2BE6052471; Thu, 15 May 2025 19:04:24 -0400 (EDT) Subject: |SUCCESS| [GIT MASTER] dcf9f9363aa9b4163d241caf8b26a84ca0c0006b From: dpdklab@iol.unh.edu To: Test Report Cc: dpdk-test-reports@iol.unh.edu, Akhil Goyal Content-Type: text/plain X-BeenThere: test-report@dpdk.org X-Mailman-Version: 2.1.29 Precedence: list List-Id: automatic DPDK test reports List-Unsubscribe: , List-Archive: List-Post: List-Help: List-Subscribe: , Errors-To: test-report-bounces@dpdk.org _Testing PASS_ Branch: dpdk-next-crypto dcf9f9363aa9b4163d241caf8b26a84ca0c0006b --> testing pass Upstream job id: Windows-Compile-DPDK-Native#28426 Test environment and result as below: +---------------------+--------------------+-------------------+-------------------------+ | Environment | dpdk_meson_compile | dpdk_msvc_compile | dpdk_llvm_clang_compile | +=====================+====================+===================+=========================+ | Ubuntu 20.04 | PASS | SKIPPED | SKIPPED | +---------------------+--------------------+-------------------+-------------------------+ | FreeBSD 14.2 | PASS | SKIPPED | SKIPPED | +---------------------+--------------------+-------------------+-------------------------+ | FreeBSD 13.5 | PASS | SKIPPED | SKIPPED | +---------------------+--------------------+-------------------+-------------------------+ | Windows Server 2022 | SKIPPED | PASS | PASS | +---------------------+--------------------+-------------------+-------------------------+ Ubuntu 20.04 Kernel: 4.19.325-0419325-generic Compiler: gcc (Ubuntu 9.4.0-1ubuntu1~20.04.2) 9.4.0 FreeBSD 14.2 Kernel: 14.2-RELEASE Compiler: clang 18.1.6 FreeBSD 13.5 Kernel: 13.5-RELEASE Compiler: clang 19.1.7 Windows Server 2022 Kernel: 10.0.20348.2031 Compiler: clang 15.0.7, gcc 14.1.0 (MinGW), and MSVC VS 19.39.33521 To view detailed results, visit: https://lab.dpdk.org/results/dashboard/tarballs/33546/ UNH-IOL DPDK Community Lab To manage your email subscriptions, visit: https://lab.dpdk.org/results/dashboard/preferences/subscriptions/